Workbook

Sheet Übersicht
B1: NAME: | C1: Max Mustermann | F1: Jahr: | G1: 2025
B2: Fahrzeug: | C2: ..
B3: Wohnort: | C3: 1120 Wien, Meidlinger Hauptstraße 45
B4: Betriebsstätte: | C4: 3001 Mauerbach, Hauptstraße 4
C8: privat | D8: beruflich | E8: gesamt
B9: Jänner | C9: =Jänner!G78 -> 0 | D9: =Jänner!H78 -> 0 | E9: =C9+D9 -> 0
B10: Februar | C10: =Februar!G78 -> 0 | D10: =+Februar!H78 -> 0 | E10: =C10+D10 -> 0
B11: März | C11: =März!G78 -> 0 | D11: =+März!H78 -> 0 | E11: =C11+D11 -> 0
B12: April | C12: =April!G78 -> 0 | D12: =+April!H78 -> 0 | E12: =C12+D12 -> 0
B13: Mai | C13: =Mai!G78 -> 0 | D13: =+Mai!H78 -> 0 | E13: =C13+D13 -> 0
B14: Juni | C14: =Juni!G78 -> 0 | D14: =+Juni!H78 -> 0 | E14: =C14+D14 -> 0
B15: Juli | C15: =Juli!G78 -> 0 | D15: =+Juli!H78 -> 0 | E15: =C15+D15 -> 0
B16: August | C16: =August!G78 -> 0 | D16: =+August!H78 -> 0 | E16: =C16+D16 -> 0
B17: September | C17: =Sept.!G78 -> 0 | D17: =+Sept.!H78 -> 0 | E17: =C17+D17 -> 0
B18: Oktober | C18: =Okt.!G78 -> 0 | D18: =+Okt.!H78 -> 0 | E18: =C18+D18 -> 0
B19: November | C19: =Nov.!G78 -> 0 | D19: =+Nov.!H78 -> 0 | E19: =C19+D19 -> 0
B20: Dezember | C20: =Dez.!G78 -> 0 | D20: =+Dez.!H78 -> 0 | E20: =C20+D20 -> 0
C22: =SUM(C9:C21) -> 0 | D22: =SUM(D9:D21) -> 0 | E22: =SUM(E9:E21) -> 0
B24: Kontrolle:
B25: Anfangsstand: | D25: =Jänner!C11 -> 0
B26: Endstand:
B28: gefahrene Kilometer | D28: =D26-D25 -> 0

Sheet Jänner
A1: NAME: | C1: =Übersicht!C1 -> Max Mustermann | O1: Zeitraum: | P1: =Übersicht!G1 -> 2025
A2: Fahrzeug: | C2: =Übersicht!C2 -> ..
A3: Wohnort: | C3: =Übersicht!C3 -> 1120 Wien, Meidlinger Hauptstraße 45 | O3: Monat: | P3: Jänner
A4: Betriebsstätte: | C4: =Übersicht!C4 -> 3001 Mauerbach, Hauptstraße 4
B6: FAHRTENBUCH- und REISEKOSTENABRECHNUNG
B8: Datum | C8: Kilometer | I8: Ausgangsort | J8: Zielort | K8: Zweck | L8: Reise | O8: Diäten | P8: Nächtigungs- | Q8: Diverse
C9: Anfang | D9: Ende | E9: Anzahl | F9: P/B | G9: Privat | H9: Beruf | K9: Kunde | L9: Beginn | M9: Ende | N9: Dauer | O9: Inland | P9: kosten | Q9: Spesen
E11: =D11-C11 -> 0 | F11: P | G11: =IF(F11= "P",E11,"--") -> 0 | H11: =IF(F11="B",E11,"--") -> -- | I11: =$C$3 -> 1120 Wien, Meidlinger Hauptstraße 45 | J11: =$C$4 -> 3001 Mauerbach, Hauptstraße 4 | K11: Whg-Betriebsstätte-Whg | L11: 9 | M11: 14 | N11: =+IF((M11-L11)>12,12,(ROUNDUP((M11-L11),0))) -> 5 | O11: =IF(AND(F11="B",N11>3),N11*2.5,0) -> 0
E12: =D12-C12 -> 0 | F12: P | G12: =IF(F12= "P",E12,"--") -> 0 | H12: =IF(F12="B",E12,"--") -> -- | I12: =$C$3 -> 1120 Wien, Meidlinger Hauptstraße 45 | J12: =$C$4 -> 3001 Mauerbach, Hauptstraße 4 | K12: Whg-Arbeitsort-Whg | N12: =+IF((M12-L12)>12,12,(ROUNDUP((M12-L12),0))) -> 0 | O12: =IF(AND(F12="B",N12>3),N12*2.5,0) -> 0
E13: =D13-C13 -> 0 | F13: P | G13: =IF(F13= "P",E13,"--") -> 0 | H13: =IF(F13="B",E13,"--") -> -- | I13: =$C$3 -> 1120 Wien, Meidlinger Hauptstraße 45 | J13: =$C$4 -> 3001 Mauerbach, Hauptstraße 4 | K13: Whg-Arbeitsort-Whg | N13: =+IF((M13-L13)>12,12,(ROUNDUP((M13-L13),0))) -> 0 | O13: =IF(AND(F13="B",N13>3),N13*2.5,0) -> 0
E14: =D14-C14 -> 0 | F14: P | G14: =IF(F14= "P",E14,"--") -> 0 | H14: =IF(F14="B",E14,"--") -> -- | I14: =$C$3 -> 1120 Wien, Meidlinger Hauptstraße 45 | J14: =$C$4 -> 3001 Mauerbach, Hauptstraße 4 | K14: Whg-Arbeitsort-Whg | N14: =+IF((M14-L14)>12,12,(ROUNDUP((M14-L14),0))) -> 0 | O14: =IF(AND(F14="B",N14>3),N14*2.5,0) -> 0
E15: =D15-C15 -> 0 | F15: P | G15: =IF(F15= "P",E15,"--") -> 0 | H15: =IF(F15="B",E15,"--") -> -- | I15: =$C$3 -> 1120 Wien, Meidlinger Hauptstraße 45 | J15: =$C$4 -> 3001 Mauerbach, Hauptstraße 4 | K15: Whg-Arbeitsort-Whg | N15: =+IF((M15-L15)>12,12,(ROUNDUP((M15-L15),0))) -> 0 | O15: =IF(AND(F15="B",N15>3),N15*2.5,0) -> 0
E16: =D16-C16 -> 0 | F16: P | G16: =IF(F16= "P",E16,"--") -> 0 | H16: =IF(F16="B",E16,"--") -> -- | I16: =$C$3 -> 1120 Wien, Meidlinger Hauptstraße 45 | J16: =$C$4 -> 3001 Mauerbach, Hauptstraße 4 | K16: Whg-Arbeitsort-Whg | N16: =+IF((M16-L16)>12,12,(ROUNDUP((M16-L16),0))) -> 0 | O16: =IF(AND(F16="B",N16>3),N16*2.5,0) -> 0
E17: =D17-C17 -> 0 | F17: P | G17: =IF(F17= "P",E17,"--") -> 0 | H17: =IF(F17="B",E17,"--") -> -- | I17: =$C$3 -> 1120 Wien, Meidlinger Hauptstraße 45 | J17: =$C$4 -> 3001 Mauerbach, Hauptstraße 4 | K17: Whg-Arbeitsort-Whg | N17: =+IF((M17-L17)>12,12,(ROUNDUP((M17-L17),0))) -> 0 | O17: =IF(AND(F17="B",N17>3),N17*2.5,0) -> 0
E18: =D18-C18 -> 0 | F18: P | G18: =IF(F18= "P",E18,"--") -> 0 | H18: =IF(F18="B",E18,"--") -> -- | I18: =$C$3 -> 1120 Wien, Meidlinger Hauptstraße 45 | J18: =$C$4 -> 3001 Mauerbach, Hauptstraße 4 | K18: Whg-Arbeitsort-Whg | N18: =+IF((M18-L18)>12,12,(ROUNDUP((M18-L18),0))) -> 0 | O18: =IF(AND(F18="B",N18>3),N18*2.5,0) -> 0
E19: =D19-C19 -> 0 | F19: P | G19: =IF(F19= "P",E19,"--") -> 0 | H19: =IF(F19="B",E19,"--") -> -- | I19: =$C$3 -> 1120 Wien, Meidlinger Hauptstraße 45 | J19: =$C$4 -> 3001 Mauerbach, Hauptstraße 4 | K19: Whg-Arbeitsort-Whg | N19: =+IF((M19-L19)>12,12,(ROUNDUP((M19-L19),0))) -> 0 | O19: =IF(AND(F19="B",N19>3),N19*2.5,0) -> 0
E20: =D20-C20 -> 0 | F20: P | G20: =IF(F20= "P",E20,"--") -> 0 | H20: =IF(F20="B",E20,"--") -> -- | I20: =$C$3 -> 1120 Wien, Meidlinger Hauptstraße 45 | J20: =$C$4 -> 3001 Mauerbach, Hauptstraße 4 | K20: Whg-Arbeitsort-Whg | N20: =+IF((M20-L20)>12,12,(ROUNDUP((M20-L20),0))) -> 0 | O20: =IF(AND(F20="B",N20>3),N20*2.5,0) -> 0
E21: =D21-C21 -> 0 | F21: P | G21: =IF(F21= "P",E21,"--") -> 0 | H21: =IF(F21="B",E21,"--") -> -- | I21: =$C$3 -> 1120 Wien, Meidlinger Hauptstraße 45 | J21: =$C$4 -> 3001 Mauerbach, Hauptstraße 4 | K21: Whg-Arbeitsort-Whg | N21: =+IF((M21-L21)>12,12,(ROUNDUP((M21-L21),0))) -> 0 | O21: =IF(AND(F21="B",N21>3),N21*2.5,0) -> 0
E22: =D22-C22 -> 0 | F22: P | G22: =IF(F22= "P",E22,"--") -> 0 | H22: =IF(F22="B",E22,"--") -> -- | I22: =$C$3 -> 1120 Wien, Meidlinger Hauptstraße 45 | J22: =$C$4 -> 3001 Mauerbach, Hauptstraße 4 | K22: Whg-Arbeitsort-Whg | N22: =+IF((M22-L22)>12,12,(ROUNDUP((M22-L22),0))) -> 0 | O22: =IF(AND(F22="B",N22>3),N22*2.5,0) -> 0
E23: =D23-C23 -> 0 | F23: P | G23: =IF(F23= "P",E23,"--") -> 0 | H23: =IF(F23="B",E23,"--") -> -- | I23: =$C$3 -> 1120 Wien, Meidlinger Hauptstraße 45 | J23: =$C$4 -> 3001 Mauerbach, Hauptstraße 4 | K23: Whg-Arbeitsort-Whg | N23: =+IF((M23-L23)>12,12,(ROUNDUP((M23-L23),0))) -> 0 | O23: =IF(AND(F23="B",N23>3),N23*2.5,0) -> 0
... E76: =D76-C76 -> 0 | F76: P | G76: =IF(F76= "P",E76,"--") -> 0 | H76: =IF(F76="B",E76,"--") -> -- | I76: =$C$3 -> 1120 Wien, Meidlinger Hauptstraße 45 | J76: =$C$4 -> 3001 Mauerbach, Hauptstraße 4 | K76: Whg-Arbeitsort-Whg | N76: =+IF((M76-L76)>12,12,(ROUNDUP((M76-L76),0))) -> 0 | O76: =IF(AND(F76="B",N76>3),N76*2.5,0) -> 0
D78: gesamt | E78: =SUM(E11:E77) -> 0 | G78: =SUM(G11:G77) -> 0 | H78: =SUM(H11:H77) -> 0 | O78: =SUM(O10:O77) -> 0 | P78: =SUM(P10:P77) -> 0 | Q78: =SUM(Q10:Q77) -> 0
B79: Version: 1.1.

Sheet Februar
A1: NAME: | C1: =Übersicht!C1 -> Max Mustermann | O1: Zeitraum: | P1: =Übersicht!G1 -> 2025
A2: Fahrzeug: | C2: =Übersicht!C2 -> ..
A3: Wohnort: | C3: =Übersicht!C3 -> 1120 Wien, Meidlinger Hauptstraße 45 | O3: Monat: | P3: Februar
A4: Betriebsstätte: | C4: =Übersicht!C4 -> 3001 Mauerbach, Hauptstraße 4
B6: FAHRTENBUCH- und REISEKOSTENABRECHNUNG
B8: Datum | C8: Kilometer | I8: Ausgangsort | J8: Zielort | K8: Zweck | L8: Reise | O8: Diäten | P8: Nächtigungs- | Q8: Diverse
C9: Anfang | D9: Ende | E9: Anzahl | F9: P/B | G9: Privat | H9: Beruf | K9: Kunde | L9: Beginn | M9: Ende | N9: Dauer | O9: Inland | P9: kosten | Q9: Spesen
E11: =D11-C11 -> 0 | F11: P | G11: =IF(F11= "P",E11,"--") -> 0 | H11: =IF(F11="B",E11,"--") -> -- | I11: =$C$3 -> 1120 Wien, Meidlinger Hauptstraße 45 | J11: =$C$4 -> 3001 Mauerbach, Hauptstraße 4 | K11: Whg-Arbeitsort-Whg | N11: =+IF((M11-L11)>12,12,(ROUNDUP((M11-L11),0))) -> 0 | O11: =IF(AND(F11="B",N11>3),N11*2.5,0) -> 0
E12: =D12-C12 -> 0 | F12: P | G12: =IF(F12= "P",E12,"--") -> 0 | H12: =IF(F12="B",E12,"--") -> -- | I12: =$C$3 -> 1120 Wien, Meidlinger Hauptstraße 45 | J12: =$C$4 -> 3001 Mauerbach, Hauptstraße 4 | K12: Whg-Arbeitsort-Whg | N12: =+IF((M12-L12)>12,12,(ROUNDUP((M12-L12),0))) -> 0 | O12: =IF(AND(F12="B",N12>3),N12*2.5,0) -> 0
E13: =D13-C13 -> 0 | F13: P | G13: =IF(F13= "P",E13,"--") -> 0 | H13: =IF(F13="B",E13,"--") -> -- | I13: =$C$3 -> 1120 Wien, Meidlinger Hauptstraße 45 | J13: =$C$4 -> 3001 Mauerbach, Hauptstraße 4 | K13: Whg-Arbeitsort-Whg | N13: =+IF((M13-L13)>12,12,(ROUNDUP((M13-L13),0))) -> 0 | O13: =IF(AND(F13="B",N13>3),N13*2.5,0) -> 0
E14: =D14-C14 -> 0 | F14: P | G14: =IF(F14= "P",E14,"--") -> 0 | H14: =IF(F14="B",E14,"--") -> -- | I14: =$C$3 -> 1120 Wien, Meidlinger Hauptstraße 45 | J14: =$C$4 -> 3001 Mauerbach, Hauptstraße 4 | K14: Whg-Arbeitsort-Whg | N14: =+IF((M14-L14)>12,12,(ROUNDUP((M14-L14),0))) -> 0 | O14: =IF(AND(F14="B",N14>3),N14*2.5,0) -> 0
E15: =D15-C15 -> 0 | F15: P | G15: =IF(F15= "P",E15,"--") -> 0 | H15: =IF(F15="B",E15,"--") -> -- | I15: =$C$3 -> 1120 Wien, Meidlinger Hauptstraße 45 | J15: =$C$4 -> 3001 Mauerbach, Hauptstraße 4 | K15: Whg-Arbeitsort-Whg | N15: =+IF((M15-L15)>12,12,(ROUNDUP((M15-L15),0))) -> 0 | O15: =IF(AND(F15="B",N15>3),N15*2.5,0) -> 0
E16: =D16-C16 -> 0 | F16: P | G16: =IF(F16= "P",E16,"--") -> 0 | H16: =IF(F16="B",E16,"--") -> -- | I16: =$C$3 -> 1120 Wien, Meidlinger Hauptstraße 45 | J16: =$C$4 -> 3001 Mauerbach, Hauptstraße 4 | K16: Whg-Arbeitsort-Whg | N16: =+IF((M16-L16)>12,12,(ROUNDUP((M16-L16),0))) -> 0 | O16: =IF(AND(F16="B",N16>3),N16*2.5,0) -> 0
E17: =D17-C17 -> 0 | F17: P | G17: =IF(F17= "P",E17,"--") -> 0 | H17: =IF(F17="B",E17,"--") -> -- | I17: =$C$3 -> 1120 Wien, Meidlinger Hauptstraße 45 | J17: =$C$4 -> 3001 Mauerbach, Hauptstraße 4 | K17: Whg-Arbeitsort-Whg | N17: =+IF((M17-L17)>12,12,(ROUNDUP((M17-L17),0))) -> 0 | O17: =IF(AND(F17="B",N17>3),N17*2.5,0) -> 0
E18: =D18-C18 -> 0 | F18: P | G18: =IF(F18= "P",E18,"--") -> 0 | H18: =IF(F18="B",E18,"--") -> -- | I18: =$C$3 -> 1120 Wien, Meidlinger Hauptstraße 45 | J18: =$C$4 -> 3001 Mauerbach, Hauptstraße 4 | K18: Whg-Arbeitsort-Whg | N18: =+IF((M18-L18)>12,12,(ROUNDUP((M18-L18),0))) -> 0 | O18: =IF(AND(F18="B",N18>3),N18*2.5,0) -> 0
E19: =D19-C19 -> 0 | F19: P | G19: =IF(F19= "P",E19,"--") -> 0 | H19: =IF(F19="B",E19,"--") -> -- | I19: =$C$3 -> 1120 Wien, Meidlinger Hauptstraße 45 | J19: =$C$4 -> 3001 Mauerbach, Hauptstraße 4 | K19: Whg-Arbeitsort-Whg | N19: =+IF((M19-L19)>12,12,(ROUNDUP((M19-L19),0))) -> 0 | O19: =IF(AND(F19="B",N19>3),N19*2.5,0) -> 0
E20: =D20-C20 -> 0 | F20: P | G20: =IF(F20= "P",E20,"--") -> 0 | H20: =IF(F20="B",E20,"--") -> -- | I20: =$C$3 -> 1120 Wien, Meidlinger Hauptstraße 45 | J20: =$C$4 -> 3001 Mauerbach, Hauptstraße 4 | K20: Whg-Arbeitsort-Whg | N20: =+IF((M20-L20)>12,12,(ROUNDUP((M20-L20),0))) -> 0 | O20: =IF(AND(F20="B",N20>3),N20*2.5,0) -> 0
E21: =D21-C21 -> 0 | F21: P | G21: =IF(F21= "P",E21,"--") -> 0 | H21: =IF(F21="B",E21,"--") -> -- | I21: =$C$3 -> 1120 Wien, Meidlinger Hauptstraße 45 | J21: =$C$4 -> 3001 Mauerbach, Hauptstraße 4 | K21: Whg-Arbeitsort-Whg | N21: =+IF((M21-L21)>12,12,(ROUNDUP((M21-L21),0))) -> 0 | O21: =IF(AND(F21="B",N21>3),N21*2.5,0) -> 0
E22: =D22-C22 -> 0 | F22: P | G22: =IF(F22= "P",E22,"--") -> 0 | H22: =IF(F22="B",E22,"--") -> -- | I22: =$C$3 -> 1120 Wien, Meidlinger Hauptstraße 45 | J22: =$C$4 -> 3001 Mauerbach, Hauptstraße 4 | K22: Whg-Arbeitsort-Whg | N22: =+IF((M22-L22)>12,12,(ROUNDUP((M22-L22),0))) -> 0 | O22: =IF(AND(F22="B",N22>3),N22*2.5,0) -> 0
... E76: =D76-C76 -> 0 | F76: P | G76: =IF(F76= "P",E76,"--") -> 0 | H76: =IF(F76="B",E76,"--") -> -- | I76: =$C$3 -> 1120 Wien, Meidlinger Hauptstraße 45 | J76: =$C$4 -> 3001 Mauerbach, Hauptstraße 4 | K76: Whg-Arbeitsort-Whg | N76: =+IF((M76-L76)>12,12,(ROUNDUP((M76-L76),0))) -> 0 | O76: =IF(AND(F76="B",N76>3),N76*2.5,0) -> 0
D78: gesamt | E78: =SUM(E11:E77) -> 0 | G78: =SUM(G11:G77) -> 0 | H78: =SUM(H11:H77) -> 0 | O78: =SUM(O10:O77) -> 0 | P78: =SUM(P10:P77) -> 0 | Q78: =SUM(Q10:Q77) -> 0
B79: Version: 1.1.

Sheet März
A1: NAME: | C1: =Übersicht!C1 -> Max Mustermann | O1: Zeitraum: | P1: =Übersicht!G1 -> 2025
A2: Fahrzeug: | C2: =Übersicht!C2 -> ..
A3: Wohnort: | C3: =Übersicht!C3 -> 1120 Wien, Meidlinger Hauptstraße 45 | O3: Monat: | P3: März
A4: Betriebsstätte: | C4: =Übersicht!C4 -> 3001 Mauerbach, Hauptstraße 4
B6: FAHRTENBUCH- und REISEKOSTENABRECHNUNG
B8: Datum | C8: Kilometer | I8: Ausgangsort | J8: Zielort | K8: Zweck | L8: Reise | O8: Diäten | P8: Nächtigungs- | Q8: Diverse
C9: Anfang | D9: Ende | E9: Anzahl | F9: P/B | G9: Privat | H9: Beruf | K9: Kunde | L9: Beginn | M9: Ende | N9: Dauer | O9: Inland | P9: kosten | Q9: Spesen
E11: =D11-C11 -> 0 | F11: P | G11: =IF(F11= "P",E11,"--") -> 0 | H11: =IF(F11="B",E11,"--") -> -- | I11: =$C$3 -> 1120 Wien, Meidlinger Hauptstraße 45 | J11: =$C$4 -> 3001 Mauerbach, Hauptstraße 4 | K11: Whg-Arbeitsort-Whg | N11: =+IF((M11-L11)>12,12,(ROUNDUP((M11-L11),0))) -> 0 | O11: =IF(AND(F11="B",N11>3),N11*2.5,0) -> 0
E12: =D12-C12 -> 0 | F12: P | G12: =IF(F12= "P",E12,"--") -> 0 | H12: =IF(F12="B",E12,"--") -> -- | I12: =$C$3 -> 1120 Wien, Meidlinger Hauptstraße 45 | J12: =$C$4 -> 3001 Mauerbach, Hauptstraße 4 | K12: Whg-Arbeitsort-Whg | N12: =+IF((M12-L12)>12,12,(ROUNDUP((M12-L12),0))) -> 0 | O12: =IF(AND(F12="B",N12>3),N12*2.5,0) -> 0
E13: =D13-C13 -> 0 | F13: P | G13: =IF(F13= "P",E13,"--") -> 0 | H13: =IF(F13="B",E13,"--") -> -- | I13: =$C$3 -> 1120 Wien, Meidlinger Hauptstraße 45 | J13: =$C$4 -> 3001 Mauerbach, Hauptstraße 4 | K13: Whg-Arbeitsort-Whg | N13: =+IF((M13-L13)>12,12,(ROUNDUP((M13-L13),0))) -> 0 | O13: =IF(AND(F13="B",N13>3),N13*2.5,0) -> 0
E14: =D14-C14 -> 0 | F14: P | G14: =IF(F14= "P",E14,"--") -> 0 | H14: =IF(F14="B",E14,"--") -> -- | I14: =$C$3 -> 1120 Wien, Meidlinger Hauptstraße 45 | J14: =$C$4 -> 3001 Mauerbach, Hauptstraße 4 | K14: Whg-Arbeitsort-Whg | N14: =+IF((M14-L14)>12,12,(ROUNDUP((M14-L14),0))) -> 0 | O14: =IF(AND(F14="B",N14>3),N14*2.5,0) -> 0
E15: =D15-C15 -> 0 | F15: P | G15: =IF(F15= "P",E15,"--") -> 0 | H15: =IF(F15="B",E15,"--") -> -- | I15: =$C$3 -> 1120 Wien, Meidlinger Hauptstraße 45 | J15: =$C$4 -> 3001 Mauerbach, Hauptstraße 4 | K15: Whg-Arbeitsort-Whg | N15: =+IF((M15-L15)>12,12,(ROUNDUP((M15-L15),0))) -> 0 | O15: =IF(AND(F15="B",N15>3),N15*2.5,0) -> 0
E16: =D16-C16 -> 0 | F16: P | G16: =IF(F16= "P",E16,"--") -> 0 | H16: =IF(F16="B",E16,"--") -> -- | I16: =$C$3 -> 1120 Wien, Meidlinger Hauptstraße 45 | J16: =$C$4 -> 3001 Mauerbach, Hauptstraße 4 | K16: Whg-Arbeitsort-Whg | N16: =+IF((M16-L16)>12,12,(ROUNDUP((M16-L16),0))) -> 0 | O16: =IF(AND(F16="B",N16>3),N16*2.5,0) -> 0
E17: =D17-C17 -> 0 | F17: P | G17: =IF(F17= "P",E17,"--") -> 0 | H17: =IF(F17="B",E17,"--") -> -- | I17: =$C$3 -> 1120 Wien, Meidlinger Hauptstraße 45 | J17: =$C$4 -> 3001 Mauerbach, Hauptstraße 4 | K17: Whg-Arbeitsort-Whg | N17: =+IF((M17-L17)>12,12,(ROUNDUP((M17-L17),0))) -> 0 | O17: =IF(AND(F17="B",N17>3),N17*2.5,0) -> 0
E18: =D18-C18 -> 0 | F18: P | G18: =IF(F18= "P",E18,"--") -> 0 | H18: =IF(F18="B",E18,"--") -> -- | I18: =$C$3 -> 1120 Wien, Meidlinger Hauptstraße 45 | J18: =$C$4 -> 3001 Mauerbach, Hauptstraße 4 | K18: Whg-Arbeitsort-Whg | N18: =+IF((M18-L18)>12,12,(ROUNDUP((M18-L18),0))) -> 0 | O18: =IF(AND(F18="B",N18>3),N18*2.5,0) -> 0
E19: =D19-C19 -> 0 | F19: P | G19: =IF(F19= "P",E19,"--") -> 0 | H19: =IF(F19="B",E19,"--") -> -- | I19: =$C$3 -> 1120 Wien, Meidlinger Hauptstraße 45 | J19: =$C$4 -> 3001 Mauerbach, Hauptstraße 4 | K19: Whg-Arbeitsort-Whg | N19: =+IF((M19-L19)>12,12,(ROUNDUP((M19-L19),0))) -> 0 | O19: =IF(AND(F19="B",N19>3),N19*2.5,0) -> 0
E20: =D20-C20 -> 0 | F20: P | G20: =IF(F20= "P",E20,"--") -> 0 | H20: =IF(F20="B",E20,"--") -> -- | I20: =$C$3 -> 1120 Wien, Meidlinger Hauptstraße 45 | J20: =$C$4 -> 3001 Mauerbach, Hauptstraße 4 | K20: Whg-Arbeitsort-Whg | N20: =+IF((M20-L20)>12,12,(ROUNDUP((M20-L20),0))) -> 0 | O20: =IF(AND(F20="B",N20>3),N20*2.5,0) -> 0
E21: =D21-C21 -> 0 | F21: P | G21: =IF(F21= "P",E21,"--") -> 0 | H21: =IF(F21="B",E21,"--") -> -- | I21: =$C$3 -> 1120 Wien, Meidlinger Hauptstraße 45 | J21: =$C$4 -> 3001 Mauerbach, Hauptstraße 4 | K21: Whg-Arbeitsort-Whg | N21: =+IF((M21-L21)>12,12,(ROUNDUP((M21-L21),0))) -> 0 | O21: =IF(AND(F21="B",N21>3),N21*2.5,0) -> 0
E22: =D22-C22 -> 0 | F22: P | G22: =IF(F22= "P",E22,"--") -> 0 | H22: =IF(F22="B",E22,"--") -> -- | I22: =$C$3 -> 1120 Wien, Meidlinger Hauptstraße 45 | J22: =$C$4 -> 3001 Mauerbach, Hauptstraße 4 | K22: Whg-Arbeitsort-Whg | N22: =+IF((M22-L22)>12,12,(ROUNDUP((M22-L22),0))) -> 0 | O22: =IF(AND(F22="B",N22>3),N22*2.5,0) -> 0
... E76: =D76-C76 -> 0 | F76: P | G76: =IF(F76= "P",E76,"--") -> 0 | H76: =IF(F76="B",E76,"--") -> -- | I76: =$C$3 -> 1120 Wien, Meidlinger Hauptstraße 45 | J76: =$C$4 -> 3001 Mauerbach, Hauptstraße 4 | K76: Whg-Arbeitsort-Whg | N76: =+IF((M76-L76)>12,12,(ROUNDUP((M76-L76),0))) -> 0 | O76: =IF(AND(F76="B",N76>3),N76*2.5,0) -> 0
D78: gesamt | E78: =SUM(E11:E77) -> 0 | G78: =SUM(G11:G77) -> 0 | H78: =SUM(H11:H77) -> 0 | O78: =SUM(O10:O77) -> 0 | P78: =SUM(P10:P77) -> 0 | Q78: =SUM(Q10:Q77) -> 0
B79: Version: 1.1.

Sheet April
A1: NAME: | C1: =Übersicht!C1 -> Max Mustermann | O1: Zeitraum: | P1: =Übersicht!G1 -> 2025
A2: Fahrzeug: | C2: =Übersicht!C2 -> ..
A3: Wohnort: | C3: =Übersicht!C3 -> 1120 Wien, Meidlinger Hauptstraße 45 | O3: Monat: | P3: April
A4: Betriebsstätte: | C4: =Übersicht!C4 -> 3001 Mauerbach, Hauptstraße 4
B6: FAHRTENBUCH- und REISEKOSTENABRECHNUNG
B8: Datum | C8: Kilometer | I8: Ausgangsort | J8: Zielort | K8: Zweck | L8: Reise | O8: Diäten | P8: Nächtigungs- | Q8: Diverse
C9: Anfang | D9: Ende | E9: Anzahl | F9: P/B | G9: Privat | H9: Beruf | K9: Kunde | L9: Beginn | M9: Ende | N9: Dauer | O9: Inland | P9: kosten | Q9: Spesen
E11: =D11-C11 -> 0 | F11: P | G11: =IF(F11= "P",E11,"--") -> 0 | H11: =IF(F11="B",E11,"--") -> -- | I11: =$C$3 -> 1120 Wien, Meidlinger Hauptstraße 45 | J11: =$C$4 -> 3001 Mauerbach, Hauptstraße 4 | K11: Whg-Arbeitsort-Whg | N11: =+IF((M11-L11)>12,12,(ROUNDUP((M11-L11),0))) -> 0 | O11: =IF(AND(F11="B",N11>3),N11*2.5,0) -> 0
E12: =D12-C12 -> 0 | F12: P | G12: =IF(F12= "P",E12,"--") -> 0 | H12: =IF(F12="B",E12,"--") -> -- | I12: =$C$3 -> 1120 Wien, Meidlinger Hauptstraße 45 | J12: =$C$4 -> 3001 Mauerbach, Hauptstraße 4 | K12: Whg-Arbeitsort-Whg | N12: =+IF((M12-L12)>12,12,(ROUNDUP((M12-L12),0))) -> 0 | O12: =IF(AND(F12="B",N12>3),N12*2.5,0) -> 0
E13: =D13-C13 -> 0 | F13: P | G13: =IF(F13= "P",E13,"--") -> 0 | H13: =IF(F13="B",E13,"--") -> -- | I13: =$C$3 -> 1120 Wien, Meidlinger Hauptstraße 45 | J13: =$C$4 -> 3001 Mauerbach, Hauptstraße 4 | K13: Whg-Arbeitsort-Whg | N13: =+IF((M13-L13)>12,12,(ROUNDUP((M13-L13),0))) -> 0 | O13: =IF(AND(F13="B",N13>3),N13*2.5,0) -> 0
E14: =D14-C14 -> 0 | F14: P | G14: =IF(F14= "P",E14,"--") -> 0 | H14: =IF(F14="B",E14,"--") -> -- | I14: =$C$3 -> 1120 Wien, Meidlinger Hauptstraße 45 | J14: =$C$4 -> 3001 Mauerbach, Hauptstraße 4 | K14: Whg-Arbeitsort-Whg | N14: =+IF((M14-L14)>12,12,(ROUNDUP((M14-L14),0))) -> 0 | O14: =IF(AND(F14="B",N14>3),N14*2.5,0) -> 0
E15: =D15-C15 -> 0 | F15: P | G15: =IF(F15= "P",E15,"--") -> 0 | H15: =IF(F15="B",E15,"--") -> -- | I15: =$C$3 -> 1120 Wien, Meidlinger Hauptstraße 45 | J15: =$C$4 -> 3001 Mauerbach, Hauptstraße 4 | K15: Whg-Arbeitsort-Whg | N15: =+IF((M15-L15)>12,12,(ROUNDUP((M15-L15),0))) -> 0 | O15: =IF(AND(F15="B",N15>3),N15*2.5,0) -> 0
E16: =D16-C16 -> 0 | F16: P | G16: =IF(F16= "P",E16,"--") -> 0 | H16: =IF(F16="B",E16,"--") -> -- | I16: =$C$3 -> 1120 Wien, Meidlinger Hauptstraße 45 | J16: =$C$4 -> 3001 Mauerbach, Hauptstraße 4 | K16: Whg-Arbeitsort-Whg | N16: =+IF((M16-L16)>12,12,(ROUNDUP((M16-L16),0))) -> 0 | O16: =IF(AND(F16="B",N16>3),N16*2.5,0) -> 0
E17: =D17-C17 -> 0 | F17: P | G17: =IF(F17= "P",E17,"--") -> 0 | H17: =IF(F17="B",E17,"--") -> -- | I17: =$C$3 -> 1120 Wien, Meidlinger Hauptstraße 45 | J17: =$C$4 -> 3001 Mauerbach, Hauptstraße 4 | K17: Whg-Arbeitsort-Whg | N17: =+IF((M17-L17)>12,12,(ROUNDUP((M17-L17),0))) -> 0 | O17: =IF(AND(F17="B",N17>3),N17*2.5,0) -> 0
E18: =D18-C18 -> 0 | F18: P | G18: =IF(F18= "P",E18,"--") -> 0 | H18: =IF(F18="B",E18,"--") -> -- | I18: =$C$3 -> 1120 Wien, Meidlinger Hauptstraße 45 | J18: =$C$4 -> 3001 Mauerbach, Hauptstraße 4 | K18: Whg-Arbeitsort-Whg | N18: =+IF((M18-L18)>12,12,(ROUNDUP((M18-L18),0))) -> 0 | O18: =IF(AND(F18="B",N18>3),N18*2.5,0) -> 0
E19: =D19-C19 -> 0 | F19: P | G19: =IF(F19= "P",E19,"--") -> 0 | H19: =IF(F19="B",E19,"--") -> -- | I19: =$C$3 -> 1120 Wien, Meidlinger Hauptstraße 45 | J19: =$C$4 -> 3001 Mauerbach, Hauptstraße 4 | K19: Whg-Arbeitsort-Whg | N19: =+IF((M19-L19)>12,12,(ROUNDUP((M19-L19),0))) -> 0 | O19: =IF(AND(F19="B",N19>3),N19*2.5,0) -> 0
E20: =D20-C20 -> 0 | F20: P | G20: =IF(F20= "P",E20,"--") -> 0 | H20: =IF(F20="B",E20,"--") -> -- | I20: =$C$3 -> 1120 Wien, Meidlinger Hauptstraße 45 | J20: =$C$4 -> 3001 Mauerbach, Hauptstraße 4 | K20: Whg-Arbeitsort-Whg | N20: =+IF((M20-L20)>12,12,(ROUNDUP((M20-L20),0))) -> 0 | O20: =IF(AND(F20="B",N20>3),N20*2.5,0) -> 0
E21: =D21-C21 -> 0 | F21: P | G21: =IF(F21= "P",E21,"--") -> 0 | H21: =IF(F21="B",E21,"--") -> -- | I21: =$C$3 -> 1120 Wien, Meidlinger Hauptstraße 45 | J21: =$C$4 -> 3001 Mauerbach, Hauptstraße 4 | K21: Whg-Arbeitsort-Whg | N21: =+IF((M21-L21)>12,12,(ROUNDUP((M21-L21),0))) -> 0 | O21: =IF(AND(F21="B",N21>3),N21*2.5,0) -> 0
E22: =D22-C22 -> 0 | F22: P | G22: =IF(F22= "P",E22,"--") -> 0 | H22: =IF(F22="B",E22,"--") -> -- | I22: =$C$3 -> 1120 Wien, Meidlinger Hauptstraße 45 | J22: =$C$4 -> 3001 Mauerbach, Hauptstraße 4 | K22: Whg-Arbeitsort-Whg | N22: =+IF((M22-L22)>12,12,(ROUNDUP((M22-L22),0))) -> 0 | O22: =IF(AND(F22="B",N22>3),N22*2.5,0) -> 0
... E76: =D76-C76 -> 0 | F76: P | G76: =IF(F76= "P",E76,"--") -> 0 | H76: =IF(F76="B",E76,"--") -> -- | I76: =$C$3 -> 1120 Wien, Meidlinger Hauptstraße 45 | J76: =$C$4 -> 3001 Mauerbach, Hauptstraße 4 | K76: Whg-Arbeitsort-Whg | N76: =+IF((M76-L76)>12,12,(ROUNDUP((M76-L76),0))) -> 0 | O76: =IF(AND(F76="B",N76>3),N76*2.5,0) -> 0
D78: gesamt | E78: =SUM(E11:E77) -> 0 | G78: =SUM(G11:G77) -> 0 | H78: =SUM(H11:H77) -> 0 | O78: =SUM(O10:O77) -> 0 | P78: =SUM(P10:P77) -> 0 | Q78: =SUM(Q10:Q77) -> 0
B79: Version: 1.1.

Sheet Mai
A1: NAME: | C1: =Übersicht!C1 -> Max Mustermann | O1: Zeitraum: | P1: =Übersicht!G1 -> 2025
A2: Fahrzeug: | C2: =Übersicht!C2 -> ..
A3: Wohnort: | C3: =Übersicht!C3 -> 1120 Wien, Meidlinger Hauptstraße 45 | O3: Monat: | P3: Mai
A4: Betriebsstätte: | C4: =Übersicht!C4 -> 3001 Mauerbach, Hauptstraße 4
B6: FAHRTENBUCH- und REISEKOSTENABRECHNUNG
B8: Datum | C8: Kilometer | I8: Ausgangsort | J8: Zielort | K8: Zweck | L8: Reise | O8: Diäten | P8: Nächtigungs- | Q8: Diverse
C9: Anfang | D9: Ende | E9: Anzahl | F9: P/B | G9: Privat | H9: Beruf | K9: Kunde | L9: Beginn | M9: Ende | N9: Dauer | O9: Inland | P9: kosten | Q9: Spesen
E11: =D11-C11 -> 0 | F11: P | G11: =IF(F11= "P",E11,"--") -> 0 | H11: =IF(F11="B",E11,"--") -> -- | I11: =$C$3 -> 1120 Wien, Meidlinger Hauptstraße 45 | J11: =$C$4 -> 3001 Mauerbach, Hauptstraße 4 | K11: Whg-Arbeitsort-Whg | N11: =+IF((M11-L11)>12,12,(ROUNDUP((M11-L11),0))) -> 0 | O11: =IF(AND(F11="B",N11>3),N11*2.5,0) -> 0
E12: =D12-C12 -> 0 | F12: P | G12: =IF(F12= "P",E12,"--") -> 0 | H12: =IF(F12="B",E12,"--") -> -- | I12: =$C$3 -> 1120 Wien, Meidlinger Hauptstraße 45 | J12: =$C$4 -> 3001 Mauerbach, Hauptstraße 4 | K12: Whg-Arbeitsort-Whg | N12: =+IF((M12-L12)>12,12,(ROUNDUP((M12-L12),0))) -> 0 | O12: =IF(AND(F12="B",N12>3),N12*2.5,0) -> 0
E13: =D13-C13 -> 0 | F13: P | G13: =IF(F13= "P",E13,"--") -> 0 | H13: =IF(F13="B",E13,"--") -> -- | I13: =$C$3 -> 1120 Wien, Meidlinger Hauptstraße 45 | J13: =$C$4 -> 3001 Mauerbach, Hauptstraße 4 | K13: Whg-Arbeitsort-Whg | N13: =+IF((M13-L13)>12,12,(ROUNDUP((M13-L13),0))) -> 0 | O13: =IF(AND(F13="B",N13>3),N13*2.5,0) -> 0
E14: =D14-C14 -> 0 | F14: P | G14: =IF(F14= "P",E14,"--") -> 0 | H14: =IF(F14="B",E14,"--") -> -- | I14: =$C$3 -> 1120 Wien, Meidlinger Hauptstraße 45 | J14: =$C$4 -> 3001 Mauerbach, Hauptstraße 4 | K14: Whg-Arbeitsort-Whg | N14: =+IF((M14-L14)>12,12,(ROUNDUP((M14-L14),0))) -> 0 | O14: =IF(AND(F14="B",N14>3),N14*2.5,0) -> 0
E15: =D15-C15 -> 0 | F15: P | G15: =IF(F15= "P",E15,"--") -> 0 | H15: =IF(F15="B",E15,"--") -> -- | I15: =$C$3 -> 1120 Wien, Meidlinger Hauptstraße 45 | J15: =$C$4 -> 3001 Mauerbach, Hauptstraße 4 | K15: Whg-Arbeitsort-Whg | N15: =+IF((M15-L15)>12,12,(ROUNDUP((M15-L15),0))) -> 0 | O15: =IF(AND(F15="B",N15>3),N15*2.5,0) -> 0
E16: =D16-C16 -> 0 | F16: P | G16: =IF(F16= "P",E16,"--") -> 0 | H16: =IF(F16="B",E16,"--") -> -- | I16: =$C$3 -> 1120 Wien, Meidlinger Hauptstraße 45 | J16: =$C$4 -> 3001 Mauerbach, Hauptstraße 4 | K16: Whg-Arbeitsort-Whg | N16: =+IF((M16-L16)>12,12,(ROUNDUP((M16-L16),0))) -> 0 | O16: =IF(AND(F16="B",N16>3),N16*2.5,0) -> 0
E17: =D17-C17 -> 0 | F17: P | G17: =IF(F17= "P",E17,"--") -> 0 | H17: =IF(F17="B",E17,"--") -> -- | I17: =$C$3 -> 1120 Wien, Meidlinger Hauptstraße 45 | J17: =$C$4 -> 3001 Mauerbach, Hauptstraße 4 | K17: Whg-Arbeitsort-Whg | N17: =+IF((M17-L17)>12,12,(ROUNDUP((M17-L17),0))) -> 0 | O17: =IF(AND(F17="B",N17>3),N17*2.5,0) -> 0
E18: =D18-C18 -> 0 | F18: P | G18: =IF(F18= "P",E18,"--") -> 0 | H18: =IF(F18="B",E18,"--") -> -- | I18: =$C$3 -> 1120 Wien, Meidlinger Hauptstraße 45 | J18: =$C$4 -> 3001 Mauerbach, Hauptstraße 4 | K18: Whg-Arbeitsort-Whg | N18: =+IF((M18-L18)>12,12,(ROUNDUP((M18-L18),0))) -> 0 | O18: =IF(AND(F18="B",N18>3),N18*2.5,0) -> 0
E19: =D19-C19 -> 0 | F19: P | G19: =IF(F19= "P",E19,"--") -> 0 | H19: =IF(F19="B",E19,"--") -> -- | I19: =$C$3 -> 1120 Wien, Meidlinger Hauptstraße 45 | J19: =$C$4 -> 3001 Mauerbach, Hauptstraße 4 | K19: Whg-Arbeitsort-Whg | N19: =+IF((M19-L19)>12,12,(ROUNDUP((M19-L19),0))) -> 0 | O19: =IF(AND(F19="B",N19>3),N19*2.5,0) -> 0
E20: =D20-C20 -> 0 | F20: P | G20: =IF(F20= "P",E20,"--") -> 0 | H20: =IF(F20="B",E20,"--") -> -- | I20: =$C$3 -> 1120 Wien, Meidlinger Hauptstraße 45 | J20: =$C$4 -> 3001 Mauerbach, Hauptstraße 4 | K20: Whg-Arbeitsort-Whg | N20: =+IF((M20-L20)>12,12,(ROUNDUP((M20-L20),0))) -> 0 | O20: =IF(AND(F20="B",N20>3),N20*2.5,0) -> 0
E21: =D21-C21 -> 0 | F21: P | G21: =IF(F21= "P",E21,"--") -> 0 | H21: =IF(F21="B",E21,"--") -> -- | I21: =$C$3 -> 1120 Wien, Meidlinger Hauptstraße 45 | J21: =$C$4 -> 3001 Mauerbach, Hauptstraße 4 | K21: Whg-Arbeitsort-Whg | N21: =+IF((M21-L21)>12,12,(ROUNDUP((M21-L21),0))) -> 0 | O21: =IF(AND(F21="B",N21>3),N21*2.5,0) -> 0
E22: =D22-C22 -> 0 | F22: P | G22: =IF(F22= "P",E22,"--") -> 0 | H22: =IF(F22="B",E22,"--") -> -- | I22: =$C$3 -> 1120 Wien, Meidlinger Hauptstraße 45 | J22: =$C$4 -> 3001 Mauerbach, Hauptstraße 4 | K22: Whg-Arbeitsort-Whg | N22: =+IF((M22-L22)>12,12,(ROUNDUP((M22-L22),0))) -> 0 | O22: =IF(AND(F22="B",N22>3),N22*2.5,0) -> 0
... E76: =D76-C76 -> 0 | F76: P | G76: =IF(F76= "P",E76,"--") -> 0 | H76: =IF(F76="B",E76,"--") -> -- | I76: =$C$3 -> 1120 Wien, Meidlinger Hauptstraße 45 | J76: =$C$4 -> 3001 Mauerbach, Hauptstraße 4 | K76: Whg-Arbeitsort-Whg | N76: =+IF((M76-L76)>12,12,(ROUNDUP((M76-L76),0))) -> 0 | O76: =IF(AND(F76="B",N76>3),N76*2.5,0) -> 0
D78: gesamt | E78: =SUM(E11:E77) -> 0 | G78: =SUM(G11:G77) -> 0 | H78: =SUM(H11:H77) -> 0 | O78: =SUM(O10:O77) -> 0 | P78: =SUM(P10:P77) -> 0 | Q78: =SUM(Q10:Q77) -> 0
B79: Version: 1.1.

Sheet Juni
A1: NAME: | C1: =Übersicht!C1 -> Max Mustermann | O1: Zeitraum: | P1: =Übersicht!G1 -> 2025
A2: Fahrzeug: | C2: =Übersicht!C2 -> ..
A3: Wohnort: | C3: =Übersicht!C3 -> 1120 Wien, Meidlinger Hauptstraße 45 | O3: Monat: | P3: Juni
A4: Betriebsstätte: | C4: =Übersicht!C4 -> 3001 Mauerbach, Hauptstraße 4
B6: FAHRTENBUCH- und REISEKOSTENABRECHNUNG
B8: Datum | C8: Kilometer | I8: Ausgangsort | J8: Zielort | K8: Zweck | L8: Reise | O8: Diäten | P8: Nächtigungs- | Q8: Diverse
C9: Anfang | D9: Ende | E9: Anzahl | F9: P/B | G9: Privat | H9: Beruf | K9: Kunde | L9: Beginn | M9: Ende | N9: Dauer | O9: Inland | P9: kosten | Q9: Spesen
E11: =D11-C11 -> 0 | F11: P | G11: =IF(F11= "P",E11,"--") -> 0 | H11: =IF(F11="B",E11,"--") -> -- | I11: =$C$3 -> 1120 Wien, Meidlinger Hauptstraße 45 | J11: =$C$4 -> 3001 Mauerbach, Hauptstraße 4 | K11: Whg-Arbeitsort-Whg | N11: =+IF((M11-L11)>12,12,(ROUNDUP((M11-L11),0))) -> 0 | O11: =IF(AND(F11="B",N11>3),N11*2.5,0) -> 0
E12: =D12-C12 -> 0 | F12: P | G12: =IF(F12= "P",E12,"--") -> 0 | H12: =IF(F12="B",E12,"--") -> -- | I12: =$C$3 -> 1120 Wien, Meidlinger Hauptstraße 45 | J12: =$C$4 -> 3001 Mauerbach, Hauptstraße 4 | K12: Whg-Arbeitsort-Whg | N12: =+IF((M12-L12)>12,12,(ROUNDUP((M12-L12),0))) -> 0 | O12: =IF(AND(F12="B",N12>3),N12*2.5,0) -> 0
E13: =D13-C13 -> 0 | F13: P | G13: =IF(F13= "P",E13,"--") -> 0 | H13: =IF(F13="B",E13,"--") -> -- | I13: =$C$3 -> 1120 Wien, Meidlinger Hauptstraße 45 | J13: =$C$4 -> 3001 Mauerbach, Hauptstraße 4 | K13: Whg-Arbeitsort-Whg | N13: =+IF((M13-L13)>12,12,(ROUNDUP((M13-L13),0))) -> 0 | O13: =IF(AND(F13="B",N13>3),N13*2.5,0) -> 0
E14: =D14-C14 -> 0 | F14: P | G14: =IF(F14= "P",E14,"--") -> 0 | H14: =IF(F14="B",E14,"--") -> -- | I14: =$C$3 -> 1120 Wien, Meidlinger Hauptstraße 45 | J14: =$C$4 -> 3001 Mauerbach, Hauptstraße 4 | K14: Whg-Arbeitsort-Whg | N14: =+IF((M14-L14)>12,12,(ROUNDUP((M14-L14),0))) -> 0 | O14: =IF(AND(F14="B",N14>3),N14*2.5,0) -> 0
E15: =D15-C15 -> 0 | F15: P | G15: =IF(F15= "P",E15,"--") -> 0 | H15: =IF(F15="B",E15,"--") -> -- | I15: =$C$3 -> 1120 Wien, Meidlinger Hauptstraße 45 | J15: =$C$4 -> 3001 Mauerbach, Hauptstraße 4 | K15: Whg-Arbeitsort-Whg | N15: =+IF((M15-L15)>12,12,(ROUNDUP((M15-L15),0))) -> 0 | O15: =IF(AND(F15="B",N15>3),N15*2.5,0) -> 0
E16: =D16-C16 -> 0 | F16: P | G16: =IF(F16= "P",E16,"--") -> 0 | H16: =IF(F16="B",E16,"--") -> -- | I16: =$C$3 -> 1120 Wien, Meidlinger Hauptstraße 45 | J16: =$C$4 -> 3001 Mauerbach, Hauptstraße 4 | K16: Whg-Arbeitsort-Whg | N16: =+IF((M16-L16)>12,12,(ROUNDUP((M16-L16),0))) -> 0 | O16: =IF(AND(F16="B",N16>3),N16*2.5,0) -> 0
E17: =D17-C17 -> 0 | F17: P | G17: =IF(F17= "P",E17,"--") -> 0 | H17: =IF(F17="B",E17,"--") -> -- | I17: =$C$3 -> 1120 Wien, Meidlinger Hauptstraße 45 | J17: =$C$4 -> 3001 Mauerbach, Hauptstraße 4 | K17: Whg-Arbeitsort-Whg | N17: =+IF((M17-L17)>12,12,(ROUNDUP((M17-L17),0))) -> 0 | O17: =IF(AND(F17="B",N17>3),N17*2.5,0) -> 0
E18: =D18-C18 -> 0 | F18: P | G18: =IF(F18= "P",E18,"--") -> 0 | H18: =IF(F18="B",E18,"--") -> -- | I18: =$C$3 -> 1120 Wien, Meidlinger Hauptstraße 45 | J18: =$C$4 -> 3001 Mauerbach, Hauptstraße 4 | K18: Whg-Arbeitsort-Whg | N18: =+IF((M18-L18)>12,12,(ROUNDUP((M18-L18),0))) -> 0 | O18: =IF(AND(F18="B",N18>3),N18*2.5,0) -> 0
E19: =D19-C19 -> 0 | F19: P | G19: =IF(F19= "P",E19,"--") -> 0 | H19: =IF(F19="B",E19,"--") -> -- | I19: =$C$3 -> 1120 Wien, Meidlinger Hauptstraße 45 | J19: =$C$4 -> 3001 Mauerbach, Hauptstraße 4 | K19: Whg-Arbeitsort-Whg | N19: =+IF((M19-L19)>12,12,(ROUNDUP((M19-L19),0))) -> 0 | O19: =IF(AND(F19="B",N19>3),N19*2.5,0) -> 0
E20: =D20-C20 -> 0 | F20: P | G20: =IF(F20= "P",E20,"--") -> 0 | H20: =IF(F20="B",E20,"--") -> -- | I20: =$C$3 -> 1120 Wien, Meidlinger Hauptstraße 45 | J20: =$C$4 -> 3001 Mauerbach, Hauptstraße 4 | K20: Whg-Arbeitsort-Whg | N20: =+IF((M20-L20)>12,12,(ROUNDUP((M20-L20),0))) -> 0 | O20: =IF(AND(F20="B",N20>3),N20*2.5,0) -> 0
E21: =D21-C21 -> 0 | F21: P | G21: =IF(F21= "P",E21,"--") -> 0 | H21: =IF(F21="B",E21,"--") -> -- | I21: =$C$3 -> 1120 Wien, Meidlinger Hauptstraße 45 | J21: =$C$4 -> 3001 Mauerbach, Hauptstraße 4 | K21: Whg-Arbeitsort-Whg | N21: =+IF((M21-L21)>12,12,(ROUNDUP((M21-L21),0))) -> 0 | O21: =IF(AND(F21="B",N21>3),N21*2.5,0) -> 0
E22: =D22-C22 -> 0 | F22: P | G22: =IF(F22= "P",E22,"--") -> 0 | H22: =IF(F22="B",E22,"--") -> -- | I22: =$C$3 -> 1120 Wien, Meidlinger Hauptstraße 45 | J22: =$C$4 -> 3001 Mauerbach, Hauptstraße 4 | K22: Whg-Arbeitsort-Whg | N22: =+IF((M22-L22)>12,12,(ROUNDUP((M22-L22),0))) -> 0 | O22: =IF(AND(F22="B",N22>3),N22*2.5,0) -> 0
... E76: =D76-C76 -> 0 | F76: P | G76: =IF(F76= "P",E76,"--") -> 0 | H76: =IF(F76="B",E76,"--") -> -- | I76: =$C$3 -> 1120 Wien, Meidlinger Hauptstraße 45 | J76: =$C$4 -> 3001 Mauerbach, Hauptstraße 4 | K76: Whg-Arbeitsort-Whg | N76: =+IF((M76-L76)>12,12,(ROUNDUP((M76-L76),0))) -> 0 | O76: =IF(AND(F76="B",N76>3),N76*2.5,0) -> 0
D78: gesamt | E78: =SUM(E11:E77) -> 0 | G78: =SUM(G11:G77) -> 0 | H78: =SUM(H11:H77) -> 0 | O78: =SUM(O10:O77) -> 0 | P78: =SUM(P10:P77) -> 0 | Q78: =SUM(Q10:Q77) -> 0
B79: Version: 1.1.

Sheet Juli
A1: NAME: | C1: =Übersicht!C1 -> Max Mustermann | O1: Zeitraum: | P1: =Übersicht!G1 -> 2025
A2: Fahrzeug: | C2: =Übersicht!C2 -> ..
A3: Wohnort: | C3: =Übersicht!C3 -> 1120 Wien, Meidlinger Hauptstraße 45 | O3: Monat: | P3: Juli
A4: Betriebsstätte: | C4: =Übersicht!C4 -> 3001 Mauerbach, Hauptstraße 4
B6: FAHRTENBUCH- und REISEKOSTENABRECHNUNG
B8: Datum | C8: Kilometer | I8: Ausgangsort | J8: Zielort | K8: Zweck | L8: Reise | O8: Diäten | P8: Nächtigungs- | Q8: Diverse
C9: Anfang | D9: Ende | E9: Anzahl | F9: P/B | G9: Privat | H9: Beruf | K9: Kunde | L9: Beginn | M9: Ende | N9: Dauer | O9: Inland | P9: kosten | Q9: Spesen
E11: =D11-C11 -> 0 | F11: P | G11: =IF(F11= "P",E11,"--") -> 0 | H11: =IF(F11="B",E11,"--") -> -- | I11: =$C$3 -> 1120 Wien, Meidlinger Hauptstraße 45 | J11: =$C$4 -> 3001 Mauerbach, Hauptstraße 4 | K11: Whg-Arbeitsort-Whg | N11: =+IF((M11-L11)>12,12,(ROUNDUP((M11-L11),0))) -> 0 | O11: =IF(AND(F11="B",N11>3),N11*2.5,0) -> 0
E12: =D12-C12 -> 0 | F12: P | G12: =IF(F12= "P",E12,"--") -> 0 | H12: =IF(F12="B",E12,"--") -> -- | I12: =$C$3 -> 1120 Wien, Meidlinger Hauptstraße 45 | J12: =$C$4 -> 3001 Mauerbach, Hauptstraße 4 | K12: Whg-Arbeitsort-Whg | N12: =+IF((M12-L12)>12,12,(ROUNDUP((M12-L12),0))) -> 0 | O12: =IF(AND(F12="B",N12>3),N12*2.5,0) -> 0
E13: =D13-C13 -> 0 | F13: P | G13: =IF(F13= "P",E13,"--") -> 0 | H13: =IF(F13="B",E13,"--") -> -- | I13: =$C$3 -> 1120 Wien, Meidlinger Hauptstraße 45 | J13: =$C$4 -> 3001 Mauerbach, Hauptstraße 4 | K13: Whg-Arbeitsort-Whg | N13: =+IF((M13-L13)>12,12,(ROUNDUP((M13-L13),0))) -> 0 | O13: =IF(AND(F13="B",N13>3),N13*2.5,0) -> 0
E14: =D14-C14 -> 0 | F14: P | G14: =IF(F14= "P",E14,"--") -> 0 | H14: =IF(F14="B",E14,"--") -> -- | I14: =$C$3 -> 1120 Wien, Meidlinger Hauptstraße 45 | J14: =$C$4 -> 3001 Mauerbach, Hauptstraße 4 | K14: Whg-Arbeitsort-Whg | N14: =+IF((M14-L14)>12,12,(ROUNDUP((M14-L14),0))) -> 0 | O14: =IF(AND(F14="B",N14>3),N14*2.5,0) -> 0
E15: =D15-C15 -> 0 | F15: P | G15: =IF(F15= "P",E15,"--") -> 0 | H15: =IF(F15="B",E15,"--") -> -- | I15: =$C$3 -> 1120 Wien, Meidlinger Hauptstraße 45 | J15: =$C$4 -> 3001 Mauerbach, Hauptstraße 4 | K15: Whg-Arbeitsort-Whg | N15: =+IF((M15-L15)>12,12,(ROUNDUP((M15-L15),0))) -> 0 | O15: =IF(AND(F15="B",N15>3),N15*2.5,0) -> 0
E16: =D16-C16 -> 0 | F16: P | G16: =IF(F16= "P",E16,"--") -> 0 | H16: =IF(F16="B",E16,"--") -> -- | I16: =$C$3 -> 1120 Wien, Meidlinger Hauptstraße 45 | J16: =$C$4 -> 3001 Mauerbach, Hauptstraße 4 | K16: Whg-Arbeitsort-Whg | N16: =+IF((M16-L16)>12,12,(ROUNDUP((M16-L16),0))) -> 0 | O16: =IF(AND(F16="B",N16>3),N16*2.5,0) -> 0
E17: =D17-C17 -> 0 | F17: P | G17: =IF(F17= "P",E17,"--") -> 0 | H17: =IF(F17="B",E17,"--") -> -- | I17: =$C$3 -> 1120 Wien, Meidlinger Hauptstraße 45 | J17: =$C$4 -> 3001 Mauerbach, Hauptstraße 4 | K17: Whg-Arbeitsort-Whg | N17: =+IF((M17-L17)>12,12,(ROUNDUP((M17-L17),0))) -> 0 | O17: =IF(AND(F17="B",N17>3),N17*2.5,0) -> 0
E18: =D18-C18 -> 0 | F18: P | G18: =IF(F18= "P",E18,"--") -> 0 | H18: =IF(F18="B",E18,"--") -> -- | I18: =$C$3 -> 1120 Wien, Meidlinger Hauptstraße 45 | J18: =$C$4 -> 3001 Mauerbach, Hauptstraße 4 | K18: Whg-Arbeitsort-Whg | N18: =+IF((M18-L18)>12,12,(ROUNDUP((M18-L18),0))) -> 0 | O18: =IF(AND(F18="B",N18>3),N18*2.5,0) -> 0
E19: =D19-C19 -> 0 | F19: P | G19: =IF(F19= "P",E19,"--") -> 0 | H19: =IF(F19="B",E19,"--") -> -- | I19: =$C$3 -> 1120 Wien, Meidlinger Hauptstraße 45 | J19: =$C$4 -> 3001 Mauerbach, Hauptstraße 4 | K19: Whg-Arbeitsort-Whg | N19: =+IF((M19-L19)>12,12,(ROUNDUP((M19-L19),0))) -> 0 | O19: =IF(AND(F19="B",N19>3),N19*2.5,0) -> 0
E20: =D20-C20 -> 0 | F20: P | G20: =IF(F20= "P",E20,"--") -> 0 | H20: =IF(F20="B",E20,"--") -> -- | I20: =$C$3 -> 1120 Wien, Meidlinger Hauptstraße 45 | J20: =$C$4 -> 3001 Mauerbach, Hauptstraße 4 | K20: Whg-Arbeitsort-Whg | N20: =+IF((M20-L20)>12,12,(ROUNDUP((M20-L20),0))) -> 0 | O20: =IF(AND(F20="B",N20>3),N20*2.5,0) -> 0
E21: =D21-C21 -> 0 | F21: P | G21: =IF(F21= "P",E21,"--") -> 0 | H21: =IF(F21="B",E21,"--") -> -- | I21: =$C$3 -> 1120 Wien, Meidlinger Hauptstraße 45 | J21: =$C$4 -> 3001 Mauerbach, Hauptstraße 4 | K21: Whg-Arbeitsort-Whg | N21: =+IF((M21-L21)>12,12,(ROUNDUP((M21-L21),0))) -> 0 | O21: =IF(AND(F21="B",N21>3),N21*2.5,0) -> 0
E22: =D22-C22 -> 0 | F22: P | G22: =IF(F22= "P",E22,"--") -> 0 | H22: =IF(F22="B",E22,"--") -> -- | I22: =$C$3 -> 1120 Wien, Meidlinger Hauptstraße 45 | J22: =$C$4 -> 3001 Mauerbach, Hauptstraße 4 | K22: Whg-Arbeitsort-Whg | N22: =+IF((M22-L22)>12,12,(ROUNDUP((M22-L22),0))) -> 0 | O22: =IF(AND(F22="B",N22>3),N22*2.5,0) -> 0
... E76: =D76-C76 -> 0 | F76: P | G76: =IF(F76= "P",E76,"--") -> 0 | H76: =IF(F76="B",E76,"--") -> -- | I76: =$C$3 -> 1120 Wien, Meidlinger Hauptstraße 45 | J76: =$C$4 -> 3001 Mauerbach, Hauptstraße 4 | K76: Whg-Arbeitsort-Whg | N76: =+IF((M76-L76)>12,12,(ROUNDUP((M76-L76),0))) -> 0 | O76: =IF(AND(F76="B",N76>3),N76*2.5,0) -> 0
D78: gesamt | E78: =SUM(E11:E77) -> 0 | G78: =SUM(G11:G77) -> 0 | H78: =SUM(H11:H77) -> 0 | O78: =SUM(O10:O77) -> 0 | P78: =SUM(P10:P77) -> 0 | Q78: =SUM(Q10:Q77) -> 0
B79: Version: 1.1.

Sheet August
A1: NAME: | C1: =Übersicht!C1 -> Max Mustermann | O1: Zeitraum: | P1: =Übersicht!G1 -> 2025
A2: Fahrzeug: | C2: =Übersicht!C2 -> ..
A3: Wohnort: | C3: =Übersicht!C3 -> 1120 Wien, Meidlinger Hauptstraße 45 | O3: Monat: | P3: August
A4: Betriebsstätte: | C4: =Übersicht!C4 -> 3001 Mauerbach, Hauptstraße 4
B6: FAHRTENBUCH- und REISEKOSTENABRECHNUNG
B8: Datum | C8: Kilometer | I8: Ausgangsort | J8: Zielort | K8: Zweck | L8: Reise | O8: Diäten | P8: Nächtigungs- | Q8: Diverse
C9: Anfang | D9: Ende | E9: Anzahl | F9: P/B | G9: Privat | H9: Beruf | K9: Kunde | L9: Beginn | M9: Ende | N9: Dauer | O9: Inland | P9: kosten | Q9: Spesen
E11: =D11-C11 -> 0 | F11: P | G11: =IF(F11= "P",E11,"--") -> 0 | H11: =IF(F11="B",E11,"--") -> -- | I11: =$C$3 -> 1120 Wien, Meidlinger Hauptstraße 45 | J11: =$C$4 -> 3001 Mauerbach, Hauptstraße 4 | K11: Whg-Arbeitsort-Whg | N11: =+IF((M11-L11)>12,12,(ROUNDUP((M11-L11),0))) -> 0 | O11: =IF(AND(F11="B",N11>3),N11*2.5,0) -> 0
E12: =D12-C12 -> 0 | F12: P | G12: =IF(F12= "P",E12,"--") -> 0 | H12: =IF(F12="B",E12,"--") -> -- | I12: =$C$3 -> 1120 Wien, Meidlinger Hauptstraße 45 | J12: =$C$4 -> 3001 Mauerbach, Hauptstraße 4 | K12: Whg-Arbeitsort-Whg | N12: =+IF((M12-L12)>12,12,(ROUNDUP((M12-L12),0))) -> 0 | O12: =IF(AND(F12="B",N12>3),N12*2.5,0) -> 0
E13: =D13-C13 -> 0 | F13: P | G13: =IF(F13= "P",E13,"--") -> 0 | H13: =IF(F13="B",E13,"--") -> -- | I13: =$C$3 -> 1120 Wien, Meidlinger Hauptstraße 45 | J13: =$C$4 -> 3001 Mauerbach, Hauptstraße 4 | K13: Whg-Arbeitsort-Whg | N13: =+IF((M13-L13)>12,12,(ROUNDUP((M13-L13),0))) -> 0 | O13: =IF(AND(F13="B",N13>3),N13*2.5,0) -> 0
E14: =D14-C14 -> 0 | F14: P | G14: =IF(F14= "P",E14,"--") -> 0 | H14: =IF(F14="B",E14,"--") -> -- | I14: =$C$3 -> 1120 Wien, Meidlinger Hauptstraße 45 | J14: =$C$4 -> 3001 Mauerbach, Hauptstraße 4 | K14: Whg-Arbeitsort-Whg | N14: =+IF((M14-L14)>12,12,(ROUNDUP((M14-L14),0))) -> 0 | O14: =IF(AND(F14="B",N14>3),N14*2.5,0) -> 0
E15: =D15-C15 -> 0 | F15: P | G15: =IF(F15= "P",E15,"--") -> 0 | H15: =IF(F15="B",E15,"--") -> -- | I15: =$C$3 -> 1120 Wien, Meidlinger Hauptstraße 45 | J15: =$C$4 -> 3001 Mauerbach, Hauptstraße 4 | K15: Whg-Arbeitsort-Whg | N15: =+IF((M15-L15)>12,12,(ROUNDUP((M15-L15),0))) -> 0 | O15: =IF(AND(F15="B",N15>3),N15*2.5,0) -> 0
E16: =D16-C16 -> 0 | F16: P | G16: =IF(F16= "P",E16,"--") -> 0 | H16: =IF(F16="B",E16,"--") -> -- | I16: =$C$3 -> 1120 Wien, Meidlinger Hauptstraße 45 | J16: =$C$4 -> 3001 Mauerbach, Hauptstraße 4 | K16: Whg-Arbeitsort-Whg | N16: =+IF((M16-L16)>12,12,(ROUNDUP((M16-L16),0))) -> 0 | O16: =IF(AND(F16="B",N16>3),N16*2.5,0) -> 0
E17: =D17-C17 -> 0 | F17: P | G17: =IF(F17= "P",E17,"--") -> 0 | H17: =IF(F17="B",E17,"--") -> -- | I17: =$C$3 -> 1120 Wien, Meidlinger Hauptstraße 45 | J17: =$C$4 -> 3001 Mauerbach, Hauptstraße 4 | K17: Whg-Arbeitsort-Whg | N17: =+IF((M17-L17)>12,12,(ROUNDUP((M17-L17),0))) -> 0 | O17: =IF(AND(F17="B",N17>3),N17*2.5,0) -> 0
E18: =D18-C18 -> 0 | F18: P | G18: =IF(F18= "P",E18,"--") -> 0 | H18: =IF(F18="B",E18,"--") -> -- | I18: =$C$3 -> 1120 Wien, Meidlinger Hauptstraße 45 | J18: =$C$4 -> 3001 Mauerbach, Hauptstraße 4 | K18: Whg-Arbeitsort-Whg | N18: =+IF((M18-L18)>12,12,(ROUNDUP((M18-L18),0))) -> 0 | O18: =IF(AND(F18="B",N18>3),N18*2.5,0) -> 0
E19: =D19-C19 -> 0 | F19: P | G19: =IF(F19= "P",E19,"--") -> 0 | H19: =IF(F19="B",E19,"--") -> -- | I19: =$C$3 -> 1120 Wien, Meidlinger Hauptstraße 45 | J19: =$C$4 -> 3001 Mauerbach, Hauptstraße 4 | K19: Whg-Arbeitsort-Whg | N19: =+IF((M19-L19)>12,12,(ROUNDUP((M19-L19),0))) -> 0 | O19: =IF(AND(F19="B",N19>3),N19*2.5,0) -> 0
E20: =D20-C20 -> 0 | F20: P | G20: =IF(F20= "P",E20,"--") -> 0 | H20: =IF(F20="B",E20,"--") -> -- | I20: =$C$3 -> 1120 Wien, Meidlinger Hauptstraße 45 | J20: =$C$4 -> 3001 Mauerbach, Hauptstraße 4 | K20: Whg-Arbeitsort-Whg | N20: =+IF((M20-L20)>12,12,(ROUNDUP((M20-L20),0))) -> 0 | O20: =IF(AND(F20="B",N20>3),N20*2.5,0) -> 0
E21: =D21-C21 -> 0 | F21: P | G21: =IF(F21= "P",E21,"--") -> 0 | H21: =IF(F21="B",E21,"--") -> -- | I21: =$C$3 -> 1120 Wien, Meidlinger Hauptstraße 45 | J21: =$C$4 -> 3001 Mauerbach, Hauptstraße 4 | K21: Whg-Arbeitsort-Whg | N21: =+IF((M21-L21)>12,12,(ROUNDUP((M21-L21),0))) -> 0 | O21: =IF(AND(F21="B",N21>3),N21*2.5,0) -> 0
E22: =D22-C22 -> 0 | F22: P | G22: =IF(F22= "P",E22,"--") -> 0 | H22: =IF(F22="B",E22,"--") -> -- | I22: =$C$3 -> 1120 Wien, Meidlinger Hauptstraße 45 | J22: =$C$4 -> 3001 Mauerbach, Hauptstraße 4 | K22: Whg-Arbeitsort-Whg | N22: =+IF((M22-L22)>12,12,(ROUNDUP((M22-L22),0))) -> 0 | O22: =IF(AND(F22="B",N22>3),N22*2.5,0) -> 0
... E76: =D76-C76 -> 0 | F76: P | G76: =IF(F76= "P",E76,"--") -> 0 | H76: =IF(F76="B",E76,"--") -> -- | I76: =$C$3 -> 1120 Wien, Meidlinger Hauptstraße 45 | J76: =$C$4 -> 3001 Mauerbach, Hauptstraße 4 | K76: Whg-Arbeitsort-Whg | N76: =+IF((M76-L76)>12,12,(ROUNDUP((M76-L76),0))) -> 0 | O76: =IF(AND(F76="B",N76>3),N76*2.5,0) -> 0
D78: gesamt | E78: =SUM(E11:E77) -> 0 | G78: =SUM(G11:G77) -> 0 | H78: =SUM(H11:H77) -> 0 | O78: =SUM(O10:O77) -> 0 | P78: =SUM(P10:P77) -> 0 | Q78: =SUM(Q10:Q77) -> 0
B79: Version: 1.1.

Sheet Sept.
A1: NAME: | C1: =Übersicht!C1 -> Max Mustermann | O1: Zeitraum: | P1: =Übersicht!G1 -> 2025
A2: Fahrzeug: | C2: =Übersicht!C2 -> ..
A3: Wohnort: | C3: =Übersicht!C3 -> 1120 Wien, Meidlinger Hauptstraße 45 | O3: Monat: | P3: September
A4: Betriebsstätte: | C4: =Übersicht!C4 -> 3001 Mauerbach, Hauptstraße 4
B6: FAHRTENBUCH- und REISEKOSTENABRECHNUNG
B8: Datum | C8: Kilometer | I8: Ausgangsort | J8: Zielort | K8: Zweck | L8: Reise | O8: Diäten | P8: Nächtigungs- | Q8: Diverse
C9: Anfang | D9: Ende | E9: Anzahl | F9: P/B | G9: Privat | H9: Beruf | K9: Kunde | L9: Beginn | M9: Ende | N9: Dauer | O9: Inland | P9: kosten | Q9: Spesen
E11: =D11-C11 -> 0 | F11: P | G11: =IF(F11= "P",E11,"--") -> 0 | H11: =IF(F11="B",E11,"--") -> -- | I11: =$C$3 -> 1120 Wien, Meidlinger Hauptstraße 45 | J11: =$C$4 -> 3001 Mauerbach, Hauptstraße 4 | K11: Whg-Arbeitsort-Whg | N11: =+IF((M11-L11)>12,12,(ROUNDUP((M11-L11),0))) -> 0 | O11: =IF(AND(F11="B",N11>3),N11*2.5,0) -> 0
E12: =D12-C12 -> 0 | F12: P | G12: =IF(F12= "P",E12,"--") -> 0 | H12: =IF(F12="B",E12,"--") -> -- | I12: =$C$3 -> 1120 Wien, Meidlinger Hauptstraße 45 | J12: =$C$4 -> 3001 Mauerbach, Hauptstraße 4 | K12: Whg-Arbeitsort-Whg | N12: =+IF((M12-L12)>12,12,(ROUNDUP((M12-L12),0))) -> 0 | O12: =IF(AND(F12="B",N12>3),N12*2.5,0) -> 0
E13: =D13-C13 -> 0 | F13: P | G13: =IF(F13= "P",E13,"--") -> 0 | H13: =IF(F13="B",E13,"--") -> -- | I13: =$C$3 -> 1120 Wien, Meidlinger Hauptstraße 45 | J13: =$C$4 -> 3001 Mauerbach, Hauptstraße 4 | K13: Whg-Arbeitsort-Whg | N13: =+IF((M13-L13)>12,12,(ROUNDUP((M13-L13),0))) -> 0 | O13: =IF(AND(F13="B",N13>3),N13*2.5,0) -> 0
E14: =D14-C14 -> 0 | F14: P | G14: =IF(F14= "P",E14,"--") -> 0 | H14: =IF(F14="B",E14,"--") -> -- | I14: =$C$3 -> 1120 Wien, Meidlinger Hauptstraße 45 | J14: =$C$4 -> 3001 Mauerbach, Hauptstraße 4 | K14: Whg-Arbeitsort-Whg | N14: =+IF((M14-L14)>12,12,(ROUNDUP((M14-L14),0))) -> 0 | O14: =IF(AND(F14="B",N14>3),N14*2.5,0) -> 0
E15: =D15-C15 -> 0 | F15: P | G15: =IF(F15= "P",E15,"--") -> 0 | H15: =IF(F15="B",E15,"--") -> -- | I15: =$C$3 -> 1120 Wien, Meidlinger Hauptstraße 45 | J15: =$C$4 -> 3001 Mauerbach, Hauptstraße 4 | K15: Whg-Arbeitsort-Whg | N15: =+IF((M15-L15)>12,12,(ROUNDUP((M15-L15),0))) -> 0 | O15: =IF(AND(F15="B",N15>3),N15*2.5,0) -> 0
E16: =D16-C16 -> 0 | F16: P | G16: =IF(F16= "P",E16,"--") -> 0 | H16: =IF(F16="B",E16,"--") -> -- | I16: =$C$3 -> 1120 Wien, Meidlinger Hauptstraße 45 | J16: =$C$4 -> 3001 Mauerbach, Hauptstraße 4 | K16: Whg-Arbeitsort-Whg | N16: =+IF((M16-L16)>12,12,(ROUNDUP((M16-L16),0))) -> 0 | O16: =IF(AND(F16="B",N16>3),N16*2.5,0) -> 0
E17: =D17-C17 -> 0 | F17: P | G17: =IF(F17= "P",E17,"--") -> 0 | H17: =IF(F17="B",E17,"--") -> -- | I17: =$C$3 -> 1120 Wien, Meidlinger Hauptstraße 45 | J17: =$C$4 -> 3001 Mauerbach, Hauptstraße 4 | K17: Whg-Arbeitsort-Whg | N17: =+IF((M17-L17)>12,12,(ROUNDUP((M17-L17),0))) -> 0 | O17: =IF(AND(F17="B",N17>3),N17*2.5,0) -> 0
E18: =D18-C18 -> 0 | F18: P | G18: =IF(F18= "P",E18,"--") -> 0 | H18: =IF(F18="B",E18,"--") -> -- | I18: =$C$3 -> 1120 Wien, Meidlinger Hauptstraße 45 | J18: =$C$4 -> 3001 Mauerbach, Hauptstraße 4 | K18: Whg-Arbeitsort-Whg | N18: =+IF((M18-L18)>12,12,(ROUNDUP((M18-L18),0))) -> 0 | O18: =IF(AND(F18="B",N18>3),N18*2.5,0) -> 0
E19: =D19-C19 -> 0 | F19: P | G19: =IF(F19= "P",E19,"--") -> 0 | H19: =IF(F19="B",E19,"--") -> -- | I19: =$C$3 -> 1120 Wien, Meidlinger Hauptstraße 45 | J19: =$C$4 -> 3001 Mauerbach, Hauptstraße 4 | K19: Whg-Arbeitsort-Whg | N19: =+IF((M19-L19)>12,12,(ROUNDUP((M19-L19),0))) -> 0 | O19: =IF(AND(F19="B",N19>3),N19*2.5,0) -> 0
E20: =D20-C20 -> 0 | F20: P | G20: =IF(F20= "P",E20,"--") -> 0 | H20: =IF(F20="B",E20,"--") -> -- | I20: =$C$3 -> 1120 Wien, Meidlinger Hauptstraße 45 | J20: =$C$4 -> 3001 Mauerbach, Hauptstraße 4 | K20: Whg-Arbeitsort-Whg | N20: =+IF((M20-L20)>12,12,(ROUNDUP((M20-L20),0))) -> 0 | O20: =IF(AND(F20="B",N20>3),N20*2.5,0) -> 0
E21: =D21-C21 -> 0 | F21: P | G21: =IF(F21= "P",E21,"--") -> 0 | H21: =IF(F21="B",E21,"--") -> -- | I21: =$C$3 -> 1120 Wien, Meidlinger Hauptstraße 45 | J21: =$C$4 -> 3001 Mauerbach, Hauptstraße 4 | K21: Whg-Arbeitsort-Whg | N21: =+IF((M21-L21)>12,12,(ROUNDUP((M21-L21),0))) -> 0 | O21: =IF(AND(F21="B",N21>3),N21*2.5,0) -> 0
E22: =D22-C22 -> 0 | F22: P | G22: =IF(F22= "P",E22,"--") -> 0 | H22: =IF(F22="B",E22,"--") -> -- | I22: =$C$3 -> 1120 Wien, Meidlinger Hauptstraße 45 | J22: =$C$4 -> 3001 Mauerbach, Hauptstraße 4 | K22: Whg-Arbeitsort-Whg | N22: =+IF((M22-L22)>12,12,(ROUNDUP((M22-L22),0))) -> 0 | O22: =IF(AND(F22="B",N22>3),N22*2.5,0) -> 0
... E76: =D76-C76 -> 0 | F76: P | G76: =IF(F76= "P",E76,"--") -> 0 | H76: =IF(F76="B",E76,"--") -> -- | I76: =$C$3 -> 1120 Wien, Meidlinger Hauptstraße 45 | J76: =$C$4 -> 3001 Mauerbach, Hauptstraße 4 | K76: Whg-Arbeitsort-Whg | N76: =+IF((M76-L76)>12,12,(ROUNDUP((M76-L76),0))) -> 0 | O76: =IF(AND(F76="B",N76>3),N76*2.5,0) -> 0
D78: gesamt | E78: =SUM(E11:E77) -> 0 | G78: =SUM(G11:G77) -> 0 | H78: =SUM(H11:H77) -> 0 | O78: =SUM(O10:O77) -> 0 | P78: =SUM(P10:P77) -> 0 | Q78: =SUM(Q10:Q77) -> 0
B79: Version: 1.1.

Sheet Okt.
A1: NAME: | C1: =Übersicht!C1 -> Max Mustermann | O1: Zeitraum: | P1: =Übersicht!G1 -> 2025
A2: Fahrzeug: | C2: =Übersicht!C2 -> ..
A3: Wohnort: | C3: =Übersicht!C3 -> 1120 Wien, Meidlinger Hauptstraße 45 | O3: Monat: | P3: Okt.
A4: Betriebsstätte: | C4: =Übersicht!C4 -> 3001 Mauerbach, Hauptstraße 4
B6: FAHRTENBUCH- und REISEKOSTENABRECHNUNG
B8: Datum | C8: Kilometer | I8: Ausgangsort | J8: Zielort | K8: Zweck | L8: Reise | O8: Diäten | P8: Nächtigungs- | Q8: Diverse
C9: Anfang | D9: Ende | E9: Anzahl | F9: P/B | G9: Privat | H9: Beruf | K9: Kunde | L9: Beginn | M9: Ende | N9: Dauer | O9: Inland | P9: kosten | Q9: Spesen
E11: =D11-C11 -> 0 | F11: P | G11: =IF(F11= "P",E11,"--") -> 0 | H11: =IF(F11="B",E11,"--") -> -- | I11: =$C$3 -> 1120 Wien, Meidlinger Hauptstraße 45 | J11: =$C$4 -> 3001 Mauerbach, Hauptstraße 4 | K11: Whg-Arbeitsort-Whg | N11: =+IF((M11-L11)>12,12,(ROUNDUP((M11-L11),0))) -> 0 | O11: =IF(AND(F11="B",N11>3),N11*2.5,0) -> 0
E12: =D12-C12 -> 0 | F12: P | G12: =IF(F12= "P",E12,"--") -> 0 | H12: =IF(F12="B",E12,"--") -> -- | I12: =$C$3 -> 1120 Wien, Meidlinger Hauptstraße 45 | J12: =$C$4 -> 3001 Mauerbach, Hauptstraße 4 | K12: Whg-Arbeitsort-Whg | N12: =+IF((M12-L12)>12,12,(ROUNDUP((M12-L12),0))) -> 0 | O12: =IF(AND(F12="B",N12>3),N12*2.5,0) -> 0
E13: =D13-C13 -> 0 | F13: P | G13: =IF(F13= "P",E13,"--") -> 0 | H13: =IF(F13="B",E13,"--") -> -- | I13: =$C$3 -> 1120 Wien, Meidlinger Hauptstraße 45 | J13: =$C$4 -> 3001 Mauerbach, Hauptstraße 4 | K13: Whg-Arbeitsort-Whg | N13: =+IF((M13-L13)>12,12,(ROUNDUP((M13-L13),0))) -> 0 | O13: =IF(AND(F13="B",N13>3),N13*2.5,0) -> 0
E14: =D14-C14 -> 0 | F14: P | G14: =IF(F14= "P",E14,"--") -> 0 | H14: =IF(F14="B",E14,"--") -> -- | I14: =$C$3 -> 1120 Wien, Meidlinger Hauptstraße 45 | J14: =$C$4 -> 3001 Mauerbach, Hauptstraße 4 | K14: Whg-Arbeitsort-Whg | N14: =+IF((M14-L14)>12,12,(ROUNDUP((M14-L14),0))) -> 0 | O14: =IF(AND(F14="B",N14>3),N14*2.5,0) -> 0
E15: =D15-C15 -> 0 | F15: P | G15: =IF(F15= "P",E15,"--") -> 0 | H15: =IF(F15="B",E15,"--") -> -- | I15: =$C$3 -> 1120 Wien, Meidlinger Hauptstraße 45 | J15: =$C$4 -> 3001 Mauerbach, Hauptstraße 4 | K15: Whg-Arbeitsort-Whg | N15: =+IF((M15-L15)>12,12,(ROUNDUP((M15-L15),0))) -> 0 | O15: =IF(AND(F15="B",N15>3),N15*2.5,0) -> 0
E16: =D16-C16 -> 0 | F16: P | G16: =IF(F16= "P",E16,"--") -> 0 | H16: =IF(F16="B",E16,"--") -> -- | I16: =$C$3 -> 1120 Wien, Meidlinger Hauptstraße 45 | J16: =$C$4 -> 3001 Mauerbach, Hauptstraße 4 | K16: Whg-Arbeitsort-Whg | N16: =+IF((M16-L16)>12,12,(ROUNDUP((M16-L16),0))) -> 0 | O16: =IF(AND(F16="B",N16>3),N16*2.5,0) -> 0
E17: =D17-C17 -> 0 | F17: P | G17: =IF(F17= "P",E17,"--") -> 0 | H17: =IF(F17="B",E17,"--") -> -- | I17: =$C$3 -> 1120 Wien, Meidlinger Hauptstraße 45 | J17: =$C$4 -> 3001 Mauerbach, Hauptstraße 4 | K17: Whg-Arbeitsort-Whg | N17: =+IF((M17-L17)>12,12,(ROUNDUP((M17-L17),0))) -> 0 | O17: =IF(AND(F17="B",N17>3),N17*2.5,0) -> 0
E18: =D18-C18 -> 0 | F18: P | G18: =IF(F18= "P",E18,"--") -> 0 | H18: =IF(F18="B",E18,"--") -> -- | I18: =$C$3 -> 1120 Wien, Meidlinger Hauptstraße 45 | J18: =$C$4 -> 3001 Mauerbach, Hauptstraße 4 | K18: Whg-Arbeitsort-Whg | N18: =+IF((M18-L18)>12,12,(ROUNDUP((M18-L18),0))) -> 0 | O18: =IF(AND(F18="B",N18>3),N18*2.5,0) -> 0
E19: =D19-C19 -> 0 | F19: P | G19: =IF(F19= "P",E19,"--") -> 0 | H19: =IF(F19="B",E19,"--") -> -- | I19: =$C$3 -> 1120 Wien, Meidlinger Hauptstraße 45 | J19: =$C$4 -> 3001 Mauerbach, Hauptstraße 4 | K19: Whg-Arbeitsort-Whg | N19: =+IF((M19-L19)>12,12,(ROUNDUP((M19-L19),0))) -> 0 | O19: =IF(AND(F19="B",N19>3),N19*2.5,0) -> 0
E20: =D20-C20 -> 0 | F20: P | G20: =IF(F20= "P",E20,"--") -> 0 | H20: =IF(F20="B",E20,"--") -> -- | I20: =$C$3 -> 1120 Wien, Meidlinger Hauptstraße 45 | J20: =$C$4 -> 3001 Mauerbach, Hauptstraße 4 | K20: Whg-Arbeitsort-Whg | N20: =+IF((M20-L20)>12,12,(ROUNDUP((M20-L20),0))) -> 0 | O20: =IF(AND(F20="B",N20>3),N20*2.5,0) -> 0
E21: =D21-C21 -> 0 | F21: P | G21: =IF(F21= "P",E21,"--") -> 0 | H21: =IF(F21="B",E21,"--") -> -- | I21: =$C$3 -> 1120 Wien, Meidlinger Hauptstraße 45 | J21: =$C$4 -> 3001 Mauerbach, Hauptstraße 4 | K21: Whg-Arbeitsort-Whg | N21: =+IF((M21-L21)>12,12,(ROUNDUP((M21-L21),0))) -> 0 | O21: =IF(AND(F21="B",N21>3),N21*2.5,0) -> 0
E22: =D22-C22 -> 0 | F22: P | G22: =IF(F22= "P",E22,"--") -> 0 | H22: =IF(F22="B",E22,"--") -> -- | I22: =$C$3 -> 1120 Wien, Meidlinger Hauptstraße 45 | J22: =$C$4 -> 3001 Mauerbach, Hauptstraße 4 | K22: Whg-Arbeitsort-Whg | N22: =+IF((M22-L22)>12,12,(ROUNDUP((M22-L22),0))) -> 0 | O22: =IF(AND(F22="B",N22>3),N22*2.5,0) -> 0
... E76: =D76-C76 -> 0 | F76: P | G76: =IF(F76= "P",E76,"--") -> 0 | H76: =IF(F76="B",E76,"--") -> -- | I76: =$C$3 -> 1120 Wien, Meidlinger Hauptstraße 45 | J76: =$C$4 -> 3001 Mauerbach, Hauptstraße 4 | K76: Whg-Arbeitsort-Whg | N76: =+IF((M76-L76)>12,12,(ROUNDUP((M76-L76),0))) -> 0 | O76: =IF(AND(F76="B",N76>3),N76*2.5,0) -> 0
D78: gesamt | E78: =SUM(E11:E77) -> 0 | G78: =SUM(G11:G77) -> 0 | H78: =SUM(H11:H77) -> 0 | O78: =SUM(O10:O77) -> 0 | P78: =SUM(P10:P77) -> 0 | Q78: =SUM(Q10:Q77) -> 0
B79: Version: 1.1.

Sheet Nov.
A1: NAME: | C1: =Übersicht!C1 -> Max Mustermann | O1: Zeitraum: | P1: =Übersicht!G1 -> 2025
A2: Fahrzeug: | C2: =Übersicht!C2 -> ..
A3: Wohnort: | C3: =Übersicht!C3 -> 1120 Wien, Meidlinger Hauptstraße 45 | O3: Monat: | P3: Nov.
A4: Betriebsstätte: | C4: =Übersicht!C4 -> 3001 Mauerbach, Hauptstraße 4
B6: FAHRTENBUCH- und REISEKOSTENABRECHNUNG
B8: Datum | C8: Kilometer | I8: Ausgangsort | J8: Zielort | K8: Zweck | L8: Reise | O8: Diäten | P8: Nächtigungs- | Q8: Diverse
C9: Anfang | D9: Ende | E9: Anzahl | F9: P/B | G9: Privat | H9: Beruf | K9: Kunde | L9: Beginn | M9: Ende | N9: Dauer | O9: Inland | P9: kosten | Q9: Spesen
E11: =D11-C11 -> 0 | F11: P | G11: =IF(F11= "P",E11,"--") -> 0 | H11: =IF(F11="B",E11,"--") -> -- | I11: =$C$3 -> 1120 Wien, Meidlinger Hauptstraße 45 | J11: =$C$4 -> 3001 Mauerbach, Hauptstraße 4 | K11: Whg-Arbeitsort-Whg | N11: =+IF((M11-L11)>12,12,(ROUNDUP((M11-L11),0))) -> 0 | O11: =IF(AND(F11="B",N11>3),N11*2.5,0) -> 0
E12: =D12-C12 -> 0 | F12: P | G12: =IF(F12= "P",E12,"--") -> 0 | H12: =IF(F12="B",E12,"--") -> -- | I12: =$C$3 -> 1120 Wien, Meidlinger Hauptstraße 45 | J12: =$C$4 -> 3001 Mauerbach, Hauptstraße 4 | K12: Whg-Arbeitsort-Whg | N12: =+IF((M12-L12)>12,12,(ROUNDUP((M12-L12),0))) -> 0 | O12: =IF(AND(F12="B",N12>3),N12*2.5,0) -> 0
E13: =D13-C13 -> 0 | F13: P | G13: =IF(F13= "P",E13,"--") -> 0 | H13: =IF(F13="B",E13,"--") -> -- | I13: =$C$3 -> 1120 Wien, Meidlinger Hauptstraße 45 | J13: =$C$4 -> 3001 Mauerbach, Hauptstraße 4 | K13: Whg-Arbeitsort-Whg | N13: =+IF((M13-L13)>12,12,(ROUNDUP((M13-L13),0))) -> 0 | O13: =IF(AND(F13="B",N13>3),N13*2.5,0) -> 0
E14: =D14-C14 -> 0 | F14: P | G14: =IF(F14= "P",E14,"--") -> 0 | H14: =IF(F14="B",E14,"--") -> -- | I14: =$C$3 -> 1120 Wien, Meidlinger Hauptstraße 45 | J14: =$C$4 -> 3001 Mauerbach, Hauptstraße 4 | K14: Whg-Arbeitsort-Whg | N14: =+IF((M14-L14)>12,12,(ROUNDUP((M14-L14),0))) -> 0 | O14: =IF(AND(F14="B",N14>3),N14*2.5,0) -> 0
E15: =D15-C15 -> 0 | F15: P | G15: =IF(F15= "P",E15,"--") -> 0 | H15: =IF(F15="B",E15,"--") -> -- | I15: =$C$3 -> 1120 Wien, Meidlinger Hauptstraße 45 | J15: =$C$4 -> 3001 Mauerbach, Hauptstraße 4 | K15: Whg-Arbeitsort-Whg | N15: =+IF((M15-L15)>12,12,(ROUNDUP((M15-L15),0))) -> 0 | O15: =IF(AND(F15="B",N15>3),N15*2.5,0) -> 0
E16: =D16-C16 -> 0 | F16: P | G16: =IF(F16= "P",E16,"--") -> 0 | H16: =IF(F16="B",E16,"--") -> -- | I16: =$C$3 -> 1120 Wien, Meidlinger Hauptstraße 45 | J16: =$C$4 -> 3001 Mauerbach, Hauptstraße 4 | K16: Whg-Arbeitsort-Whg | N16: =+IF((M16-L16)>12,12,(ROUNDUP((M16-L16),0))) -> 0 | O16: =IF(AND(F16="B",N16>3),N16*2.5,0) -> 0
E17: =D17-C17 -> 0 | F17: P | G17: =IF(F17= "P",E17,"--") -> 0 | H17: =IF(F17="B",E17,"--") -> -- | I17: =$C$3 -> 1120 Wien, Meidlinger Hauptstraße 45 | J17: =$C$4 -> 3001 Mauerbach, Hauptstraße 4 | K17: Whg-Arbeitsort-Whg | N17: =+IF((M17-L17)>12,12,(ROUNDUP((M17-L17),0))) -> 0 | O17: =IF(AND(F17="B",N17>3),N17*2.5,0) -> 0
E18: =D18-C18 -> 0 | F18: P | G18: =IF(F18= "P",E18,"--") -> 0 | H18: =IF(F18="B",E18,"--") -> -- | I18: =$C$3 -> 1120 Wien, Meidlinger Hauptstraße 45 | J18: =$C$4 -> 3001 Mauerbach, Hauptstraße 4 | K18: Whg-Arbeitsort-Whg | N18: =+IF((M18-L18)>12,12,(ROUNDUP((M18-L18),0))) -> 0 | O18: =IF(AND(F18="B",N18>3),N18*2.5,0) -> 0
E19: =D19-C19 -> 0 | F19: P | G19: =IF(F19= "P",E19,"--") -> 0 | H19: =IF(F19="B",E19,"--") -> -- | I19: =$C$3 -> 1120 Wien, Meidlinger Hauptstraße 45 | J19: =$C$4 -> 3001 Mauerbach, Hauptstraße 4 | K19: Whg-Arbeitsort-Whg | N19: =+IF((M19-L19)>12,12,(ROUNDUP((M19-L19),0))) -> 0 | O19: =IF(AND(F19="B",N19>3),N19*2.5,0) -> 0
E20: =D20-C20 -> 0 | F20: P | G20: =IF(F20= "P",E20,"--") -> 0 | H20: =IF(F20="B",E20,"--") -> -- | I20: =$C$3 -> 1120 Wien, Meidlinger Hauptstraße 45 | J20: =$C$4 -> 3001 Mauerbach, Hauptstraße 4 | K20: Whg-Arbeitsort-Whg | N20: =+IF((M20-L20)>12,12,(ROUNDUP((M20-L20),0))) -> 0 | O20: =IF(AND(F20="B",N20>3),N20*2.5,0) -> 0
E21: =D21-C21 -> 0 | F21: P | G21: =IF(F21= "P",E21,"--") -> 0 | H21: =IF(F21="B",E21,"--") -> -- | I21: =$C$3 -> 1120 Wien, Meidlinger Hauptstraße 45 | J21: =$C$4 -> 3001 Mauerbach, Hauptstraße 4 | K21: Whg-Arbeitsort-Whg | N21: =+IF((M21-L21)>12,12,(ROUNDUP((M21-L21),0))) -> 0 | O21: =IF(AND(F21="B",N21>3),N21*2.5,0) -> 0
E22: =D22-C22 -> 0 | F22: P | G22: =IF(F22= "P",E22,"--") -> 0 | H22: =IF(F22="B",E22,"--") -> -- | I22: =$C$3 -> 1120 Wien, Meidlinger Hauptstraße 45 | J22: =$C$4 -> 3001 Mauerbach, Hauptstraße 4 | K22: Whg-Arbeitsort-Whg | N22: =+IF((M22-L22)>12,12,(ROUNDUP((M22-L22),0))) -> 0 | O22: =IF(AND(F22="B",N22>3),N22*2.5,0) -> 0
... E76: =D76-C76 -> 0 | F76: P | G76: =IF(F76= "P",E76,"--") -> 0 | H76: =IF(F76="B",E76,"--") -> -- | I76: =$C$3 -> 1120 Wien, Meidlinger Hauptstraße 45 | J76: =$C$4 -> 3001 Mauerbach, Hauptstraße 4 | K76: Whg-Arbeitsort-Whg | N76: =+IF((M76-L76)>12,12,(ROUNDUP((M76-L76),0))) -> 0 | O76: =IF(AND(F76="B",N76>3),N76*2.5,0) -> 0
D78: gesamt | E78: =SUM(E11:E77) -> 0 | G78: =SUM(G11:G77) -> 0 | H78: =SUM(H11:H77) -> 0 | O78: =SUM(O10:O77) -> 0 | P78: =SUM(P10:P77) -> 0 | Q78: =SUM(Q10:Q77) -> 0
B79: Version: 1.1.

Sheet Dez.
A1: NAME: | C1: =Übersicht!C1 -> Max Mustermann | O1: Zeitraum: | P1: =Übersicht!G1 -> 2025
A2: Fahrzeug: | C2: =Übersicht!C2 -> ..
A3: Wohnort: | C3: =Übersicht!C3 -> 1120 Wien, Meidlinger Hauptstraße 45 | O3: Monat: | P3: Dez.
A4: Betriebsstätte: | C4: =Übersicht!C4 -> 3001 Mauerbach, Hauptstraße 4
B6: FAHRTENBUCH- und REISEKOSTENABRECHNUNG
B8: Datum | C8: Kilometer | I8: Ausgangsort | J8: Zielort | K8: Zweck | L8: Reise | O8: Diäten | P8: Nächtigungs- | Q8: Diverse
C9: Anfang | D9: Ende | E9: Anzahl | F9: P/B | G9: Privat | H9: Beruf | K9: Kunde | L9: Beginn | M9: Ende | N9: Dauer | O9: Inland | P9: kosten | Q9: Spesen
E11: =D11-C11 -> 0 | F11: P | G11: =IF(F11= "P",E11,"--") -> 0 | H11: =IF(F11="B",E11,"--") -> -- | I11: =$C$3 -> 1120 Wien, Meidlinger Hauptstraße 45 | J11: =$C$4 -> 3001 Mauerbach, Hauptstraße 4 | K11: Whg-Arbeitsort-Whg | N11: =+IF((M11-L11)>12,12,(ROUNDUP((M11-L11),0))) -> 0 | O11: =IF(AND(F11="B",N11>3),N11*2.5,0) -> 0
E12: =D12-C12 -> 0 | F12: P | G12: =IF(F12= "P",E12,"--") -> 0 | H12: =IF(F12="B",E12,"--") -> -- | I12: =$C$3 -> 1120 Wien, Meidlinger Hauptstraße 45 | J12: =$C$4 -> 3001 Mauerbach, Hauptstraße 4 | K12: Whg-Arbeitsort-Whg | N12: =+IF((M12-L12)>12,12,(ROUNDUP((M12-L12),0))) -> 0 | O12: =IF(AND(F12="B",N12>3),N12*2.5,0) -> 0
E13: =D13-C13 -> 0 | F13: P | G13: =IF(F13= "P",E13,"--") -> 0 | H13: =IF(F13="B",E13,"--") -> -- | I13: =$C$3 -> 1120 Wien, Meidlinger Hauptstraße 45 | J13: =$C$4 -> 3001 Mauerbach, Hauptstraße 4 | K13: Whg-Arbeitsort-Whg | N13: =+IF((M13-L13)>12,12,(ROUNDUP((M13-L13),0))) -> 0 | O13: =IF(AND(F13="B",N13>3),N13*2.5,0) -> 0
E14: =D14-C14 -> 0 | F14: P | G14: =IF(F14= "P",E14,"--") -> 0 | H14: =IF(F14="B",E14,"--") -> -- | I14: =$C$3 -> 1120 Wien, Meidlinger Hauptstraße 45 | J14: =$C$4 -> 3001 Mauerbach, Hauptstraße 4 | K14: Whg-Arbeitsort-Whg | N14: =+IF((M14-L14)>12,12,(ROUNDUP((M14-L14),0))) -> 0 | O14: =IF(AND(F14="B",N14>3),N14*2.5,0) -> 0
E15: =D15-C15 -> 0 | F15: P | G15: =IF(F15= "P",E15,"--") -> 0 | H15: =IF(F15="B",E15,"--") -> -- | I15: =$C$3 -> 1120 Wien, Meidlinger Hauptstraße 45 | J15: =$C$4 -> 3001 Mauerbach, Hauptstraße 4 | K15: Whg-Arbeitsort-Whg | N15: =+IF((M15-L15)>12,12,(ROUNDUP((M15-L15),0))) -> 0 | O15: =IF(AND(F15="B",N15>3),N15*2.5,0) -> 0
E16: =D16-C16 -> 0 | F16: P | G16: =IF(F16= "P",E16,"--") -> 0 | H16: =IF(F16="B",E16,"--") -> -- | I16: =$C$3 -> 1120 Wien, Meidlinger Hauptstraße 45 | J16: =$C$4 -> 3001 Mauerbach, Hauptstraße 4 | K16: Whg-Arbeitsort-Whg | N16: =+IF((M16-L16)>12,12,(ROUNDUP((M16-L16),0))) -> 0 | O16: =IF(AND(F16="B",N16>3),N16*2.5,0) -> 0
E17: =D17-C17 -> 0 | F17: P | G17: =IF(F17= "P",E17,"--") -> 0 | H17: =IF(F17="B",E17,"--") -> -- | I17: =$C$3 -> 1120 Wien, Meidlinger Hauptstraße 45 | J17: =$C$4 -> 3001 Mauerbach, Hauptstraße 4 | K17: Whg-Arbeitsort-Whg | N17: =+IF((M17-L17)>12,12,(ROUNDUP((M17-L17),0))) -> 0 | O17: =IF(AND(F17="B",N17>3),N17*2.5,0) -> 0
E18: =D18-C18 -> 0 | F18: P | G18: =IF(F18= "P",E18,"--") -> 0 | H18: =IF(F18="B",E18,"--") -> -- | I18: =$C$3 -> 1120 Wien, Meidlinger Hauptstraße 45 | J18: =$C$4 -> 3001 Mauerbach, Hauptstraße 4 | K18: Whg-Arbeitsort-Whg | N18: =+IF((M18-L18)>12,12,(ROUNDUP((M18-L18),0))) -> 0 | O18: =IF(AND(F18="B",N18>3),N18*2.5,0) -> 0
E19: =D19-C19 -> 0 | F19: P | G19: =IF(F19= "P",E19,"--") -> 0 | H19: =IF(F19="B",E19,"--") -> -- | I19: =$C$3 -> 1120 Wien, Meidlinger Hauptstraße 45 | J19: =$C$4 -> 3001 Mauerbach, Hauptstraße 4 | K19: Whg-Arbeitsort-Whg | N19: =+IF((M19-L19)>12,12,(ROUNDUP((M19-L19),0))) -> 0 | O19: =IF(AND(F19="B",N19>3),N19*2.5,0) -> 0
E20: =D20-C20 -> 0 | F20: P | G20: =IF(F20= "P",E20,"--") -> 0 | H20: =IF(F20="B",E20,"--") -> -- | I20: =$C$3 -> 1120 Wien, Meidlinger Hauptstraße 45 | J20: =$C$4 -> 3001 Mauerbach, Hauptstraße 4 | K20: Whg-Arbeitsort-Whg | N20: =+IF((M20-L20)>12,12,(ROUNDUP((M20-L20),0))) -> 0 | O20: =IF(AND(F20="B",N20>3),N20*2.5,0) -> 0
E21: =D21-C21 -> 0 | F21: P | G21: =IF(F21= "P",E21,"--") -> 0 | H21: =IF(F21="B",E21,"--") -> -- | I21: =$C$3 -> 1120 Wien, Meidlinger Hauptstraße 45 | J21: =$C$4 -> 3001 Mauerbach, Hauptstraße 4 | K21: Whg-Arbeitsort-Whg | N21: =+IF((M21-L21)>12,12,(ROUNDUP((M21-L21),0))) -> 0 | O21: =IF(AND(F21="B",N21>3),N21*2.5,0) -> 0
E22: =D22-C22 -> 0 | F22: P | G22: =IF(F22= "P",E22,"--") -> 0 | H22: =IF(F22="B",E22,"--") -> -- | I22: =$C$3 -> 1120 Wien, Meidlinger Hauptstraße 45 | J22: =$C$4 -> 3001 Mauerbach, Hauptstraße 4 | K22: Whg-Arbeitsort-Whg | N22: =+IF((M22-L22)>12,12,(ROUNDUP((M22-L22),0))) -> 0 | O22: =IF(AND(F22="B",N22>3),N22*2.5,0) -> 0
... E76: =D76-C76 -> 0 | F76: P | G76: =IF(F76= "P",E76,"--") -> 0 | H76: =IF(F76="B",E76,"--") -> -- | I76: =$C$3 -> 1120 Wien, Meidlinger Hauptstraße 45 | J76: =$C$4 -> 3001 Mauerbach, Hauptstraße 4 | K76: Whg-Arbeitsort-Whg | N76: =+IF((M76-L76)>12,12,(ROUNDUP((M76-L76),0))) -> 0 | O76: =IF(AND(F76="B",N76>3),N76*2.5,0) -> 0
D78: gesamt | E78: =SUM(E11:E77) -> 0 | G78: =SUM(G11:G77) -> 0 | H78: =SUM(H11:H77) -> 0 | O78: =SUM(O10:O77) -> 0 | P78: =SUM(P10:P77) -> 0 | Q78: =SUM(Q10:Q77) -> 0
B79: Version: 1.1.
