Workbook

Sheet Übersicht
B1: NAME: | C1: Psychotherapeutin | F1: Jahr: | G1: =Jänner!O1 -> 2025
B2: Fahrzeug: | C2: W 12345
B3: Wohnort: | C3: 1150 Wien Markgraf Rüdigerstr. 15
B5: vereinbartes Entgelt/km | D5: 0.5
C8: km | D8: Km-Geld
B10: Jänner | C10: =Jänner!G38 -> 0 | D10: =Jänner!J38 -> 0
B11: Februar | C11: =Februar!G38 -> 0 | D11: =Februar!J38 -> 0
B12: März | C12: =März!G38 -> 0 | D12: =März!J38 -> 0
B13: April | C13: =April!G38 -> 0 | D13: =April!J38 -> 0
B14: Mai | C14: =Mai!G38 -> 0 | D14: =Mai!J38 -> 0
B15: Juni | C15: =Juni!G38 -> 0 | D15: =Juni!J38 -> 0
B16: Juli | C16: =Juli!G38 -> 0 | D16: =Juli!J38 -> 0
B17: August | C17: =August!G38 -> 0 | D17: =August!J38 -> 0
B18: September | C18: =Sept.!G38 -> 0 | D18: =Sept.!J38 -> 0
B19: Oktober | C19: =Okt.!G38 -> 0 | D19: =Okt.!J38 -> 0
B20: November | C20: =Nov.!G38 -> 0 | D20: =Nov.!J38 -> 0
B21: Dezember | C21: =Dez.!G38 -> 0 | D21: =Dez.!J38 -> 0
C23: =SUM(C10:C22) -> 0 | D23: =SUM(D10:D22) -> 0

Sheet Jänner
A1: =Übersicht!B1 -> NAME: | C1: =Übersicht!C1 -> Psychotherapeutin | N1: Zeitraum: | O1: 2025
A2: =Übersicht!B2 -> Fahrzeug: | C2: =Übersicht!C2 -> W 12345
A3: =Übersicht!B3 -> Wohnort: | C3: =Übersicht!C3 -> 1150 Wien Markgraf Rüdigerstr. 15
B5: FAHRTENBUCH- und REISEKOSTENABRECHNUNG
B7: DATUM | C7: Kilometer | H7: Ausgangsort | I7: Zielort | J7: Zweck | K7: Reise | N7: Diäten | O7: Nächtigungs- | P7: Diverse
C8: Anfang | D8: Ende | E8: Anzahl | F8: P/B | G8: beruflich | J8: Kunde | K8: Beginn | L8: Ende | M8: Dauer | N8: Inland | O8: kosten | P8: Spesen
C9: 15000 | D9: =C9+E9 -> 15000 | F9: P | G9: =IF(F9="B",E9,"--") -> -- | H9: =Übersicht!$C$3 -> 1150 Wien Markgraf Rüdigerstr. 15 | M9: =+IF((L9-K9)>12,12,(ROUNDUP((L9-K9),0))) -> 0 | N9: =IF(M9>3,M9*2.5,0) -> 0
C10: =D9 -> 15000 | D10: =C10+E10 -> 15000 | F10: P | G10: =IF(F10="B",E10,"--") -> -- | H10: =Übersicht!$C$3 -> 1150 Wien Markgraf Rüdigerstr. 15 | M10: =+IF((L10-K10)>12,12,(ROUNDUP((L10-K10),0))) -> 0 | N10: =IF(M10>3,M10*2.5,0) -> 0
C11: =D10 -> 15000 | D11: =C11+E11 -> 15000 | F11: P | G11: =IF(F11="B",E11,"--") -> -- | H11: =Übersicht!$C$3 -> 1150 Wien Markgraf Rüdigerstr. 15 | M11: =+IF((L11-K11)>12,12,(ROUNDUP((L11-K11),0))) -> 0 | N11: =IF(M11>3,M11*2.5,0) -> 0
C12: =D11 -> 15000 | D12: =C12+E12 -> 15000 | F12: P | G12: =IF(F12="B",E12,"--") -> -- | H12: =Übersicht!$C$3 -> 1150 Wien Markgraf Rüdigerstr. 15 | M12: =+IF((L12-K12)>12,12,(ROUNDUP((L12-K12),0))) -> 0 | N12: =IF(M12>3,M12*2.5,0) -> 0
C13: =D12 -> 15000 | D13: =C13+E13 -> 15000 | F13: P | G13: =IF(F13="B",E13,"--") -> -- | H13: =Übersicht!$C$3 -> 1150 Wien Markgraf Rüdigerstr. 15 | M13: =+IF((L13-K13)>12,12,(ROUNDUP((L13-K13),0))) -> 0 | N13: =IF(M13>3,M13*2.5,0) -> 0
C14: =D13 -> 15000 | D14: =C14+E14 -> 15000 | F14: P | G14: =IF(F14="B",E14,"--") -> -- | H14: =Übersicht!$C$3 -> 1150 Wien Markgraf Rüdigerstr. 15 | M14: =+IF((L14-K14)>12,12,(ROUNDUP((L14-K14),0))) -> 0 | N14: =IF(M14>3,M14*2.5,0) -> 0
C15: =D14 -> 15000 | D15: =C15+E15 -> 15000 | F15: P | G15: =IF(F15="B",E15,"--") -> -- | H15: =Übersicht!$C$3 -> 1150 Wien Markgraf Rüdigerstr. 15 | M15: =+IF((L15-K15)>12,12,(ROUNDUP((L15-K15),0))) -> 0 | N15: =IF(M15>3,M15*2.5,0) -> 0
C16: =D15 -> 15000 | D16: =C16+E16 -> 15000 | F16: P | G16: =IF(F16="B",E16,"--") -> -- | H16: =Übersicht!$C$3 -> 1150 Wien Markgraf Rüdigerstr. 15 | M16: =+IF((L16-K16)>12,12,(ROUNDUP((L16-K16),0))) -> 0 | N16: =IF(M16>3,M16*2.5,0) -> 0
C17: =D16 -> 15000 | D17: =C17+E17 -> 15000 | F17: P | G17: =IF(F17="B",E17,"--") -> -- | H17: =Übersicht!$C$3 -> 1150 Wien Markgraf Rüdigerstr. 15 | M17: =+IF((L17-K17)>12,12,(ROUNDUP((L17-K17),0))) -> 0 | N17: =IF(M17>3,M17*2.5,0) -> 0
C18: =D17 -> 15000 | D18: =C18+E18 -> 15000 | F18: P | G18: =IF(F18="B",E18,"--") -> -- | H18: =Übersicht!$C$3 -> 1150 Wien Markgraf Rüdigerstr. 15 | M18: =+IF((L18-K18)>12,12,(ROUNDUP((L18-K18),0))) -> 0 | N18: =IF(M18>3,M18*2.5,0) -> 0
C19: =D18 -> 15000 | D19: =C19+E19 -> 15000 | F19: P | G19: =IF(F19="B",E19,"--") -> -- | H19: =Übersicht!$C$3 -> 1150 Wien Markgraf Rüdigerstr. 15 | M19: =+IF((L19-K19)>12,12,(ROUNDUP((L19-K19),0))) -> 0 | N19: =IF(M19>3,M19*2.5,0) -> 0
C20: =D19 -> 15000 | D20: =C20+E20 -> 15000 | F20: P | G20: =IF(F20="B",E20,"--") -> -- | H20: =Übersicht!$C$3 -> 1150 Wien Markgraf Rüdigerstr. 15 | M20: =+IF((L20-K20)>12,12,(ROUNDUP((L20-K20),0))) -> 0 | N20: =IF(M20>3,M20*2.5,0) -> 0
C21: =D20 -> 15000 | D21: =C21+E21 -> 15000 | F21: P | G21: =IF(F21="B",E21,"--") -> -- | H21: =Übersicht!$C$3 -> 1150 Wien Markgraf Rüdigerstr. 15 | M21: =+IF((L21-K21)>12,12,(ROUNDUP((L21-K21),0))) -> 0 | N21: =IF(M21>3,M21*2.5,0) -> 0
... C36: =D35 -> 15000 | D36: =C36+E36 -> 15000 | F36: P | G36: =IF(F36="B",E36,"--") -> -- | H36: =Übersicht!$C$3 -> 1150 Wien Markgraf Rüdigerstr. 15 | M36: =+IF((L36-K36)>12,12,(ROUNDUP((L36-K36),0))) -> 0 | N36: =IF(M36>3,M36*2.5,0) -> 0
D38: gesamt | G38: =SUM(G9:G36) -> 0 | H38: Ersatz/Kilometer | I38: 0.5 | J38: =G38*I38 -> 0 | N38: =SUM(N9:N37) -> 0 | O38: =SUM(O9:O37) -> 0 | P38: =SUM(P9:P37) -> 0
B39: Version: 1.1.

Sheet Februar
A1: =Übersicht!B1 -> NAME: | C1: =Übersicht!C1 -> Psychotherapeutin | N1: Zeitraum: | O1: 2025
A2: =Übersicht!B2 -> Fahrzeug: | C2: =Übersicht!C2 -> W 12345
A3: =Übersicht!B3 -> Wohnort: | C3: =Übersicht!C3 -> 1150 Wien Markgraf Rüdigerstr. 15
B5: FAHRTENBUCH- und REISEKOSTENABRECHNUNG
B7: DATUM | C7: Kilometer | H7: Ausgangsort | I7: Zielort | J7: Zweck | K7: Reise | N7: Diäten | O7: Nächtigungs- | P7: Diverse
C8: Anfang | D8: Ende | E8: Anzahl | F8: P/B | G8: beruflich | J8: Kunde | K8: Beginn | L8: Ende | M8: Dauer | N8: Inland | O8: kosten | P8: Spesen
C9: =Jänner!D36 -> 15000 | D9: =C9+E9 -> 15000 | F9: P | G9: =IF(F9="B",E9,"--") -> -- | H9: =Übersicht!$C$3 -> 1150 Wien Markgraf Rüdigerstr. 15 | M9: =+IF((L9-K9)>12,12,(ROUNDUP((L9-K9),0))) -> 0 | N9: =IF(M9>3,M9*2.5,0) -> 0
C10: =D9 -> 15000 | D10: =C10+E10 -> 15000 | F10: P | G10: =IF(F10="B",E10,"--") -> -- | H10: =Übersicht!$C$3 -> 1150 Wien Markgraf Rüdigerstr. 15 | M10: =+IF((L10-K10)>12,12,(ROUNDUP((L10-K10),0))) -> 0 | N10: =IF(M10>3,M10*2.5,0) -> 0
C11: =D10 -> 15000 | D11: =C11+E11 -> 15000 | F11: P | G11: =IF(F11="B",E11,"--") -> -- | H11: =Übersicht!$C$3 -> 1150 Wien Markgraf Rüdigerstr. 15 | M11: =+IF((L11-K11)>12,12,(ROUNDUP((L11-K11),0))) -> 0 | N11: =IF(M11>3,M11*2.5,0) -> 0
C12: =D11 -> 15000 | D12: =C12+E12 -> 15000 | F12: P | G12: =IF(F12="B",E12,"--") -> -- | H12: =Übersicht!$C$3 -> 1150 Wien Markgraf Rüdigerstr. 15 | M12: =+IF((L12-K12)>12,12,(ROUNDUP((L12-K12),0))) -> 0 | N12: =IF(M12>3,M12*2.5,0) -> 0
C13: =D12 -> 15000 | D13: =C13+E13 -> 15000 | F13: P | G13: =IF(F13="B",E13,"--") -> -- | H13: =Übersicht!$C$3 -> 1150 Wien Markgraf Rüdigerstr. 15 | M13: =+IF((L13-K13)>12,12,(ROUNDUP((L13-K13),0))) -> 0 | N13: =IF(M13>3,M13*2.5,0) -> 0
C14: =D13 -> 15000 | D14: =C14+E14 -> 15000 | F14: P | G14: =IF(F14="B",E14,"--") -> -- | H14: =Übersicht!$C$3 -> 1150 Wien Markgraf Rüdigerstr. 15 | M14: =+IF((L14-K14)>12,12,(ROUNDUP((L14-K14),0))) -> 0 | N14: =IF(M14>3,M14*2.5,0) -> 0
C15: =D14 -> 15000 | D15: =C15+E15 -> 15000 | F15: P | G15: =IF(F15="B",E15,"--") -> -- | H15: =Übersicht!$C$3 -> 1150 Wien Markgraf Rüdigerstr. 15 | M15: =+IF((L15-K15)>12,12,(ROUNDUP((L15-K15),0))) -> 0 | N15: =IF(M15>3,M15*2.5,0) -> 0
C16: =D15 -> 15000 | D16: =C16+E16 -> 15000 | F16: P | G16: =IF(F16="B",E16,"--") -> -- | H16: =Übersicht!$C$3 -> 1150 Wien Markgraf Rüdigerstr. 15 | M16: =+IF((L16-K16)>12,12,(ROUNDUP((L16-K16),0))) -> 0 | N16: =IF(M16>3,M16*2.5,0) -> 0
C17: =D16 -> 15000 | D17: =C17+E17 -> 15000 | F17: P | G17: =IF(F17="B",E17,"--") -> -- | H17: =Übersicht!$C$3 -> 1150 Wien Markgraf Rüdigerstr. 15 | M17: =+IF((L17-K17)>12,12,(ROUNDUP((L17-K17),0))) -> 0 | N17: =IF(M17>3,M17*2.5,0) -> 0
C18: =D17 -> 15000 | D18: =C18+E18 -> 15000 | F18: P | G18: =IF(F18="B",E18,"--") -> -- | H18: =Übersicht!$C$3 -> 1150 Wien Markgraf Rüdigerstr. 15 | M18: =+IF((L18-K18)>12,12,(ROUNDUP((L18-K18),0))) -> 0 | N18: =IF(M18>3,M18*2.5,0) -> 0
C19: =D18 -> 15000 | D19: =C19+E19 -> 15000 | F19: P | G19: =IF(F19="B",E19,"--") -> -- | H19: =Übersicht!$C$3 -> 1150 Wien Markgraf Rüdigerstr. 15 | M19: =+IF((L19-K19)>12,12,(ROUNDUP((L19-K19),0))) -> 0 | N19: =IF(M19>3,M19*2.5,0) -> 0
C20: =D19 -> 15000 | D20: =C20+E20 -> 15000 | F20: P | G20: =IF(F20="B",E20,"--") -> -- | H20: =Übersicht!$C$3 -> 1150 Wien Markgraf Rüdigerstr. 15 | M20: =+IF((L20-K20)>12,12,(ROUNDUP((L20-K20),0))) -> 0 | N20: =IF(M20>3,M20*2.5,0) -> 0
C21: =D20 -> 15000 | D21: =C21+E21 -> 15000 | F21: P | G21: =IF(F21="B",E21,"--") -> -- | H21: =Übersicht!$C$3 -> 1150 Wien Markgraf Rüdigerstr. 15 | M21: =+IF((L21-K21)>12,12,(ROUNDUP((L21-K21),0))) -> 0 | N21: =IF(M21>3,M21*2.5,0) -> 0
... C36: =D35 -> 15000 | D36: =C36+E36 -> 15000 | F36: P | G36: =IF(F36="B",E36,"--") -> -- | H36: =Übersicht!$C$3 -> 1150 Wien Markgraf Rüdigerstr. 15 | M36: =+IF((L36-K36)>12,12,(ROUNDUP((L36-K36),0))) -> 0 | N36: =IF(M36>3,M36*2.5,0) -> 0
D38: gesamt | G38: =SUM(G9:G36) -> 0 | H38: Ersatz/Kilometer | I38: 0.5 | J38: =G38*I38 -> 0 | N38: =SUM(N9:N37) -> 0 | O38: =SUM(O9:O37) -> 0 | P38: =SUM(P9:P37) -> 0
B39: Version: 1.1.

Sheet März
A1: =Übersicht!B1 -> NAME: | C1: =Übersicht!C1 -> Psychotherapeutin | N1: Zeitraum: | O1: 2025
A2: =Übersicht!B2 -> Fahrzeug: | C2: =Übersicht!C2 -> W 12345
A3: =Übersicht!B3 -> Wohnort: | C3: =Übersicht!C3 -> 1150 Wien Markgraf Rüdigerstr. 15
B5: FAHRTENBUCH- und REISEKOSTENABRECHNUNG
B7: DATUM | C7: Kilometer | H7: Ausgangsort | I7: Zielort | J7: Zweck | K7: Reise | N7: Diäten | O7: Nächtigungs- | P7: Diverse
C8: Anfang | D8: Ende | E8: Anzahl | F8: P/B | G8: beruflich | J8: Kunde | K8: Beginn | L8: Ende | M8: Dauer | N8: Inland | O8: kosten | P8: Spesen
C9: =Februar!D36 -> 15000 | D9: =C9+E9 -> 15000 | F9: P | G9: =IF(F9="B",E9,"--") -> -- | H9: =Übersicht!$C$3 -> 1150 Wien Markgraf Rüdigerstr. 15 | M9: =+IF((L9-K9)>12,12,(ROUNDUP((L9-K9),0))) -> 0 | N9: =IF(M9>3,M9*2.5,0) -> 0
C10: =D9 -> 15000 | D10: =C10+E10 -> 15000 | F10: P | G10: =IF(F10="B",E10,"--") -> -- | H10: =Übersicht!$C$3 -> 1150 Wien Markgraf Rüdigerstr. 15 | M10: =+IF((L10-K10)>12,12,(ROUNDUP((L10-K10),0))) -> 0 | N10: =IF(M10>3,M10*2.5,0) -> 0
C11: =D10 -> 15000 | D11: =C11+E11 -> 15000 | F11: P | G11: =IF(F11="B",E11,"--") -> -- | H11: =Übersicht!$C$3 -> 1150 Wien Markgraf Rüdigerstr. 15 | M11: =+IF((L11-K11)>12,12,(ROUNDUP((L11-K11),0))) -> 0 | N11: =IF(M11>3,M11*2.5,0) -> 0
C12: =D11 -> 15000 | D12: =C12+E12 -> 15000 | F12: P | G12: =IF(F12="B",E12,"--") -> -- | H12: =Übersicht!$C$3 -> 1150 Wien Markgraf Rüdigerstr. 15 | M12: =+IF((L12-K12)>12,12,(ROUNDUP((L12-K12),0))) -> 0 | N12: =IF(M12>3,M12*2.5,0) -> 0
C13: =D12 -> 15000 | D13: =C13+E13 -> 15000 | F13: P | G13: =IF(F13="B",E13,"--") -> -- | H13: =Übersicht!$C$3 -> 1150 Wien Markgraf Rüdigerstr. 15 | M13: =+IF((L13-K13)>12,12,(ROUNDUP((L13-K13),0))) -> 0 | N13: =IF(M13>3,M13*2.5,0) -> 0
C14: =D13 -> 15000 | D14: =C14+E14 -> 15000 | F14: P | G14: =IF(F14="B",E14,"--") -> -- | H14: =Übersicht!$C$3 -> 1150 Wien Markgraf Rüdigerstr. 15 | M14: =+IF((L14-K14)>12,12,(ROUNDUP((L14-K14),0))) -> 0 | N14: =IF(M14>3,M14*2.5,0) -> 0
C15: =D14 -> 15000 | D15: =C15+E15 -> 15000 | F15: P | G15: =IF(F15="B",E15,"--") -> -- | H15: =Übersicht!$C$3 -> 1150 Wien Markgraf Rüdigerstr. 15 | M15: =+IF((L15-K15)>12,12,(ROUNDUP((L15-K15),0))) -> 0 | N15: =IF(M15>3,M15*2.5,0) -> 0
C16: =D15 -> 15000 | D16: =C16+E16 -> 15000 | F16: P | G16: =IF(F16="B",E16,"--") -> -- | H16: =Übersicht!$C$3 -> 1150 Wien Markgraf Rüdigerstr. 15 | M16: =+IF((L16-K16)>12,12,(ROUNDUP((L16-K16),0))) -> 0 | N16: =IF(M16>3,M16*2.5,0) -> 0
C17: =D16 -> 15000 | D17: =C17+E17 -> 15000 | F17: P | G17: =IF(F17="B",E17,"--") -> -- | H17: =Übersicht!$C$3 -> 1150 Wien Markgraf Rüdigerstr. 15 | M17: =+IF((L17-K17)>12,12,(ROUNDUP((L17-K17),0))) -> 0 | N17: =IF(M17>3,M17*2.5,0) -> 0
C18: =D17 -> 15000 | D18: =C18+E18 -> 15000 | F18: P | G18: =IF(F18="B",E18,"--") -> -- | H18: =Übersicht!$C$3 -> 1150 Wien Markgraf Rüdigerstr. 15 | M18: =+IF((L18-K18)>12,12,(ROUNDUP((L18-K18),0))) -> 0 | N18: =IF(M18>3,M18*2.5,0) -> 0
C19: =D18 -> 15000 | D19: =C19+E19 -> 15000 | F19: P | G19: =IF(F19="B",E19,"--") -> -- | H19: =Übersicht!$C$3 -> 1150 Wien Markgraf Rüdigerstr. 15 | M19: =+IF((L19-K19)>12,12,(ROUNDUP((L19-K19),0))) -> 0 | N19: =IF(M19>3,M19*2.5,0) -> 0
C20: =D19 -> 15000 | D20: =C20+E20 -> 15000 | F20: P | G20: =IF(F20="B",E20,"--") -> -- | H20: =Übersicht!$C$3 -> 1150 Wien Markgraf Rüdigerstr. 15 | M20: =+IF((L20-K20)>12,12,(ROUNDUP((L20-K20),0))) -> 0 | N20: =IF(M20>3,M20*2.5,0) -> 0
C21: =D20 -> 15000 | D21: =C21+E21 -> 15000 | F21: P | G21: =IF(F21="B",E21,"--") -> -- | H21: =Übersicht!$C$3 -> 1150 Wien Markgraf Rüdigerstr. 15 | M21: =+IF((L21-K21)>12,12,(ROUNDUP((L21-K21),0))) -> 0 | N21: =IF(M21>3,M21*2.5,0) -> 0
... C36: =D35 -> 15000 | D36: =C36+E36 -> 15000 | F36: P | G36: =IF(F36="B",E36,"--") -> -- | H36: =Übersicht!$C$3 -> 1150 Wien Markgraf Rüdigerstr. 15 | M36: =+IF((L36-K36)>12,12,(ROUNDUP((L36-K36),0))) -> 0 | N36: =IF(M36>3,M36*2.5,0) -> 0
D38: gesamt | G38: =SUM(G9:G36) -> 0 | H38: Ersatz/Kilometer | I38: 0.5 | J38: =G38*I38 -> 0 | N38: =SUM(N9:N37) -> 0 | O38: =SUM(O9:O37) -> 0 | P38: =SUM(P9:P37) -> 0
B39: Version: 1.1.

Sheet April
A1: =Übersicht!B1 -> NAME: | C1: =Übersicht!C1 -> Psychotherapeutin | N1: Zeitraum: | O1: 2025
A2: =Übersicht!B2 -> Fahrzeug: | C2: =Übersicht!C2 -> W 12345
A3: =Übersicht!B3 -> Wohnort: | C3: =Übersicht!C3 -> 1150 Wien Markgraf Rüdigerstr. 15
B5: FAHRTENBUCH- und REISEKOSTENABRECHNUNG
B7: DATUM | C7: Kilometer | H7: Ausgangsort | I7: Zielort | J7: Zweck | K7: Reise | N7: Diäten | O7: Nächtigungs- | P7: Diverse
C8: Anfang | D8: Ende | E8: Anzahl | F8: P/B | G8: beruflich | J8: Kunde | K8: Beginn | L8: Ende | M8: Dauer | N8: Inland | O8: kosten | P8: Spesen
C9: =März!D36 -> 15000 | D9: =C9+E9 -> 15000 | F9: P | G9: =IF(F9="B",E9,"--") -> -- | H9: =Übersicht!$C$3 -> 1150 Wien Markgraf Rüdigerstr. 15 | M9: =+IF((L9-K9)>12,12,(ROUNDUP((L9-K9),0))) -> 0 | N9: =IF(M9>3,M9*2.5,0) -> 0
C10: =D9 -> 15000 | D10: =C10+E10 -> 15000 | F10: P | G10: =IF(F10="B",E10,"--") -> -- | H10: =Übersicht!$C$3 -> 1150 Wien Markgraf Rüdigerstr. 15 | M10: =+IF((L10-K10)>12,12,(ROUNDUP((L10-K10),0))) -> 0 | N10: =IF(M10>3,M10*2.5,0) -> 0
C11: =D10 -> 15000 | D11: =C11+E11 -> 15000 | F11: P | G11: =IF(F11="B",E11,"--") -> -- | H11: =Übersicht!$C$3 -> 1150 Wien Markgraf Rüdigerstr. 15 | M11: =+IF((L11-K11)>12,12,(ROUNDUP((L11-K11),0))) -> 0 | N11: =IF(M11>3,M11*2.5,0) -> 0
C12: =D11 -> 15000 | D12: =C12+E12 -> 15000 | F12: P | G12: =IF(F12="B",E12,"--") -> -- | H12: =Übersicht!$C$3 -> 1150 Wien Markgraf Rüdigerstr. 15 | M12: =+IF((L12-K12)>12,12,(ROUNDUP((L12-K12),0))) -> 0 | N12: =IF(M12>3,M12*2.5,0) -> 0
C13: =D12 -> 15000 | D13: =C13+E13 -> 15000 | F13: P | G13: =IF(F13="B",E13,"--") -> -- | H13: =Übersicht!$C$3 -> 1150 Wien Markgraf Rüdigerstr. 15 | M13: =+IF((L13-K13)>12,12,(ROUNDUP((L13-K13),0))) -> 0 | N13: =IF(M13>3,M13*2.5,0) -> 0
C14: =D13 -> 15000 | D14: =C14+E14 -> 15000 | F14: P | G14: =IF(F14="B",E14,"--") -> -- | H14: =Übersicht!$C$3 -> 1150 Wien Markgraf Rüdigerstr. 15 | M14: =+IF((L14-K14)>12,12,(ROUNDUP((L14-K14),0))) -> 0 | N14: =IF(M14>3,M14*2.5,0) -> 0
C15: =D14 -> 15000 | D15: =C15+E15 -> 15000 | F15: P | G15: =IF(F15="B",E15,"--") -> -- | H15: =Übersicht!$C$3 -> 1150 Wien Markgraf Rüdigerstr. 15 | M15: =+IF((L15-K15)>12,12,(ROUNDUP((L15-K15),0))) -> 0 | N15: =IF(M15>3,M15*2.5,0) -> 0
C16: =D15 -> 15000 | D16: =C16+E16 -> 15000 | F16: P | G16: =IF(F16="B",E16,"--") -> -- | H16: =Übersicht!$C$3 -> 1150 Wien Markgraf Rüdigerstr. 15 | M16: =+IF((L16-K16)>12,12,(ROUNDUP((L16-K16),0))) -> 0 | N16: =IF(M16>3,M16*2.5,0) -> 0
C17: =D16 -> 15000 | D17: =C17+E17 -> 15000 | F17: P | G17: =IF(F17="B",E17,"--") -> -- | H17: =Übersicht!$C$3 -> 1150 Wien Markgraf Rüdigerstr. 15 | M17: =+IF((L17-K17)>12,12,(ROUNDUP((L17-K17),0))) -> 0 | N17: =IF(M17>3,M17*2.5,0) -> 0
C18: =D17 -> 15000 | D18: =C18+E18 -> 15000 | F18: P | G18: =IF(F18="B",E18,"--") -> -- | H18: =Übersicht!$C$3 -> 1150 Wien Markgraf Rüdigerstr. 15 | M18: =+IF((L18-K18)>12,12,(ROUNDUP((L18-K18),0))) -> 0 | N18: =IF(M18>3,M18*2.5,0) -> 0
C19: =D18 -> 15000 | D19: =C19+E19 -> 15000 | F19: P | G19: =IF(F19="B",E19,"--") -> -- | H19: =Übersicht!$C$3 -> 1150 Wien Markgraf Rüdigerstr. 15 | M19: =+IF((L19-K19)>12,12,(ROUNDUP((L19-K19),0))) -> 0 | N19: =IF(M19>3,M19*2.5,0) -> 0
C20: =D19 -> 15000 | D20: =C20+E20 -> 15000 | F20: P | G20: =IF(F20="B",E20,"--") -> -- | H20: =Übersicht!$C$3 -> 1150 Wien Markgraf Rüdigerstr. 15 | M20: =+IF((L20-K20)>12,12,(ROUNDUP((L20-K20),0))) -> 0 | N20: =IF(M20>3,M20*2.5,0) -> 0
C21: =D20 -> 15000 | D21: =C21+E21 -> 15000 | F21: P | G21: =IF(F21="B",E21,"--") -> -- | H21: =Übersicht!$C$3 -> 1150 Wien Markgraf Rüdigerstr. 15 | M21: =+IF((L21-K21)>12,12,(ROUNDUP((L21-K21),0))) -> 0 | N21: =IF(M21>3,M21*2.5,0) -> 0
... C36: =D35 -> 15000 | D36: =C36+E36 -> 15000 | F36: P | G36: =IF(F36="B",E36,"--") -> -- | H36: =Übersicht!$C$3 -> 1150 Wien Markgraf Rüdigerstr. 15 | M36: =+IF((L36-K36)>12,12,(ROUNDUP((L36-K36),0))) -> 0 | N36: =IF(M36>3,M36*2.5,0) -> 0
D38: gesamt | G38: =SUM(G9:G36) -> 0 | H38: Ersatz/Kilometer | I38: 0.5 | J38: =G38*I38 -> 0 | N38: =SUM(N9:N37) -> 0 | O38: =SUM(O9:O37) -> 0 | P38: =SUM(P9:P37) -> 0
B39: Version: 1.1.

Sheet Mai
A1: =Übersicht!B1 -> NAME: | C1: =Übersicht!C1 -> Psychotherapeutin | N1: Zeitraum: | O1: 2025
A2: =Übersicht!B2 -> Fahrzeug: | C2: =Übersicht!C2 -> W 12345
A3: =Übersicht!B3 -> Wohnort: | C3: =Übersicht!C3 -> 1150 Wien Markgraf Rüdigerstr. 15
B5: FAHRTENBUCH- und REISEKOSTENABRECHNUNG
B7: DATUM | C7: Kilometer | H7: Ausgangsort | I7: Zielort | J7: Zweck | K7: Reise | N7: Diäten | O7: Nächtigungs- | P7: Diverse
C8: Anfang | D8: Ende | E8: Anzahl | F8: P/B | G8: beruflich | J8: Kunde | K8: Beginn | L8: Ende | M8: Dauer | N8: Inland | O8: kosten | P8: Spesen
C9: =April!C36 -> 15000 | D9: =C9+E9 -> 15000 | F9: P | G9: =IF(F9="B",E9,"--") -> -- | H9: =Übersicht!$C$3 -> 1150 Wien Markgraf Rüdigerstr. 15 | M9: =+IF((L9-K9)>12,12,(ROUNDUP((L9-K9),0))) -> 0 | N9: =IF(M9>3,M9*2.5,0) -> 0
C10: =D9 -> 15000 | D10: =C10+E10 -> 15000 | F10: P | G10: =IF(F10="B",E10,"--") -> -- | H10: =Übersicht!$C$3 -> 1150 Wien Markgraf Rüdigerstr. 15 | M10: =+IF((L10-K10)>12,12,(ROUNDUP((L10-K10),0))) -> 0 | N10: =IF(M10>3,M10*2.5,0) -> 0
C11: =D10 -> 15000 | D11: =C11+E11 -> 15000 | F11: P | G11: =IF(F11="B",E11,"--") -> -- | H11: =Übersicht!$C$3 -> 1150 Wien Markgraf Rüdigerstr. 15 | M11: =+IF((L11-K11)>12,12,(ROUNDUP((L11-K11),0))) -> 0 | N11: =IF(M11>3,M11*2.5,0) -> 0
C12: =D11 -> 15000 | D12: =C12+E12 -> 15000 | F12: P | G12: =IF(F12="B",E12,"--") -> -- | H12: =Übersicht!$C$3 -> 1150 Wien Markgraf Rüdigerstr. 15 | M12: =+IF((L12-K12)>12,12,(ROUNDUP((L12-K12),0))) -> 0 | N12: =IF(M12>3,M12*2.5,0) -> 0
C13: =D12 -> 15000 | D13: =C13+E13 -> 15000 | F13: P | G13: =IF(F13="B",E13,"--") -> -- | H13: =Übersicht!$C$3 -> 1150 Wien Markgraf Rüdigerstr. 15 | M13: =+IF((L13-K13)>12,12,(ROUNDUP((L13-K13),0))) -> 0 | N13: =IF(M13>3,M13*2.5,0) -> 0
C14: =D13 -> 15000 | D14: =C14+E14 -> 15000 | F14: P | G14: =IF(F14="B",E14,"--") -> -- | H14: =Übersicht!$C$3 -> 1150 Wien Markgraf Rüdigerstr. 15 | M14: =+IF((L14-K14)>12,12,(ROUNDUP((L14-K14),0))) -> 0 | N14: =IF(M14>3,M14*2.5,0) -> 0
C15: =D14 -> 15000 | D15: =C15+E15 -> 15000 | F15: P | G15: =IF(F15="B",E15,"--") -> -- | H15: =Übersicht!$C$3 -> 1150 Wien Markgraf Rüdigerstr. 15 | M15: =+IF((L15-K15)>12,12,(ROUNDUP((L15-K15),0))) -> 0 | N15: =IF(M15>3,M15*2.5,0) -> 0
C16: =D15 -> 15000 | D16: =C16+E16 -> 15000 | F16: P | G16: =IF(F16="B",E16,"--") -> -- | H16: =Übersicht!$C$3 -> 1150 Wien Markgraf Rüdigerstr. 15 | M16: =+IF((L16-K16)>12,12,(ROUNDUP((L16-K16),0))) -> 0 | N16: =IF(M16>3,M16*2.5,0) -> 0
C17: =D16 -> 15000 | D17: =C17+E17 -> 15000 | F17: P | G17: =IF(F17="B",E17,"--") -> -- | H17: =Übersicht!$C$3 -> 1150 Wien Markgraf Rüdigerstr. 15 | M17: =+IF((L17-K17)>12,12,(ROUNDUP((L17-K17),0))) -> 0 | N17: =IF(M17>3,M17*2.5,0) -> 0
C18: =D17 -> 15000 | D18: =C18+E18 -> 15000 | F18: P | G18: =IF(F18="B",E18,"--") -> -- | H18: =Übersicht!$C$3 -> 1150 Wien Markgraf Rüdigerstr. 15 | M18: =+IF((L18-K18)>12,12,(ROUNDUP((L18-K18),0))) -> 0 | N18: =IF(M18>3,M18*2.5,0) -> 0
C19: =D18 -> 15000 | D19: =C19+E19 -> 15000 | F19: P | G19: =IF(F19="B",E19,"--") -> -- | H19: =Übersicht!$C$3 -> 1150 Wien Markgraf Rüdigerstr. 15 | M19: =+IF((L19-K19)>12,12,(ROUNDUP((L19-K19),0))) -> 0 | N19: =IF(M19>3,M19*2.5,0) -> 0
C20: =D19 -> 15000 | D20: =C20+E20 -> 15000 | F20: P | G20: =IF(F20="B",E20,"--") -> -- | H20: =Übersicht!$C$3 -> 1150 Wien Markgraf Rüdigerstr. 15 | M20: =+IF((L20-K20)>12,12,(ROUNDUP((L20-K20),0))) -> 0 | N20: =IF(M20>3,M20*2.5,0) -> 0
C21: =D20 -> 15000 | D21: =C21+E21 -> 15000 | F21: P | G21: =IF(F21="B",E21,"--") -> -- | H21: =Übersicht!$C$3 -> 1150 Wien Markgraf Rüdigerstr. 15 | M21: =+IF((L21-K21)>12,12,(ROUNDUP((L21-K21),0))) -> 0 | N21: =IF(M21>3,M21*2.5,0) -> 0
... C36: =D35 -> 15000 | D36: =C36+E36 -> 15000 | F36: P | G36: =IF(F36="B",E36,"--") -> -- | H36: =Übersicht!$C$3 -> 1150 Wien Markgraf Rüdigerstr. 15 | M36: =+IF((L36-K36)>12,12,(ROUNDUP((L36-K36),0))) -> 0 | N36: =IF(M36>3,M36*2.5,0) -> 0
D38: gesamt | G38: =SUM(G9:G36) -> 0 | H38: Ersatz/Kilometer | I38: 0.5 | J38: =G38*I38 -> 0 | N38: =SUM(N9:N37) -> 0 | O38: =SUM(O9:O37) -> 0 | P38: =SUM(P9:P37) -> 0
B39: Version: 1.1.

Sheet Juni
A1: =Übersicht!B1 -> NAME: | C1: =Übersicht!C1 -> Psychotherapeutin | N1: Zeitraum: | O1: 2025
A2: =Übersicht!B2 -> Fahrzeug: | C2: =Übersicht!C2 -> W 12345
A3: =Übersicht!B3 -> Wohnort: | C3: =Übersicht!C3 -> 1150 Wien Markgraf Rüdigerstr. 15
B5: FAHRTENBUCH- und REISEKOSTENABRECHNUNG
B7: DATUM | C7: Kilometer | H7: Ausgangsort | I7: Zielort | J7: Zweck | K7: Reise | N7: Diäten | O7: Nächtigungs- | P7: Diverse
C8: Anfang | D8: Ende | E8: Anzahl | F8: P/B | G8: beruflich | J8: Kunde | K8: Beginn | L8: Ende | M8: Dauer | N8: Inland | O8: kosten | P8: Spesen
C9: =Mai!D36 -> 15000 | D9: =C9+E9 -> 15000 | F9: P | G9: =IF(F9="B",E9,"--") -> -- | H9: =Übersicht!$C$3 -> 1150 Wien Markgraf Rüdigerstr. 15 | M9: =+IF((L9-K9)>12,12,(ROUNDUP((L9-K9),0))) -> 0 | N9: =IF(M9>3,M9*2.5,0) -> 0
C10: =D9 -> 15000 | D10: =C10+E10 -> 15000 | F10: P | G10: =IF(F10="B",E10,"--") -> -- | H10: =Übersicht!$C$3 -> 1150 Wien Markgraf Rüdigerstr. 15 | M10: =+IF((L10-K10)>12,12,(ROUNDUP((L10-K10),0))) -> 0 | N10: =IF(M10>3,M10*2.5,0) -> 0
C11: =D10 -> 15000 | D11: =C11+E11 -> 15000 | F11: P | G11: =IF(F11="B",E11,"--") -> -- | H11: =Übersicht!$C$3 -> 1150 Wien Markgraf Rüdigerstr. 15 | M11: =+IF((L11-K11)>12,12,(ROUNDUP((L11-K11),0))) -> 0 | N11: =IF(M11>3,M11*2.5,0) -> 0
C12: =D11 -> 15000 | D12: =C12+E12 -> 15000 | F12: P | G12: =IF(F12="B",E12,"--") -> -- | H12: =Übersicht!$C$3 -> 1150 Wien Markgraf Rüdigerstr. 15 | M12: =+IF((L12-K12)>12,12,(ROUNDUP((L12-K12),0))) -> 0 | N12: =IF(M12>3,M12*2.5,0) -> 0
C13: =D12 -> 15000 | D13: =C13+E13 -> 15000 | F13: P | G13: =IF(F13="B",E13,"--") -> -- | H13: =Übersicht!$C$3 -> 1150 Wien Markgraf Rüdigerstr. 15 | M13: =+IF((L13-K13)>12,12,(ROUNDUP((L13-K13),0))) -> 0 | N13: =IF(M13>3,M13*2.5,0) -> 0
C14: =D13 -> 15000 | D14: =C14+E14 -> 15000 | F14: P | G14: =IF(F14="B",E14,"--") -> -- | H14: =Übersicht!$C$3 -> 1150 Wien Markgraf Rüdigerstr. 15 | M14: =+IF((L14-K14)>12,12,(ROUNDUP((L14-K14),0))) -> 0 | N14: =IF(M14>3,M14*2.5,0) -> 0
C15: =D14 -> 15000 | D15: =C15+E15 -> 15000 | F15: P | G15: =IF(F15="B",E15,"--") -> -- | H15: =Übersicht!$C$3 -> 1150 Wien Markgraf Rüdigerstr. 15 | M15: =+IF((L15-K15)>12,12,(ROUNDUP((L15-K15),0))) -> 0 | N15: =IF(M15>3,M15*2.5,0) -> 0
C16: =D15 -> 15000 | D16: =C16+E16 -> 15000 | F16: P | G16: =IF(F16="B",E16,"--") -> -- | H16: =Übersicht!$C$3 -> 1150 Wien Markgraf Rüdigerstr. 15 | M16: =+IF((L16-K16)>12,12,(ROUNDUP((L16-K16),0))) -> 0 | N16: =IF(M16>3,M16*2.5,0) -> 0
C17: =D16 -> 15000 | D17: =C17+E17 -> 15000 | F17: P | G17: =IF(F17="B",E17,"--") -> -- | H17: =Übersicht!$C$3 -> 1150 Wien Markgraf Rüdigerstr. 15 | M17: =+IF((L17-K17)>12,12,(ROUNDUP((L17-K17),0))) -> 0 | N17: =IF(M17>3,M17*2.5,0) -> 0
C18: =D17 -> 15000 | D18: =C18+E18 -> 15000 | F18: P | G18: =IF(F18="B",E18,"--") -> -- | H18: =Übersicht!$C$3 -> 1150 Wien Markgraf Rüdigerstr. 15 | M18: =+IF((L18-K18)>12,12,(ROUNDUP((L18-K18),0))) -> 0 | N18: =IF(M18>3,M18*2.5,0) -> 0
C19: =D18 -> 15000 | D19: =C19+E19 -> 15000 | F19: P | G19: =IF(F19="B",E19,"--") -> -- | H19: =Übersicht!$C$3 -> 1150 Wien Markgraf Rüdigerstr. 15 | M19: =+IF((L19-K19)>12,12,(ROUNDUP((L19-K19),0))) -> 0 | N19: =IF(M19>3,M19*2.5,0) -> 0
C20: =D19 -> 15000 | D20: =C20+E20 -> 15000 | F20: P | G20: =IF(F20="B",E20,"--") -> -- | H20: =Übersicht!$C$3 -> 1150 Wien Markgraf Rüdigerstr. 15 | M20: =+IF((L20-K20)>12,12,(ROUNDUP((L20-K20),0))) -> 0 | N20: =IF(M20>3,M20*2.5,0) -> 0
C21: =D20 -> 15000 | D21: =C21+E21 -> 15000 | F21: P | G21: =IF(F21="B",E21,"--") -> -- | H21: =Übersicht!$C$3 -> 1150 Wien Markgraf Rüdigerstr. 15 | M21: =+IF((L21-K21)>12,12,(ROUNDUP((L21-K21),0))) -> 0 | N21: =IF(M21>3,M21*2.5,0) -> 0
... C36: =D35 -> 15000 | D36: =C36+E36 -> 15000 | F36: P | G36: =IF(F36="B",E36,"--") -> -- | H36: =Übersicht!$C$3 -> 1150 Wien Markgraf Rüdigerstr. 15 | M36: =+IF((L36-K36)>12,12,(ROUNDUP((L36-K36),0))) -> 0 | N36: =IF(M36>3,M36*2.5,0) -> 0
D38: gesamt | G38: =SUM(G9:G36) -> 0 | H38: Ersatz/Kilometer | I38: 0.5 | J38: =G38*I38 -> 0 | N38: =SUM(N9:N37) -> 0 | O38: =SUM(O9:O37) -> 0 | P38: =SUM(P9:P37) -> 0
B39: Version: 1.1.

Sheet Juli
A1: =Übersicht!B1 -> NAME: | C1: =Übersicht!C1 -> Psychotherapeutin | N1: Zeitraum: | O1: 2025
A2: =Übersicht!B2 -> Fahrzeug: | C2: =Übersicht!C2 -> W 12345
A3: =Übersicht!B3 -> Wohnort: | C3: =Übersicht!C3 -> 1150 Wien Markgraf Rüdigerstr. 15
B5: FAHRTENBUCH- und REISEKOSTENABRECHNUNG
B7: DATUM | C7: Kilometer | H7: Ausgangsort | I7: Zielort | J7: Zweck | K7: Reise | N7: Diäten | O7: Nächtigungs- | P7: Diverse
C8: Anfang | D8: Ende | E8: Anzahl | F8: P/B | G8: beruflich | J8: Kunde | K8: Beginn | L8: Ende | M8: Dauer | N8: Inland | O8: kosten | P8: Spesen
C9: =Juni!D36 -> 15000 | D9: =C9+E9 -> 15000 | F9: P | G9: =IF(F9="B",E9,"--") -> -- | H9: =Übersicht!$C$3 -> 1150 Wien Markgraf Rüdigerstr. 15 | M9: =+IF((L9-K9)>12,12,(ROUNDUP((L9-K9),0))) -> 0 | N9: =IF(M9>3,M9*2.5,0) -> 0
C10: =D9 -> 15000 | D10: =C10+E10 -> 15000 | F10: P | G10: =IF(F10="B",E10,"--") -> -- | H10: =Übersicht!$C$3 -> 1150 Wien Markgraf Rüdigerstr. 15 | M10: =+IF((L10-K10)>12,12,(ROUNDUP((L10-K10),0))) -> 0 | N10: =IF(M10>3,M10*2.5,0) -> 0
C11: =D10 -> 15000 | D11: =C11+E11 -> 15000 | F11: P | G11: =IF(F11="B",E11,"--") -> -- | H11: =Übersicht!$C$3 -> 1150 Wien Markgraf Rüdigerstr. 15 | M11: =+IF((L11-K11)>12,12,(ROUNDUP((L11-K11),0))) -> 0 | N11: =IF(M11>3,M11*2.5,0) -> 0
C12: =D11 -> 15000 | D12: =C12+E12 -> 15000 | F12: P | G12: =IF(F12="B",E12,"--") -> -- | H12: =Übersicht!$C$3 -> 1150 Wien Markgraf Rüdigerstr. 15 | M12: =+IF((L12-K12)>12,12,(ROUNDUP((L12-K12),0))) -> 0 | N12: =IF(M12>3,M12*2.5,0) -> 0
C13: =D12 -> 15000 | D13: =C13+E13 -> 15000 | F13: P | G13: =IF(F13="B",E13,"--") -> -- | H13: =Übersicht!$C$3 -> 1150 Wien Markgraf Rüdigerstr. 15 | M13: =+IF((L13-K13)>12,12,(ROUNDUP((L13-K13),0))) -> 0 | N13: =IF(M13>3,M13*2.5,0) -> 0
C14: =D13 -> 15000 | D14: =C14+E14 -> 15000 | F14: P | G14: =IF(F14="B",E14,"--") -> -- | H14: =Übersicht!$C$3 -> 1150 Wien Markgraf Rüdigerstr. 15 | M14: =+IF((L14-K14)>12,12,(ROUNDUP((L14-K14),0))) -> 0 | N14: =IF(M14>3,M14*2.5,0) -> 0
C15: =D14 -> 15000 | D15: =C15+E15 -> 15000 | F15: P | G15: =IF(F15="B",E15,"--") -> -- | H15: =Übersicht!$C$3 -> 1150 Wien Markgraf Rüdigerstr. 15 | M15: =+IF((L15-K15)>12,12,(ROUNDUP((L15-K15),0))) -> 0 | N15: =IF(M15>3,M15*2.5,0) -> 0
C16: =D15 -> 15000 | D16: =C16+E16 -> 15000 | F16: P | G16: =IF(F16="B",E16,"--") -> -- | H16: =Übersicht!$C$3 -> 1150 Wien Markgraf Rüdigerstr. 15 | M16: =+IF((L16-K16)>12,12,(ROUNDUP((L16-K16),0))) -> 0 | N16: =IF(M16>3,M16*2.5,0) -> 0
C17: =D16 -> 15000 | D17: =C17+E17 -> 15000 | F17: P | G17: =IF(F17="B",E17,"--") -> -- | H17: =Übersicht!$C$3 -> 1150 Wien Markgraf Rüdigerstr. 15 | M17: =+IF((L17-K17)>12,12,(ROUNDUP((L17-K17),0))) -> 0 | N17: =IF(M17>3,M17*2.5,0) -> 0
C18: =D17 -> 15000 | D18: =C18+E18 -> 15000 | F18: P | G18: =IF(F18="B",E18,"--") -> -- | H18: =Übersicht!$C$3 -> 1150 Wien Markgraf Rüdigerstr. 15 | M18: =+IF((L18-K18)>12,12,(ROUNDUP((L18-K18),0))) -> 0 | N18: =IF(M18>3,M18*2.5,0) -> 0
C19: =D18 -> 15000 | D19: =C19+E19 -> 15000 | F19: P | G19: =IF(F19="B",E19,"--") -> -- | H19: =Übersicht!$C$3 -> 1150 Wien Markgraf Rüdigerstr. 15 | M19: =+IF((L19-K19)>12,12,(ROUNDUP((L19-K19),0))) -> 0 | N19: =IF(M19>3,M19*2.5,0) -> 0
C20: =D19 -> 15000 | D20: =C20+E20 -> 15000 | F20: P | G20: =IF(F20="B",E20,"--") -> -- | H20: =Übersicht!$C$3 -> 1150 Wien Markgraf Rüdigerstr. 15 | M20: =+IF((L20-K20)>12,12,(ROUNDUP((L20-K20),0))) -> 0 | N20: =IF(M20>3,M20*2.5,0) -> 0
C21: =D20 -> 15000 | D21: =C21+E21 -> 15000 | F21: P | G21: =IF(F21="B",E21,"--") -> -- | H21: =Übersicht!$C$3 -> 1150 Wien Markgraf Rüdigerstr. 15 | M21: =+IF((L21-K21)>12,12,(ROUNDUP((L21-K21),0))) -> 0 | N21: =IF(M21>3,M21*2.5,0) -> 0
... C36: =D35 -> 15000 | D36: =C36+E36 -> 15000 | F36: P | G36: =IF(F36="B",E36,"--") -> -- | H36: =Übersicht!$C$3 -> 1150 Wien Markgraf Rüdigerstr. 15 | M36: =+IF((L36-K36)>12,12,(ROUNDUP((L36-K36),0))) -> 0 | N36: =IF(M36>3,M36*2.5,0) -> 0
D38: gesamt | G38: =SUM(G9:G36) -> 0 | H38: Ersatz/Kilometer | I38: 0.5 | J38: =G38*I38 -> 0 | N38: =SUM(N9:N37) -> 0 | O38: =SUM(O9:O37) -> 0 | P38: =SUM(P9:P37) -> 0
B39: Version: 1.1.

Sheet August
A1: =Übersicht!B1 -> NAME: | C1: =Übersicht!C1 -> Psychotherapeutin | N1: Zeitraum: | O1: 2025
A2: =Übersicht!B2 -> Fahrzeug: | C2: =Übersicht!C2 -> W 12345
A3: =Übersicht!B3 -> Wohnort: | C3: =Übersicht!C3 -> 1150 Wien Markgraf Rüdigerstr. 15
B5: FAHRTENBUCH- und REISEKOSTENABRECHNUNG
B7: DATUM | C7: Kilometer | H7: Ausgangsort | I7: Zielort | J7: Zweck | K7: Reise | N7: Diäten | O7: Nächtigungs- | P7: Diverse
C8: Anfang | D8: Ende | E8: Anzahl | F8: P/B | G8: beruflich | J8: Kunde | K8: Beginn | L8: Ende | M8: Dauer | N8: Inland | O8: kosten | P8: Spesen
C9: =Juli!D36 -> 15000 | D9: =C9+E9 -> 15000 | F9: P | G9: =IF(F9="B",E9,"--") -> -- | H9: =Übersicht!$C$3 -> 1150 Wien Markgraf Rüdigerstr. 15 | M9: =+IF((L9-K9)>12,12,(ROUNDUP((L9-K9),0))) -> 0 | N9: =IF(M9>3,M9*2.5,0) -> 0
C10: =D9 -> 15000 | D10: =C10+E10 -> 15000 | F10: P | G10: =IF(F10="B",E10,"--") -> -- | H10: =Übersicht!$C$3 -> 1150 Wien Markgraf Rüdigerstr. 15 | M10: =+IF((L10-K10)>12,12,(ROUNDUP((L10-K10),0))) -> 0 | N10: =IF(M10>3,M10*2.5,0) -> 0
C11: =D10 -> 15000 | D11: =C11+E11 -> 15000 | F11: P | G11: =IF(F11="B",E11,"--") -> -- | H11: =Übersicht!$C$3 -> 1150 Wien Markgraf Rüdigerstr. 15 | M11: =+IF((L11-K11)>12,12,(ROUNDUP((L11-K11),0))) -> 0 | N11: =IF(M11>3,M11*2.5,0) -> 0
C12: =D11 -> 15000 | D12: =C12+E12 -> 15000 | F12: P | G12: =IF(F12="B",E12,"--") -> -- | H12: =Übersicht!$C$3 -> 1150 Wien Markgraf Rüdigerstr. 15 | M12: =+IF((L12-K12)>12,12,(ROUNDUP((L12-K12),0))) -> 0 | N12: =IF(M12>3,M12*2.5,0) -> 0
C13: =D12 -> 15000 | D13: =C13+E13 -> 15000 | F13: P | G13: =IF(F13="B",E13,"--") -> -- | H13: =Übersicht!$C$3 -> 1150 Wien Markgraf Rüdigerstr. 15 | M13: =+IF((L13-K13)>12,12,(ROUNDUP((L13-K13),0))) -> 0 | N13: =IF(M13>3,M13*2.5,0) -> 0
C14: =D13 -> 15000 | D14: =C14+E14 -> 15000 | F14: P | G14: =IF(F14="B",E14,"--") -> -- | H14: =Übersicht!$C$3 -> 1150 Wien Markgraf Rüdigerstr. 15 | M14: =+IF((L14-K14)>12,12,(ROUNDUP((L14-K14),0))) -> 0 | N14: =IF(M14>3,M14*2.5,0) -> 0
C15: =D14 -> 15000 | D15: =C15+E15 -> 15000 | F15: P | G15: =IF(F15="B",E15,"--") -> -- | H15: =Übersicht!$C$3 -> 1150 Wien Markgraf Rüdigerstr. 15 | M15: =+IF((L15-K15)>12,12,(ROUNDUP((L15-K15),0))) -> 0 | N15: =IF(M15>3,M15*2.5,0) -> 0
C16: =D15 -> 15000 | D16: =C16+E16 -> 15000 | F16: P | G16: =IF(F16="B",E16,"--") -> -- | H16: =Übersicht!$C$3 -> 1150 Wien Markgraf Rüdigerstr. 15 | M16: =+IF((L16-K16)>12,12,(ROUNDUP((L16-K16),0))) -> 0 | N16: =IF(M16>3,M16*2.5,0) -> 0
C17: =D16 -> 15000 | D17: =C17+E17 -> 15000 | F17: P | G17: =IF(F17="B",E17,"--") -> -- | H17: =Übersicht!$C$3 -> 1150 Wien Markgraf Rüdigerstr. 15 | M17: =+IF((L17-K17)>12,12,(ROUNDUP((L17-K17),0))) -> 0 | N17: =IF(M17>3,M17*2.5,0) -> 0
C18: =D17 -> 15000 | D18: =C18+E18 -> 15000 | F18: P | G18: =IF(F18="B",E18,"--") -> -- | H18: =Übersicht!$C$3 -> 1150 Wien Markgraf Rüdigerstr. 15 | M18: =+IF((L18-K18)>12,12,(ROUNDUP((L18-K18),0))) -> 0 | N18: =IF(M18>3,M18*2.5,0) -> 0
C19: =D18 -> 15000 | D19: =C19+E19 -> 15000 | F19: P | G19: =IF(F19="B",E19,"--") -> -- | H19: =Übersicht!$C$3 -> 1150 Wien Markgraf Rüdigerstr. 15 | M19: =+IF((L19-K19)>12,12,(ROUNDUP((L19-K19),0))) -> 0 | N19: =IF(M19>3,M19*2.5,0) -> 0
C20: =D19 -> 15000 | D20: =C20+E20 -> 15000 | F20: P | G20: =IF(F20="B",E20,"--") -> -- | H20: =Übersicht!$C$3 -> 1150 Wien Markgraf Rüdigerstr. 15 | M20: =+IF((L20-K20)>12,12,(ROUNDUP((L20-K20),0))) -> 0 | N20: =IF(M20>3,M20*2.5,0) -> 0
C21: =D20 -> 15000 | D21: =C21+E21 -> 15000 | F21: P | G21: =IF(F21="B",E21,"--") -> -- | H21: =Übersicht!$C$3 -> 1150 Wien Markgraf Rüdigerstr. 15 | M21: =+IF((L21-K21)>12,12,(ROUNDUP((L21-K21),0))) -> 0 | N21: =IF(M21>3,M21*2.5,0) -> 0
... C36: =D35 -> 15000 | D36: =C36+E36 -> 15000 | F36: P | G36: =IF(F36="B",E36,"--") -> -- | H36: =Übersicht!$C$3 -> 1150 Wien Markgraf Rüdigerstr. 15 | M36: =+IF((L36-K36)>12,12,(ROUNDUP((L36-K36),0))) -> 0 | N36: =IF(M36>3,M36*2.5,0) -> 0
D38: gesamt | G38: =SUM(G9:G36) -> 0 | H38: Ersatz/Kilometer | I38: 0.5 | J38: =G38*I38 -> 0 | N38: =SUM(N9:N37) -> 0 | O38: =SUM(O9:O37) -> 0 | P38: =SUM(P9:P37) -> 0
B39: Version: 1.1.

Sheet Sept.
A1: =Übersicht!B1 -> NAME: | C1: =Übersicht!C1 -> Psychotherapeutin | N1: Zeitraum: | O1: 2025
A2: =Übersicht!B2 -> Fahrzeug: | C2: =Übersicht!C2 -> W 12345
A3: =Übersicht!B3 -> Wohnort: | C3: =Übersicht!C3 -> 1150 Wien Markgraf Rüdigerstr. 15
B5: FAHRTENBUCH- und REISEKOSTENABRECHNUNG
B7: DATUM | C7: Kilometer | H7: Ausgangsort | I7: Zielort | J7: Zweck | K7: Reise | N7: Diäten | O7: Nächtigungs- | P7: Diverse
C8: Anfang | D8: Ende | E8: Anzahl | F8: P/B | G8: beruflich | J8: Kunde | K8: Beginn | L8: Ende | M8: Dauer | N8: Inland | O8: kosten | P8: Spesen
C9: =August!D36 -> 15000 | D9: =C9+E9 -> 15000 | F9: P | G9: =IF(F9="B",E9,"--") -> -- | H9: =Übersicht!$C$3 -> 1150 Wien Markgraf Rüdigerstr. 15 | M9: =+IF((L9-K9)>12,12,(ROUNDUP((L9-K9),0))) -> 0 | N9: =IF(M9>3,M9*2.5,0) -> 0
C10: =D9 -> 15000 | D10: =C10+E10 -> 15000 | F10: P | G10: =IF(F10="B",E10,"--") -> -- | H10: =Übersicht!$C$3 -> 1150 Wien Markgraf Rüdigerstr. 15 | M10: =+IF((L10-K10)>12,12,(ROUNDUP((L10-K10),0))) -> 0 | N10: =IF(M10>3,M10*2.5,0) -> 0
C11: =D10 -> 15000 | D11: =C11+E11 -> 15000 | F11: P | G11: =IF(F11="B",E11,"--") -> -- | H11: =Übersicht!$C$3 -> 1150 Wien Markgraf Rüdigerstr. 15 | M11: =+IF((L11-K11)>12,12,(ROUNDUP((L11-K11),0))) -> 0 | N11: =IF(M11>3,M11*2.5,0) -> 0
C12: =D11 -> 15000 | D12: =C12+E12 -> 15000 | F12: P | G12: =IF(F12="B",E12,"--") -> -- | H12: =Übersicht!$C$3 -> 1150 Wien Markgraf Rüdigerstr. 15 | M12: =+IF((L12-K12)>12,12,(ROUNDUP((L12-K12),0))) -> 0 | N12: =IF(M12>3,M12*2.5,0) -> 0
C13: =D12 -> 15000 | D13: =C13+E13 -> 15000 | F13: P | G13: =IF(F13="B",E13,"--") -> -- | H13: =Übersicht!$C$3 -> 1150 Wien Markgraf Rüdigerstr. 15 | M13: =+IF((L13-K13)>12,12,(ROUNDUP((L13-K13),0))) -> 0 | N13: =IF(M13>3,M13*2.5,0) -> 0
C14: =D13 -> 15000 | D14: =C14+E14 -> 15000 | F14: P | G14: =IF(F14="B",E14,"--") -> -- | H14: =Übersicht!$C$3 -> 1150 Wien Markgraf Rüdigerstr. 15 | M14: =+IF((L14-K14)>12,12,(ROUNDUP((L14-K14),0))) -> 0 | N14: =IF(M14>3,M14*2.5,0) -> 0
C15: =D14 -> 15000 | D15: =C15+E15 -> 15000 | F15: P | G15: =IF(F15="B",E15,"--") -> -- | H15: =Übersicht!$C$3 -> 1150 Wien Markgraf Rüdigerstr. 15 | M15: =+IF((L15-K15)>12,12,(ROUNDUP((L15-K15),0))) -> 0 | N15: =IF(M15>3,M15*2.5,0) -> 0
C16: =D15 -> 15000 | D16: =C16+E16 -> 15000 | F16: P | G16: =IF(F16="B",E16,"--") -> -- | H16: =Übersicht!$C$3 -> 1150 Wien Markgraf Rüdigerstr. 15 | M16: =+IF((L16-K16)>12,12,(ROUNDUP((L16-K16),0))) -> 0 | N16: =IF(M16>3,M16*2.5,0) -> 0
C17: =D16 -> 15000 | D17: =C17+E17 -> 15000 | F17: P | G17: =IF(F17="B",E17,"--") -> -- | H17: =Übersicht!$C$3 -> 1150 Wien Markgraf Rüdigerstr. 15 | M17: =+IF((L17-K17)>12,12,(ROUNDUP((L17-K17),0))) -> 0 | N17: =IF(M17>3,M17*2.5,0) -> 0
C18: =D17 -> 15000 | D18: =C18+E18 -> 15000 | F18: P | G18: =IF(F18="B",E18,"--") -> -- | H18: =Übersicht!$C$3 -> 1150 Wien Markgraf Rüdigerstr. 15 | M18: =+IF((L18-K18)>12,12,(ROUNDUP((L18-K18),0))) -> 0 | N18: =IF(M18>3,M18*2.5,0) -> 0
C19: =D18 -> 15000 | D19: =C19+E19 -> 15000 | F19: P | G19: =IF(F19="B",E19,"--") -> -- | H19: =Übersicht!$C$3 -> 1150 Wien Markgraf Rüdigerstr. 15 | M19: =+IF((L19-K19)>12,12,(ROUNDUP((L19-K19),0))) -> 0 | N19: =IF(M19>3,M19*2.5,0) -> 0
C20: =D19 -> 15000 | D20: =C20+E20 -> 15000 | F20: P | G20: =IF(F20="B",E20,"--") -> -- | H20: =Übersicht!$C$3 -> 1150 Wien Markgraf Rüdigerstr. 15 | M20: =+IF((L20-K20)>12,12,(ROUNDUP((L20-K20),0))) -> 0 | N20: =IF(M20>3,M20*2.5,0) -> 0
C21: =D20 -> 15000 | D21: =C21+E21 -> 15000 | F21: P | G21: =IF(F21="B",E21,"--") -> -- | H21: =Übersicht!$C$3 -> 1150 Wien Markgraf Rüdigerstr. 15 | M21: =+IF((L21-K21)>12,12,(ROUNDUP((L21-K21),0))) -> 0 | N21: =IF(M21>3,M21*2.5,0) -> 0
... C36: =D35 -> 15000 | D36: =C36+E36 -> 15000 | F36: P | G36: =IF(F36="B",E36,"--") -> -- | H36: =Übersicht!$C$3 -> 1150 Wien Markgraf Rüdigerstr. 15 | M36: =+IF((L36-K36)>12,12,(ROUNDUP((L36-K36),0))) -> 0 | N36: =IF(M36>3,M36*2.5,0) -> 0
D38: gesamt | G38: =SUM(G9:G36) -> 0 | H38: Ersatz/Kilometer | I38: 0.5 | J38: =G38*I38 -> 0 | N38: =SUM(N9:N37) -> 0 | O38: =SUM(O9:O37) -> 0 | P38: =SUM(P9:P37) -> 0
B39: Version: 1.1.

Sheet Okt.
A1: =Übersicht!B1 -> NAME: | C1: =Übersicht!C1 -> Psychotherapeutin | N1: Zeitraum: | O1: 2025
A2: =Übersicht!B2 -> Fahrzeug: | C2: =Übersicht!C2 -> W 12345
A3: =Übersicht!B3 -> Wohnort: | C3: =Übersicht!C3 -> 1150 Wien Markgraf Rüdigerstr. 15
B5: FAHRTENBUCH- und REISEKOSTENABRECHNUNG
B7: DATUM | C7: Kilometer | H7: Ausgangsort | I7: Zielort | J7: Zweck | K7: Reise | N7: Diäten | O7: Nächtigungs- | P7: Diverse
C8: Anfang | D8: Ende | E8: Anzahl | F8: P/B | G8: beruflich | J8: Kunde | K8: Beginn | L8: Ende | M8: Dauer | N8: Inland | O8: kosten | P8: Spesen
C9: =Sept.!D36 -> 15000 | D9: =C9+E9 -> 15000 | F9: P | G9: =IF(F9="B",E9,"--") -> -- | H9: =Übersicht!$C$3 -> 1150 Wien Markgraf Rüdigerstr. 15 | M9: =+IF((L9-K9)>12,12,(ROUNDUP((L9-K9),0))) -> 0 | N9: =IF(M9>3,M9*2.5,0) -> 0
C10: =D9 -> 15000 | D10: =C10+E10 -> 15000 | F10: P | G10: =IF(F10="B",E10,"--") -> -- | H10: =Übersicht!$C$3 -> 1150 Wien Markgraf Rüdigerstr. 15 | M10: =+IF((L10-K10)>12,12,(ROUNDUP((L10-K10),0))) -> 0 | N10: =IF(M10>3,M10*2.5,0) -> 0
C11: =D10 -> 15000 | D11: =C11+E11 -> 15000 | F11: P | G11: =IF(F11="B",E11,"--") -> -- | H11: =Übersicht!$C$3 -> 1150 Wien Markgraf Rüdigerstr. 15 | M11: =+IF((L11-K11)>12,12,(ROUNDUP((L11-K11),0))) -> 0 | N11: =IF(M11>3,M11*2.5,0) -> 0
C12: =D11 -> 15000 | D12: =C12+E12 -> 15000 | F12: P | G12: =IF(F12="B",E12,"--") -> -- | H12: =Übersicht!$C$3 -> 1150 Wien Markgraf Rüdigerstr. 15 | M12: =+IF((L12-K12)>12,12,(ROUNDUP((L12-K12),0))) -> 0 | N12: =IF(M12>3,M12*2.5,0) -> 0
C13: =D12 -> 15000 | D13: =C13+E13 -> 15000 | F13: P | G13: =IF(F13="B",E13,"--") -> -- | H13: =Übersicht!$C$3 -> 1150 Wien Markgraf Rüdigerstr. 15 | M13: =+IF((L13-K13)>12,12,(ROUNDUP((L13-K13),0))) -> 0 | N13: =IF(M13>3,M13*2.5,0) -> 0
C14: =D13 -> 15000 | D14: =C14+E14 -> 15000 | F14: P | G14: =IF(F14="B",E14,"--") -> -- | H14: =Übersicht!$C$3 -> 1150 Wien Markgraf Rüdigerstr. 15 | M14: =+IF((L14-K14)>12,12,(ROUNDUP((L14-K14),0))) -> 0 | N14: =IF(M14>3,M14*2.5,0) -> 0
C15: =D14 -> 15000 | D15: =C15+E15 -> 15000 | F15: P | G15: =IF(F15="B",E15,"--") -> -- | H15: =Übersicht!$C$3 -> 1150 Wien Markgraf Rüdigerstr. 15 | M15: =+IF((L15-K15)>12,12,(ROUNDUP((L15-K15),0))) -> 0 | N15: =IF(M15>3,M15*2.5,0) -> 0
C16: =D15 -> 15000 | D16: =C16+E16 -> 15000 | F16: P | G16: =IF(F16="B",E16,"--") -> -- | H16: =Übersicht!$C$3 -> 1150 Wien Markgraf Rüdigerstr. 15 | M16: =+IF((L16-K16)>12,12,(ROUNDUP((L16-K16),0))) -> 0 | N16: =IF(M16>3,M16*2.5,0) -> 0
C17: =D16 -> 15000 | D17: =C17+E17 -> 15000 | F17: P | G17: =IF(F17="B",E17,"--") -> -- | H17: =Übersicht!$C$3 -> 1150 Wien Markgraf Rüdigerstr. 15 | M17: =+IF((L17-K17)>12,12,(ROUNDUP((L17-K17),0))) -> 0 | N17: =IF(M17>3,M17*2.5,0) -> 0
C18: =D17 -> 15000 | D18: =C18+E18 -> 15000 | F18: P | G18: =IF(F18="B",E18,"--") -> -- | H18: =Übersicht!$C$3 -> 1150 Wien Markgraf Rüdigerstr. 15 | M18: =+IF((L18-K18)>12,12,(ROUNDUP((L18-K18),0))) -> 0 | N18: =IF(M18>3,M18*2.5,0) -> 0
C19: =D18 -> 15000 | D19: =C19+E19 -> 15000 | F19: P | G19: =IF(F19="B",E19,"--") -> -- | H19: =Übersicht!$C$3 -> 1150 Wien Markgraf Rüdigerstr. 15 | M19: =+IF((L19-K19)>12,12,(ROUNDUP((L19-K19),0))) -> 0 | N19: =IF(M19>3,M19*2.5,0) -> 0
C20: =D19 -> 15000 | D20: =C20+E20 -> 15000 | F20: P | G20: =IF(F20="B",E20,"--") -> -- | H20: =Übersicht!$C$3 -> 1150 Wien Markgraf Rüdigerstr. 15 | M20: =+IF((L20-K20)>12,12,(ROUNDUP((L20-K20),0))) -> 0 | N20: =IF(M20>3,M20*2.5,0) -> 0
C21: =D20 -> 15000 | D21: =C21+E21 -> 15000 | F21: P | G21: =IF(F21="B",E21,"--") -> -- | H21: =Übersicht!$C$3 -> 1150 Wien Markgraf Rüdigerstr. 15 | M21: =+IF((L21-K21)>12,12,(ROUNDUP((L21-K21),0))) -> 0 | N21: =IF(M21>3,M21*2.5,0) -> 0
... C36: =D35 -> 15000 | D36: =C36+E36 -> 15000 | F36: P | G36: =IF(F36="B",E36,"--") -> -- | H36: =Übersicht!$C$3 -> 1150 Wien Markgraf Rüdigerstr. 15 | M36: =+IF((L36-K36)>12,12,(ROUNDUP((L36-K36),0))) -> 0 | N36: =IF(M36>3,M36*2.5,0) -> 0
D38: gesamt | G38: =SUM(G9:G36) -> 0 | H38: Ersatz/Kilometer | I38: 0.5 | J38: =G38*I38 -> 0 | N38: =SUM(N9:N37) -> 0 | O38: =SUM(O9:O37) -> 0 | P38: =SUM(P9:P37) -> 0
B39: Version: 1.1.

Sheet Nov.
A1: =Übersicht!B1 -> NAME: | C1: =Übersicht!C1 -> Psychotherapeutin | N1: Zeitraum: | O1: 2025
A2: =Übersicht!B2 -> Fahrzeug: | C2: =Übersicht!C2 -> W 12345
A3: =Übersicht!B3 -> Wohnort: | C3: =Übersicht!C3 -> 1150 Wien Markgraf Rüdigerstr. 15
B5: FAHRTENBUCH- und REISEKOSTENABRECHNUNG
B7: DATUM | C7: Kilometer | H7: Ausgangsort | I7: Zielort | J7: Zweck | K7: Reise | N7: Diäten | O7: Nächtigungs- | P7: Diverse
C8: Anfang | D8: Ende | E8: Anzahl | F8: P/B | G8: beruflich | J8: Kunde | K8: Beginn | L8: Ende | M8: Dauer | N8: Inland | O8: kosten | P8: Spesen
C9: =Okt.!D36 -> 15000 | D9: =C9+E9 -> 15000 | F9: P | G9: =IF(F9="B",E9,"--") -> -- | H9: =Übersicht!$C$3 -> 1150 Wien Markgraf Rüdigerstr. 15 | M9: =+IF((L9-K9)>12,12,(ROUNDUP((L9-K9),0))) -> 0 | N9: =IF(M9>3,M9*2.5,0) -> 0
C10: =D9 -> 15000 | D10: =C10+E10 -> 15000 | F10: P | G10: =IF(F10="B",E10,"--") -> -- | H10: =Übersicht!$C$3 -> 1150 Wien Markgraf Rüdigerstr. 15 | M10: =+IF((L10-K10)>12,12,(ROUNDUP((L10-K10),0))) -> 0 | N10: =IF(M10>3,M10*2.5,0) -> 0
C11: =D10 -> 15000 | D11: =C11+E11 -> 15000 | F11: P | G11: =IF(F11="B",E11,"--") -> -- | H11: =Übersicht!$C$3 -> 1150 Wien Markgraf Rüdigerstr. 15 | M11: =+IF((L11-K11)>12,12,(ROUNDUP((L11-K11),0))) -> 0 | N11: =IF(M11>3,M11*2.5,0) -> 0
C12: =D11 -> 15000 | D12: =C12+E12 -> 15000 | F12: P | G12: =IF(F12="B",E12,"--") -> -- | H12: =Übersicht!$C$3 -> 1150 Wien Markgraf Rüdigerstr. 15 | M12: =+IF((L12-K12)>12,12,(ROUNDUP((L12-K12),0))) -> 0 | N12: =IF(M12>3,M12*2.5,0) -> 0
C13: =D12 -> 15000 | D13: =C13+E13 -> 15000 | F13: P | G13: =IF(F13="B",E13,"--") -> -- | H13: =Übersicht!$C$3 -> 1150 Wien Markgraf Rüdigerstr. 15 | M13: =+IF((L13-K13)>12,12,(ROUNDUP((L13-K13),0))) -> 0 | N13: =IF(M13>3,M13*2.5,0) -> 0
C14: =D13 -> 15000 | D14: =C14+E14 -> 15000 | F14: P | G14: =IF(F14="B",E14,"--") -> -- | H14: =Übersicht!$C$3 -> 1150 Wien Markgraf Rüdigerstr. 15 | M14: =+IF((L14-K14)>12,12,(ROUNDUP((L14-K14),0))) -> 0 | N14: =IF(M14>3,M14*2.5,0) -> 0
C15: =D14 -> 15000 | D15: =C15+E15 -> 15000 | F15: P | G15: =IF(F15="B",E15,"--") -> -- | H15: =Übersicht!$C$3 -> 1150 Wien Markgraf Rüdigerstr. 15 | M15: =+IF((L15-K15)>12,12,(ROUNDUP((L15-K15),0))) -> 0 | N15: =IF(M15>3,M15*2.5,0) -> 0
C16: =D15 -> 15000 | D16: =C16+E16 -> 15000 | F16: P | G16: =IF(F16="B",E16,"--") -> -- | H16: =Übersicht!$C$3 -> 1150 Wien Markgraf Rüdigerstr. 15 | M16: =+IF((L16-K16)>12,12,(ROUNDUP((L16-K16),0))) -> 0 | N16: =IF(M16>3,M16*2.5,0) -> 0
C17: =D16 -> 15000 | D17: =C17+E17 -> 15000 | F17: P | G17: =IF(F17="B",E17,"--") -> -- | H17: =Übersicht!$C$3 -> 1150 Wien Markgraf Rüdigerstr. 15 | M17: =+IF((L17-K17)>12,12,(ROUNDUP((L17-K17),0))) -> 0 | N17: =IF(M17>3,M17*2.5,0) -> 0
C18: =D17 -> 15000 | D18: =C18+E18 -> 15000 | F18: P | G18: =IF(F18="B",E18,"--") -> -- | H18: =Übersicht!$C$3 -> 1150 Wien Markgraf Rüdigerstr. 15 | M18: =+IF((L18-K18)>12,12,(ROUNDUP((L18-K18),0))) -> 0 | N18: =IF(M18>3,M18*2.5,0) -> 0
C19: =D18 -> 15000 | D19: =C19+E19 -> 15000 | F19: P | G19: =IF(F19="B",E19,"--") -> -- | H19: =Übersicht!$C$3 -> 1150 Wien Markgraf Rüdigerstr. 15 | M19: =+IF((L19-K19)>12,12,(ROUNDUP((L19-K19),0))) -> 0 | N19: =IF(M19>3,M19*2.5,0) -> 0
C20: =D19 -> 15000 | D20: =C20+E20 -> 15000 | F20: P | G20: =IF(F20="B",E20,"--") -> -- | H20: =Übersicht!$C$3 -> 1150 Wien Markgraf Rüdigerstr. 15 | M20: =+IF((L20-K20)>12,12,(ROUNDUP((L20-K20),0))) -> 0 | N20: =IF(M20>3,M20*2.5,0) -> 0
C21: =D20 -> 15000 | D21: =C21+E21 -> 15000 | F21: P | G21: =IF(F21="B",E21,"--") -> -- | H21: =Übersicht!$C$3 -> 1150 Wien Markgraf Rüdigerstr. 15 | M21: =+IF((L21-K21)>12,12,(ROUNDUP((L21-K21),0))) -> 0 | N21: =IF(M21>3,M21*2.5,0) -> 0
... C36: =D35 -> 15000 | D36: =C36+E36 -> 15000 | F36: P | G36: =IF(F36="B",E36,"--") -> -- | H36: =Übersicht!$C$3 -> 1150 Wien Markgraf Rüdigerstr. 15 | M36: =+IF((L36-K36)>12,12,(ROUNDUP((L36-K36),0))) -> 0 | N36: =IF(M36>3,M36*2.5,0) -> 0
D38: gesamt | G38: =SUM(G9:G36) -> 0 | H38: Ersatz/Kilometer | I38: 0.5 | J38: =G38*I38 -> 0 | N38: =SUM(N9:N37) -> 0 | O38: =SUM(O9:O37) -> 0 | P38: =SUM(P9:P37) -> 0
B39: Version: 1.1.

Sheet Dez.
A1: =Übersicht!B1 -> NAME: | C1: =Übersicht!C1 -> Psychotherapeutin | N1: Zeitraum: | O1: 2025
A2: =Übersicht!B2 -> Fahrzeug: | C2: =Übersicht!C2 -> W 12345
A3: =Übersicht!B3 -> Wohnort: | C3: =Übersicht!C3 -> 1150 Wien Markgraf Rüdigerstr. 15
B5: FAHRTENBUCH- und REISEKOSTENABRECHNUNG
B7: DATUM | C7: Kilometer | H7: Ausgangsort | I7: Zielort | J7: Zweck | K7: Reise | N7: Diäten | O7: Nächtigungs- | P7: Diverse
C8: Anfang | D8: Ende | E8: Anzahl | F8: P/B | G8: beruflich | J8: Kunde | K8: Beginn | L8: Ende | M8: Dauer | N8: Inland | O8: kosten | P8: Spesen
C9: =Nov.!D36 -> 15000 | D9: =C9+E9 -> 15000 | F9: P | G9: =IF(F9="B",E9,"--") -> -- | H9: =Übersicht!$C$3 -> 1150 Wien Markgraf Rüdigerstr. 15 | M9: =+IF((L9-K9)>12,12,(ROUNDUP((L9-K9),0))) -> 0 | N9: =IF(M9>3,M9*2.5,0) -> 0
C10: =D9 -> 15000 | D10: =C10+E10 -> 15000 | F10: P | G10: =IF(F10="B",E10,"--") -> -- | H10: =Übersicht!$C$3 -> 1150 Wien Markgraf Rüdigerstr. 15 | M10: =+IF((L10-K10)>12,12,(ROUNDUP((L10-K10),0))) -> 0 | N10: =IF(M10>3,M10*2.5,0) -> 0
C11: =D10 -> 15000 | D11: =C11+E11 -> 15000 | F11: P | G11: =IF(F11="B",E11,"--") -> -- | H11: =Übersicht!$C$3 -> 1150 Wien Markgraf Rüdigerstr. 15 | M11: =+IF((L11-K11)>12,12,(ROUNDUP((L11-K11),0))) -> 0 | N11: =IF(M11>3,M11*2.5,0) -> 0
C12: =D11 -> 15000 | D12: =C12+E12 -> 15000 | F12: P | G12: =IF(F12="B",E12,"--") -> -- | H12: =Übersicht!$C$3 -> 1150 Wien Markgraf Rüdigerstr. 15 | M12: =+IF((L12-K12)>12,12,(ROUNDUP((L12-K12),0))) -> 0 | N12: =IF(M12>3,M12*2.5,0) -> 0
C13: =D12 -> 15000 | D13: =C13+E13 -> 15000 | F13: P | G13: =IF(F13="B",E13,"--") -> -- | H13: =Übersicht!$C$3 -> 1150 Wien Markgraf Rüdigerstr. 15 | M13: =+IF((L13-K13)>12,12,(ROUNDUP((L13-K13),0))) -> 0 | N13: =IF(M13>3,M13*2.5,0) -> 0
C14: =D13 -> 15000 | D14: =C14+E14 -> 15000 | F14: P | G14: =IF(F14="B",E14,"--") -> -- | H14: =Übersicht!$C$3 -> 1150 Wien Markgraf Rüdigerstr. 15 | M14: =+IF((L14-K14)>12,12,(ROUNDUP((L14-K14),0))) -> 0 | N14: =IF(M14>3,M14*2.5,0) -> 0
C15: =D14 -> 15000 | D15: =C15+E15 -> 15000 | F15: P | G15: =IF(F15="B",E15,"--") -> -- | H15: =Übersicht!$C$3 -> 1150 Wien Markgraf Rüdigerstr. 15 | M15: =+IF((L15-K15)>12,12,(ROUNDUP((L15-K15),0))) -> 0 | N15: =IF(M15>3,M15*2.5,0) -> 0
C16: =D15 -> 15000 | D16: =C16+E16 -> 15000 | F16: P | G16: =IF(F16="B",E16,"--") -> -- | H16: =Übersicht!$C$3 -> 1150 Wien Markgraf Rüdigerstr. 15 | M16: =+IF((L16-K16)>12,12,(ROUNDUP((L16-K16),0))) -> 0 | N16: =IF(M16>3,M16*2.5,0) -> 0
C17: =D16 -> 15000 | D17: =C17+E17 -> 15000 | F17: P | G17: =IF(F17="B",E17,"--") -> -- | H17: =Übersicht!$C$3 -> 1150 Wien Markgraf Rüdigerstr. 15 | M17: =+IF((L17-K17)>12,12,(ROUNDUP((L17-K17),0))) -> 0 | N17: =IF(M17>3,M17*2.5,0) -> 0
C18: =D17 -> 15000 | D18: =C18+E18 -> 15000 | F18: P | G18: =IF(F18="B",E18,"--") -> -- | H18: =Übersicht!$C$3 -> 1150 Wien Markgraf Rüdigerstr. 15 | M18: =+IF((L18-K18)>12,12,(ROUNDUP((L18-K18),0))) -> 0 | N18: =IF(M18>3,M18*2.5,0) -> 0
C19: =D18 -> 15000 | D19: =C19+E19 -> 15000 | F19: P | G19: =IF(F19="B",E19,"--") -> -- | H19: =Übersicht!$C$3 -> 1150 Wien Markgraf Rüdigerstr. 15 | M19: =+IF((L19-K19)>12,12,(ROUNDUP((L19-K19),0))) -> 0 | N19: =IF(M19>3,M19*2.5,0) -> 0
C20: =D19 -> 15000 | D20: =C20+E20 -> 15000 | F20: P | G20: =IF(F20="B",E20,"--") -> -- | H20: =Übersicht!$C$3 -> 1150 Wien Markgraf Rüdigerstr. 15 | M20: =+IF((L20-K20)>12,12,(ROUNDUP((L20-K20),0))) -> 0 | N20: =IF(M20>3,M20*2.5,0) -> 0
C21: =D20 -> 15000 | D21: =C21+E21 -> 15000 | F21: P | G21: =IF(F21="B",E21,"--") -> -- | H21: =Übersicht!$C$3 -> 1150 Wien Markgraf Rüdigerstr. 15 | M21: =+IF((L21-K21)>12,12,(ROUNDUP((L21-K21),0))) -> 0 | N21: =IF(M21>3,M21*2.5,0) -> 0
... C36: =D35 -> 15000 | D36: =C36+E36 -> 15000 | F36: P | G36: =IF(F36="B",E36,"--") -> -- | H36: =Übersicht!$C$3 -> 1150 Wien Markgraf Rüdigerstr. 15 | M36: =+IF((L36-K36)>12,12,(ROUNDUP((L36-K36),0))) -> 0 | N36: =IF(M36>3,M36*2.5,0) -> 0
D38: gesamt | G38: =SUM(G9:G36) -> 0 | H38: Ersatz/Kilometer | I38: 0.5 | J38: =G38*I38 -> 0 | N38: =SUM(N9:N37) -> 0 | O38: =SUM(O9:O37) -> 0 | P38: =SUM(P9:P37) -> 0
B39: Version: 1.1.
