Workbook

Sheet Übersicht
B1: ='Seite 1'!C1 -> Musterfrau | G1: ='Seite 1'!M1 -> 2025
B2: ='Seite 1'!C2 -> Musterauto
B3: ='Seite 1'!C3 -> Mustergasse 1, 9999 Musterstadt
B7: Übersicht | C7: km-Geld | D7: Diäten | E7: Nächtigung | F7: sonstige Ausg.
C8: 0,50/km | D8: € 2,5/Stunde
B10: Seite 1 | C10: ='Seite 1'!G37 -> 434.5 | D10: ='Seite 1'!L37 -> 0 | E10: ='Seite 1'!M37 -> 0 | F10: ='Seite 1'!N37 -> 0
B11: Seite 2 | C11: ='Seite 2'!G37 -> 0 | D11: ='Seite 2'!L37 -> 0 | E11: ='Seite 2'!M37 -> 0 | F11: ='Seite 2'!N37 -> 0
B12: Seite 3 | C12: ='Seite 3'!G37 -> 0 | D12: ='Seite 3'!L37 -> 0 | E12: ='Seite 3'!M37 -> 0 | F12: ='Seite 3'!N37 -> 0
B13: Seite 4 | C13: ='Seite 4'!G37 -> 0 | D13: ='Seite 4'!L37 -> 0 | E13: ='Seite 4'!M37 -> 0 | F13: ='Seite 4'!N37 -> 0
B14: Seite 5 | C14: ='Seite 5'!G37 -> 0 | D14: ='Seite 5'!L37 -> 0 | E14: ='Seite 5'!M37 -> 0 | F14: ='Seite 5'!N37 -> 0
C17: =SUM(C10:C16) -> 434.5 | D17: =SUM(D10:D16) -> 0 | E17: =SUM(E10:E16) -> 0 | F17: =SUM(F10:F16) -> 0
B23: ='Seite 1'!B40 -> Version: ab 2025, Zuschlag für jede mitreisende Person € 0,15

Sheet Seite 1
B1: NAME: | C1: Musterfrau | L1: Zeitraum: | M1: 2025
B2: Fahrzeug: | C2: Musterauto
B3: Ausgangsort: | C3: Mustergasse 1, 9999 Musterstadt
B6: FAHRTENBUCH- und REISEKOSTENABRECHNUNG
B9: DATUM | C9: Kilometer | F9: Ausgangsort | G9: Zielort | H9: Zweck | I9: Reise | L9: Diäten | M9: Nächtigungs- | N9: Diverse
C10: Anfang | D10: Ende | E10: Anzahl | H10: Kunde | I10: Beginn | J10: Ende | K10: Dauer | L10: Inland | M10: kosten | N10: Spesen
B12: 45662 | C12: 13131 | D12: 14000 | E12: =D12-C12 -> 869 | F12: =$C$3 -> Mustergasse 1, 9999 Musterstadt | K12: =24*(J12-I12) -> 0 | L12: =IF(AND(K12>3,K12<12),(K12*2.5),IF(K12>12.01,30,0)) -> 0
E13: =D13-C13 -> 0 | F13: =$C$3 -> Mustergasse 1, 9999 Musterstadt | K13: =24*(J13-I13) -> 0 | L13: =IF(AND(K13>3,K13<12),(K13*2.5),IF(K13>12.01,30,0)) -> 0
E14: =D14-C14 -> 0 | F14: =$C$3 -> Mustergasse 1, 9999 Musterstadt | K14: =24*(J14-I14) -> 0 | L14: =IF(AND(K14>3,K14<12),(K14*2.5),IF(K14>12.01,30,0)) -> 0
E15: =D15-C15 -> 0 | F15: =$C$3 -> Mustergasse 1, 9999 Musterstadt | K15: =24*(J15-I15) -> 0 | L15: =IF(AND(K15>3,K15<12),(K15*2.5),IF(K15>12.01,30,0)) -> 0
E16: =D16-C16 -> 0 | F16: =$C$3 -> Mustergasse 1, 9999 Musterstadt | K16: =24*(J16-I16) -> 0 | L16: =IF(AND(K16>3,K16<12),(K16*2.5),IF(K16>12.01,30,0)) -> 0
E17: =D17-C17 -> 0 | F17: =$C$3 -> Mustergasse 1, 9999 Musterstadt | K17: =24*(J17-I17) -> 0 | L17: =IF(AND(K17>3,K17<12),(K17*2.5),IF(K17>12.01,30,0)) -> 0
E18: =D18-C18 -> 0 | F18: =$C$3 -> Mustergasse 1, 9999 Musterstadt | K18: =24*(J18-I18) -> 0 | L18: =IF(AND(K18>3,K18<12),(K18*2.5),IF(K18>12.01,30,0)) -> 0
E19: =D19-C19 -> 0 | F19: =$C$3 -> Mustergasse 1, 9999 Musterstadt | K19: =24*(J19-I19) -> 0 | L19: =IF(AND(K19>3,K19<12),(K19*2.5),IF(K19>12.01,30,0)) -> 0
E20: =D20-C20 -> 0 | F20: =$C$3 -> Mustergasse 1, 9999 Musterstadt | K20: =24*(J20-I20) -> 0 | L20: =IF(AND(K20>3,K20<12),(K20*2.5),IF(K20>12.01,30,0)) -> 0
E21: =D21-C21 -> 0 | F21: =$C$3 -> Mustergasse 1, 9999 Musterstadt | K21: =24*(J21-I21) -> 0 | L21: =IF(AND(K21>3,K21<12),(K21*2.5),IF(K21>12.01,30,0)) -> 0
E22: =D22-C22 -> 0 | F22: =$C$3 -> Mustergasse 1, 9999 Musterstadt | K22: =24*(J22-I22) -> 0 | L22: =IF(AND(K22>3,K22<12),(K22*2.5),IF(K22>12.01,30,0)) -> 0
E23: =D23-C23 -> 0 | F23: =$C$3 -> Mustergasse 1, 9999 Musterstadt | K23: =24*(J23-I23) -> 0 | L23: =IF(AND(K23>3,K23<12),(K23*2.5),IF(K23>12.01,30,0)) -> 0
E24: =D24-C24 -> 0 | F24: =$C$3 -> Mustergasse 1, 9999 Musterstadt | K24: =24*(J24-I24) -> 0 | L24: =IF(AND(K24>3,K24<12),(K24*2.5),IF(K24>12.01,30,0)) -> 0
... E35: =D35-C35 -> 0 | F35: =$C$3 -> Mustergasse 1, 9999 Musterstadt | K35: =24*(J35-I35) -> 0 | L35: =IF(AND(K35>3,K35<12),(K35*2.5),IF(K35>12.01,30,0)) -> 0
D37: gesamt | E37: =SUM(E12:E36) -> 869 | F37: 0.5 | G37: =E37*F37 -> 434.5 | L37: =SUM(L11:L36) -> 0 | M37: =SUM(M11:M36) -> 0 | N37: =SUM(N11:N36) -> 0
D38: Mitreisende:
B40: Version: ab 2025, Zuschlag für jede mitreisende Person € 0,15

Sheet Seite 2
B1: NAME: | C1: ='Seite 1'!C1 -> Musterfrau | L1: Zeitraum: | M1: ='Seite 1'!M1 -> 2025
B2: Fahrzeug: | C2: ='Seite 1'!C2 -> Musterauto
B3: Ausgangsort: | C3: ='Seite 1'!C3 -> Mustergasse 1, 9999 Musterstadt
B6: FAHRTENBUCH- und REISEKOSTENABRECHNUNG
B9: DATUM | C9: Kilometer | F9: Ausgangsort | G9: Zielort | H9: Zweck | I9: Reise | L9: Diäten | M9: Nächtigungs- | N9: Diverse
C10: Anfang | D10: Ende | E10: Anzahl | H10: Kunde | I10: Beginn | J10: Ende | K10: Dauer | L10: Inland | M10: kosten | N10: Spesen
E12: =D12-C12 -> 0 | F12: =$C$3 -> Mustergasse 1, 9999 Musterstadt | K12: =24*(J12-I12) -> 0 | L12: =IF(AND(K12>3,K12<12),(K12*2.5),IF(K12>12.01,30,0)) -> 0
E13: =D13-C13 -> 0 | F13: =$C$3 -> Mustergasse 1, 9999 Musterstadt | K13: =24*(J13-I13) -> 0 | L13: =IF(AND(K13>3,K13<12),(K13*2.5),IF(K13>12.01,30,0)) -> 0
E14: =D14-C14 -> 0 | F14: =$C$3 -> Mustergasse 1, 9999 Musterstadt | K14: =24*(J14-I14) -> 0 | L14: =IF(AND(K14>3,K14<12),(K14*2.5),IF(K14>12.01,30,0)) -> 0
E15: =D15-C15 -> 0 | F15: =$C$3 -> Mustergasse 1, 9999 Musterstadt | K15: =24*(J15-I15) -> 0 | L15: =IF(AND(K15>3,K15<12),(K15*2.5),IF(K15>12.01,30,0)) -> 0
E16: =D16-C16 -> 0 | F16: =$C$3 -> Mustergasse 1, 9999 Musterstadt | K16: =24*(J16-I16) -> 0 | L16: =IF(AND(K16>3,K16<12),(K16*2.5),IF(K16>12.01,30,0)) -> 0
E17: =D17-C17 -> 0 | F17: =$C$3 -> Mustergasse 1, 9999 Musterstadt | K17: =24*(J17-I17) -> 0 | L17: =IF(AND(K17>3,K17<12),(K17*2.5),IF(K17>12.01,30,0)) -> 0
E18: =D18-C18 -> 0 | F18: =$C$3 -> Mustergasse 1, 9999 Musterstadt | K18: =24*(J18-I18) -> 0 | L18: =IF(AND(K18>3,K18<12),(K18*2.5),IF(K18>12.01,30,0)) -> 0
E19: =D19-C19 -> 0 | F19: =$C$3 -> Mustergasse 1, 9999 Musterstadt | K19: =24*(J19-I19) -> 0 | L19: =IF(AND(K19>3,K19<12),(K19*2.5),IF(K19>12.01,30,0)) -> 0
E20: =D20-C20 -> 0 | F20: =$C$3 -> Mustergasse 1, 9999 Musterstadt | K20: =24*(J20-I20) -> 0 | L20: =IF(AND(K20>3,K20<12),(K20*2.5),IF(K20>12.01,30,0)) -> 0
E21: =D21-C21 -> 0 | F21: =$C$3 -> Mustergasse 1, 9999 Musterstadt | K21: =24*(J21-I21) -> 0 | L21: =IF(AND(K21>3,K21<12),(K21*2.5),IF(K21>12.01,30,0)) -> 0
E22: =D22-C22 -> 0 | F22: =$C$3 -> Mustergasse 1, 9999 Musterstadt | K22: =24*(J22-I22) -> 0 | L22: =IF(AND(K22>3,K22<12),(K22*2.5),IF(K22>12.01,30,0)) -> 0
E23: =D23-C23 -> 0 | F23: =$C$3 -> Mustergasse 1, 9999 Musterstadt | K23: =24*(J23-I23) -> 0 | L23: =IF(AND(K23>3,K23<12),(K23*2.5),IF(K23>12.01,30,0)) -> 0
... E35: =D35-C35 -> 0 | F35: =$C$3 -> Mustergasse 1, 9999 Musterstadt | K35: =24*(J35-I35) -> 0 | L35: =IF(AND(K35>3,K35<12),(K35*2.5),IF(K35>12.01,30,0)) -> 0
D37: gesamt | E37: =SUM(E12:E36) -> 0 | F37: 0.5 | G37: =E37*F37 -> 0 | L37: =SUM(L11:L36) -> 0 | M37: =SUM(M11:M36) -> 0 | N37: =SUM(N11:N36) -> 0
D38: Mitreisende:
B40: ='Seite 1'!B40 -> Version: ab 2025, Zuschlag für jede mitreisende Person € 0,15

Sheet Seite 3
B1: NAME: | C1: ='Seite 1'!C1 -> Musterfrau | L1: Zeitraum: | M1: ='Seite 1'!M1 -> 2025
B2: Fahrzeug: | C2: ='Seite 1'!C2 -> Musterauto
B3: Ausgangsort: | C3: ='Seite 1'!C3 -> Mustergasse 1, 9999 Musterstadt
B6: FAHRTENBUCH- und REISEKOSTENABRECHNUNG
B9: DATUM | C9: Kilometer | F9: Ausgangsort | G9: Zielort | H9: Zweck | I9: Reise | L9: Diäten | M9: Nächtigungs- | N9: Diverse
C10: Anfang | D10: Ende | E10: Anzahl | H10: Kunde | I10: Beginn | J10: Ende | K10: Dauer | L10: Inland | M10: kosten | N10: Spesen
E12: =D12-C12 -> 0 | F12: =$C$3 -> Mustergasse 1, 9999 Musterstadt | K12: =24*(J12-I12) -> 0 | L12: =IF(AND(K12>3,K12<12),(K12*2.5),IF(K12>12.01,30,0)) -> 0
E13: =D13-C13 -> 0 | F13: =$C$3 -> Mustergasse 1, 9999 Musterstadt | K13: =24*(J13-I13) -> 0 | L13: =IF(AND(K13>3,K13<12),(K13*2.5),IF(K13>12.01,30,0)) -> 0
E14: =D14-C14 -> 0 | F14: =$C$3 -> Mustergasse 1, 9999 Musterstadt | K14: =24*(J14-I14) -> 0 | L14: =IF(AND(K14>3,K14<12),(K14*2.5),IF(K14>12.01,30,0)) -> 0
E15: =D15-C15 -> 0 | F15: =$C$3 -> Mustergasse 1, 9999 Musterstadt | K15: =24*(J15-I15) -> 0 | L15: =IF(AND(K15>3,K15<12),(K15*2.5),IF(K15>12.01,30,0)) -> 0
E16: =D16-C16 -> 0 | F16: =$C$3 -> Mustergasse 1, 9999 Musterstadt | K16: =24*(J16-I16) -> 0 | L16: =IF(AND(K16>3,K16<12),(K16*2.5),IF(K16>12.01,30,0)) -> 0
E17: =D17-C17 -> 0 | F17: =$C$3 -> Mustergasse 1, 9999 Musterstadt | K17: =24*(J17-I17) -> 0 | L17: =IF(AND(K17>3,K17<12),(K17*2.5),IF(K17>12.01,30,0)) -> 0
E18: =D18-C18 -> 0 | F18: =$C$3 -> Mustergasse 1, 9999 Musterstadt | K18: =24*(J18-I18) -> 0 | L18: =IF(AND(K18>3,K18<12),(K18*2.5),IF(K18>12.01,30,0)) -> 0
E19: =D19-C19 -> 0 | F19: =$C$3 -> Mustergasse 1, 9999 Musterstadt | K19: =24*(J19-I19) -> 0 | L19: =IF(AND(K19>3,K19<12),(K19*2.5),IF(K19>12.01,30,0)) -> 0
E20: =D20-C20 -> 0 | F20: =$C$3 -> Mustergasse 1, 9999 Musterstadt | K20: =24*(J20-I20) -> 0 | L20: =IF(AND(K20>3,K20<12),(K20*2.5),IF(K20>12.01,30,0)) -> 0
E21: =D21-C21 -> 0 | F21: =$C$3 -> Mustergasse 1, 9999 Musterstadt | K21: =24*(J21-I21) -> 0 | L21: =IF(AND(K21>3,K21<12),(K21*2.5),IF(K21>12.01,30,0)) -> 0
E22: =D22-C22 -> 0 | F22: =$C$3 -> Mustergasse 1, 9999 Musterstadt | K22: =24*(J22-I22) -> 0 | L22: =IF(AND(K22>3,K22<12),(K22*2.5),IF(K22>12.01,30,0)) -> 0
E23: =D23-C23 -> 0 | F23: =$C$3 -> Mustergasse 1, 9999 Musterstadt | K23: =24*(J23-I23) -> 0 | L23: =IF(AND(K23>3,K23<12),(K23*2.5),IF(K23>12.01,30,0)) -> 0
... E35: =D35-C35 -> 0 | F35: =$C$3 -> Mustergasse 1, 9999 Musterstadt | K35: =24*(J35-I35) -> 0 | L35: =IF(AND(K35>3,K35<12),(K35*2.5),IF(K35>12.01,30,0)) -> 0
D37: gesamt | E37: =SUM(E12:E36) -> 0 | F37: 0.5 | G37: =E37*F37 -> 0 | L37: =SUM(L11:L36) -> 0 | M37: =SUM(M11:M36) -> 0 | N37: =SUM(N11:N36) -> 0
D38: Mitreisende:
B40: ='Seite 1'!B40 -> Version: ab 2025, Zuschlag für jede mitreisende Person € 0,15

Sheet Seite 4
B1: NAME: | C1: ='Seite 1'!C1 -> Musterfrau | L1: Zeitraum: | M1: ='Seite 1'!M1 -> 2025
B2: Fahrzeug: | C2: ='Seite 1'!C2 -> Musterauto
B3: Ausgangsort: | C3: ='Seite 1'!C3 -> Mustergasse 1, 9999 Musterstadt
B6: FAHRTENBUCH- und REISEKOSTENABRECHNUNG
B9: DATUM | C9: Kilometer | F9: Ausgangsort | G9: Zielort | H9: Zweck | I9: Reise | L9: Diäten | M9: Nächtigungs- | N9: Diverse
C10: Anfang | D10: Ende | E10: Anzahl | H10: Kunde | I10: Beginn | J10: Ende | K10: Dauer | L10: Inland | M10: kosten | N10: Spesen
E12: =D12-C12 -> 0 | F12: =$C$3 -> Mustergasse 1, 9999 Musterstadt | K12: =24*(J12-I12) -> 0 | L12: =IF(AND(K12>3,K12<12),(K12*2.5),IF(K12>12.01,30,0)) -> 0
E13: =D13-C13 -> 0 | F13: =$C$3 -> Mustergasse 1, 9999 Musterstadt | K13: =24*(J13-I13) -> 0 | L13: =IF(AND(K13>3,K13<12),(K13*2.5),IF(K13>12.01,30,0)) -> 0
E14: =D14-C14 -> 0 | F14: =$C$3 -> Mustergasse 1, 9999 Musterstadt | K14: =24*(J14-I14) -> 0 | L14: =IF(AND(K14>3,K14<12),(K14*2.5),IF(K14>12.01,30,0)) -> 0
E15: =D15-C15 -> 0 | F15: =$C$3 -> Mustergasse 1, 9999 Musterstadt | K15: =24*(J15-I15) -> 0 | L15: =IF(AND(K15>3,K15<12),(K15*2.5),IF(K15>12.01,30,0)) -> 0
E16: =D16-C16 -> 0 | F16: =$C$3 -> Mustergasse 1, 9999 Musterstadt | K16: =24*(J16-I16) -> 0 | L16: =IF(AND(K16>3,K16<12),(K16*2.5),IF(K16>12.01,30,0)) -> 0
E17: =D17-C17 -> 0 | F17: =$C$3 -> Mustergasse 1, 9999 Musterstadt | K17: =24*(J17-I17) -> 0 | L17: =IF(AND(K17>3,K17<12),(K17*2.5),IF(K17>12.01,30,0)) -> 0
E18: =D18-C18 -> 0 | F18: =$C$3 -> Mustergasse 1, 9999 Musterstadt | K18: =24*(J18-I18) -> 0 | L18: =IF(AND(K18>3,K18<12),(K18*2.5),IF(K18>12.01,30,0)) -> 0
E19: =D19-C19 -> 0 | F19: =$C$3 -> Mustergasse 1, 9999 Musterstadt | K19: =24*(J19-I19) -> 0 | L19: =IF(AND(K19>3,K19<12),(K19*2.5),IF(K19>12.01,30,0)) -> 0
E20: =D20-C20 -> 0 | F20: =$C$3 -> Mustergasse 1, 9999 Musterstadt | K20: =24*(J20-I20) -> 0 | L20: =IF(AND(K20>3,K20<12),(K20*2.5),IF(K20>12.01,30,0)) -> 0
E21: =D21-C21 -> 0 | F21: =$C$3 -> Mustergasse 1, 9999 Musterstadt | K21: =24*(J21-I21) -> 0 | L21: =IF(AND(K21>3,K21<12),(K21*2.5),IF(K21>12.01,30,0)) -> 0
E22: =D22-C22 -> 0 | F22: =$C$3 -> Mustergasse 1, 9999 Musterstadt | K22: =24*(J22-I22) -> 0 | L22: =IF(AND(K22>3,K22<12),(K22*2.5),IF(K22>12.01,30,0)) -> 0
E23: =D23-C23 -> 0 | F23: =$C$3 -> Mustergasse 1, 9999 Musterstadt | K23: =24*(J23-I23) -> 0 | L23: =IF(AND(K23>3,K23<12),(K23*2.5),IF(K23>12.01,30,0)) -> 0
... E35: =D35-C35 -> 0 | F35: =$C$3 -> Mustergasse 1, 9999 Musterstadt | K35: =24*(J35-I35) -> 0 | L35: =IF(AND(K35>3,K35<12),(K35*2.5),IF(K35>12.01,30,0)) -> 0
D37: gesamt | E37: =SUM(E12:E36) -> 0 | F37: 0.5 | G37: =E37*F37 -> 0 | L37: =SUM(L11:L36) -> 0 | M37: =SUM(M11:M36) -> 0 | N37: =SUM(N11:N36) -> 0
D38: Mitreisende:
B40: ='Seite 1'!B40 -> Version: ab 2025, Zuschlag für jede mitreisende Person € 0,15

Sheet Seite 5
B1: NAME: | C1: ='Seite 1'!C1 -> Musterfrau | L1: Zeitraum: | M1: ='Seite 1'!M1 -> 2025
B2: Fahrzeug: | C2: ='Seite 1'!C2 -> Musterauto
B3: Ausgangsort: | C3: ='Seite 1'!C3 -> Mustergasse 1, 9999 Musterstadt
B6: FAHRTENBUCH- und REISEKOSTENABRECHNUNG
B9: DATUM | C9: Kilometer | F9: Ausgangsort | G9: Zielort | H9: Zweck | I9: Reise | L9: Diäten | M9: Nächtigungs- | N9: Diverse
C10: Anfang | D10: Ende | E10: Anzahl | H10: Kunde | I10: Beginn | J10: Ende | K10: Dauer | L10: Inland | M10: kosten | N10: Spesen
E12: =D12-C12 -> 0 | F12: =$C$3 -> Mustergasse 1, 9999 Musterstadt | K12: =24*(J12-I12) -> 0 | L12: =IF(AND(K12>3,K12<12),(K12*2.5),IF(K12>12.01,30,0)) -> 0
E13: =D13-C13 -> 0 | F13: =$C$3 -> Mustergasse 1, 9999 Musterstadt | K13: =24*(J13-I13) -> 0 | L13: =IF(AND(K13>3,K13<12),(K13*2.5),IF(K13>12.01,30,0)) -> 0
E14: =D14-C14 -> 0 | F14: =$C$3 -> Mustergasse 1, 9999 Musterstadt | K14: =24*(J14-I14) -> 0 | L14: =IF(AND(K14>3,K14<12),(K14*2.5),IF(K14>12.01,30,0)) -> 0
E15: =D15-C15 -> 0 | F15: =$C$3 -> Mustergasse 1, 9999 Musterstadt | K15: =24*(J15-I15) -> 0 | L15: =IF(AND(K15>3,K15<12),(K15*2.5),IF(K15>12.01,30,0)) -> 0
E16: =D16-C16 -> 0 | F16: =$C$3 -> Mustergasse 1, 9999 Musterstadt | K16: =24*(J16-I16) -> 0 | L16: =IF(AND(K16>3,K16<12),(K16*2.5),IF(K16>12.01,30,0)) -> 0
E17: =D17-C17 -> 0 | F17: =$C$3 -> Mustergasse 1, 9999 Musterstadt | K17: =24*(J17-I17) -> 0 | L17: =IF(AND(K17>3,K17<12),(K17*2.5),IF(K17>12.01,30,0)) -> 0
E18: =D18-C18 -> 0 | F18: =$C$3 -> Mustergasse 1, 9999 Musterstadt | K18: =24*(J18-I18) -> 0 | L18: =IF(AND(K18>3,K18<12),(K18*2.5),IF(K18>12.01,30,0)) -> 0
E19: =D19-C19 -> 0 | F19: =$C$3 -> Mustergasse 1, 9999 Musterstadt | K19: =24*(J19-I19) -> 0 | L19: =IF(AND(K19>3,K19<12),(K19*2.5),IF(K19>12.01,30,0)) -> 0
E20: =D20-C20 -> 0 | F20: =$C$3 -> Mustergasse 1, 9999 Musterstadt | K20: =24*(J20-I20) -> 0 | L20: =IF(AND(K20>3,K20<12),(K20*2.5),IF(K20>12.01,30,0)) -> 0
E21: =D21-C21 -> 0 | F21: =$C$3 -> Mustergasse 1, 9999 Musterstadt | K21: =24*(J21-I21) -> 0 | L21: =IF(AND(K21>3,K21<12),(K21*2.5),IF(K21>12.01,30,0)) -> 0
E22: =D22-C22 -> 0 | F22: =$C$3 -> Mustergasse 1, 9999 Musterstadt | K22: =24*(J22-I22) -> 0 | L22: =IF(AND(K22>3,K22<12),(K22*2.5),IF(K22>12.01,30,0)) -> 0
E23: =D23-C23 -> 0 | F23: =$C$3 -> Mustergasse 1, 9999 Musterstadt | K23: =24*(J23-I23) -> 0 | L23: =IF(AND(K23>3,K23<12),(K23*2.5),IF(K23>12.01,30,0)) -> 0
... E35: =D35-C35 -> 0 | F35: =$C$3 -> Mustergasse 1, 9999 Musterstadt | K35: =24*(J35-I35) -> 0 | L35: =IF(AND(K35>3,K35<12),(K35*2.5),IF(K35>12.01,30,0)) -> 0
D37: gesamt | E37: =SUM(E12:E36) -> 0 | F37: 0.5 | G37: =E37*F37 -> 0 | L37: =SUM(L11:L36) -> 0 | M37: =SUM(M11:M36) -> 0 | N37: =SUM(N11:N36) -> 0
D38: Mitreisende:
B40: ='Seite 1'!B40 -> Version: ab 2025, Zuschlag für jede mitreisende Person € 0,15
