Workbook

Sheet Anleitung
B1: Das vorliegende Stundenaufzeichnungstool geht davon aus, dass jeder Dienstnehmer
B2: eine fixe Arbeitszeiteinteilung hat. Diese wird unter Voreingabe eingetragen.
B3: Diese Grundeinstellung wird für das ganze Jahr automatisch übernommen.
B4: Um die Arbeitzeitaufzeichnung zu individualisieren wird der Namen, die Funktion und die MitarbeiterNr.
B5: eingetragen und das Excelsheet mit einem eigenen Namen abgespeichert (AZG 2026#Name).
B6: Die tatsächlichen Arbeitszeiten, Fehlzeiten, Urlaubstage werden dann bei den
B7: jeweiligen Arbeitstagen eingetragen.
B8: Fertig eingetragene Monate können fixiert werden, sodass die Formelverbindungen zur
B9: Voreingabe unterbunden werden (kopieren des Bereichs des jeweiligen Monats von E9 bis H 56;
B10: dann in das Feld E9 stellen, linke Maustaste Inhalte Einfügen, und danach Werte einfügen auswählen)
B12: Der Unterschied zwischen der Sollarbeitszeit und der Istarbeitszeit wird berechnet
B13: und muss dann noch individuell auf die Bereiche Zeitausgleich, Durchrechnung, Mehrstunden,
... B42: Stand des Urlaubsanspruchs.

Sheet Voreingabe
B1: Grundeingabe | I1: 2026
B3: Mitarbeiter: | C3: Musterfrau | E3: Funktion: | F3: Buchhalterin | H3: MitarbeiterNr.: | I3: 5
C6: Arbeitszeit | E6: 1. Pause | G6: 2. Pause
C7: von | D7: bis | E7: von | F7: bis | G7: von | H7: bis | I7: Arbeitszeit
B8: Mo | C8: 9 | D8: 18 | E8: 12 | F8: 12.5 | I8: =(D8-C8)-(F8-E8)-(H8-G8) -> 8.5
B9: Di | C9: 9 | D9: 18 | E9: 12 | F9: 12.5 | I9: =(D9-C9)-(F9-E9)-(H9-G9) -> 8.5
B10: Mi | C10: 9 | D10: 17 | E10: 12 | F10: 12.5 | I10: =(D10-C10)-(F10-E10)-(H10-G10) -> 7.5
B11: Do | C11: 9 | D11: 17 | E11: 12 | F11: 12.5 | I11: =(D11-C11)-(F11-E11)-(H11-G11) -> 7.5
B12: Fr | C12: 9 | D12: 16 | E12: 12 | F12: 12.5 | I12: =(D12-C12)-(F12-E12)-(H12-G12) -> 6.5
B13: Sa | E13: 0 | F13: 0 | I13: =(D13-C13)-(F13-E13)-(H13-G13) -> 0
B14: So | E14: 0 | F14: 0 | I14: =(D14-C14)-(F14-E14)-(H14-G14) -> 0
B16: Wochenarbeitszeit | I16: =SUM(I8:I14) -> 38.5
B18: Zeiteingaben:
B19: Viertelstunde: | D19: 0.25
B20: Halbestunde | D20: 0.5
B21: Dreiviertelstunde | D21: 0.75
B22: Ganze Stunde | D22: 0

Sheet URLAUB
B1: Urlaubsaufzeichnung 2026
B3: Grundeingabe
B5: Mitarbeiter: | C5: =Voreingabe!C3 -> Musterfrau | E5: Funktion: | F5: =Voreingabe!F3 -> Buchhalterin | H5: MitarbeiterNr.: | I5: =Voreingabe!I3 -> 5
B7: Eintritt: | C7: 46023 | D7: 46387
B8: Urlaubsjahr in Tagen: | C8: =DAYS360(C7,D7) -> 360
B10: Anspruch in Wochen: | C10: 5 | D10: Wochen
B11: Arbeitstage pro Woche | C11: 5 | D11: Tage
C12: =C10*C11 -> 25 | D12: Urlaubstage
B14: Vortrag aus Vorjahr | D14: bitte eintragen | G14: Infos zur Urlaubstageverwaltung
G15: Der Dienstnehmer hat Anspruch auf 5 Wochen Urlaub. Nach 25 Dienstjahren
B16: Anspruch 2026 | C16: =ROUND(C12/360*C8,0) -> 25 | G16: erhöht sich dieser Anspruch auf 6 Wochen.
B17: Verbrauch 2026 | C17: =C38 -> 0 | G17: Die Wochen werden in Arbeitstage/Woche umgerechnet. Arbeitet der
B18: Saldo 31.12.2026 | C18: =+C14+C16-C17 -> 25 | G18: Dienstnehmer an 5 Werktagen, hat er 25 Arbeitstage Urlaubsanspruch,
G19: arbeitet er an 6 Werktagen, dann hat er 30 Tage Anspruch.
G22: Tritt der DN während des Jahres ein. So errechnet sich der Urlaubsanspruch
G23: für das erste Jahr automatisch, wenn im Feld "C5" das Eintrittsdatum
G24: eingetragen wird.
B25: Verbrauch Urlaubstage | E25: Arbeitstage | G25: Ein Urlaubstag kann nur dann verbraucht werden, wenn der Dienstnehmer
B26: Jänner | C26: =+Jänner!D58 -> 0 | E26: =Jänner!D59 -> 22 | G26: an diesem Tag gearbeitet hätte. Daher gibt es zB keinen Urlaubsverbrauch
B27: Februar | C27: =+Februar!D58 -> 0 | E27: =+Februar!D59 -> 20 | G27: an einem Feiertag oder Samstag bei einer 5-Tage-Woche.
B28: März | C28: =+März!D58 -> 0 | E28: =+März!D59 -> 22 | G28: Bitte die Urlaubstage in der entsprechenden Spalte mit "U" eintragen.
B29: April | C29: =+April!D58 -> 0 | E29: =+April!D59 -> 22 | G29: Der Urlaubsverbrauch wird dann auf dieser Seite zusammengefaßt
B30: Mai | C30: =+Mai!D58 -> 0 | E30: =+Mai!D59 -> 21 | G30: und auf dieser Seite eingetragen.
B31: Juni | C31: =+Juni!D50 -> 0 | E31: =+Juni!D51 -> 22 | G31: In diesem Feld wird noch der Urlaubsanspruch aus dem Vorjahr eingetragen,
B32: Juli | C32: =+Juli!D58 -> 0 | E32: =+Juli!D59 -> 23 | G32: damit kann der Urlaub transparent und nachvollziehbar verwaltet
B33: August | C33: =+Aug.!D58 -> 0 | E33: =+Aug.!D59 -> 21 | G33: werden.
B34: September | C34: =+Sept.!D58 -> 0 | E34: =+Sept.!D59 -> 22 | G34: Falls sich die Arbeitszeiten während des Jahres ändert kann man an Hand
B35: Oktober | C35: =+Okt.!D58 -> 0 | E35: =+Okt.!D59 -> 22 | G35: der jeweils geleisteten Arbeitstage eine genaue Berechnung des Urlaubs-
B36: November | C36: =+Nov.!D58 -> 0 | E36: =+Nov.!D59 -> 21 | G36: anspruchs vornehmen.
B37: Dezember | C37: =+Dez.!D58 -> 0 | E37: =+Dez.!D59 -> 23
B38: Summe Verbrauch | C38: =SUM(C26:C37) -> 0

Sheet Infoblatt
B1: Zeitguthaben durch Umwandlung von Mehr- und Überstunden
B3: Aktuelles Zeitguthaben | E3: =Dez.!R63 -> 0 | F3: Stunden
B7: Durchrechnungsvereinbarung
B9: Mit der MitarbeiterIn wurde eine Durchrechnungs- und Gleitzeitvereinbarung
B10: vom | C10: 46023
B11: bis | C11: 46387
B12: abgeschlossen.
C13: ja | D13: nein
C14: X
B16: Es ergeben sich aus dieser Vereinbarung folgende Zeitguthaben
B17: (andere Verteilung der Normalarbeitszeit)
C19: Vortrag: | E19: =Jänner!S9 -> 0
B20: Jänner | E20: =F20-E19 -> 0 | F20: =+Jänner!S63 -> 0
B21: Februar | E21: =F21-F20 -> 0 | F21: =+Februar!S63 -> 0
B22: März | E22: =F22-F21 -> 0 | F22: =+März!S63 -> 0
B23: April | E23: =F23-F22 -> 0 | F23: =+April!S63 -> 0
B24: Mai | E24: =F24-F23 -> 0 | F24: =+Mai!S63 -> 0
B25: Juni | E25: =F25-F24 -> 0 | F25: =+Juni!S55 -> 0
B26: Juli | E26: =F26-F25 -> 0 | F26: =+Juli!S63 -> 0
B27: August | E27: =F27-F26 -> 0 | F27: =+Aug.!S63 -> 0
B28: September | E28: =F28-F27 -> 0 | F28: =+Sept.!S63 -> 0
B29: Oktober | E29: =F29-F28 -> 0 | F29: =+Okt.!S63 -> 0
B30: November | E30: =F30-F29 -> 0 | F30: =+Nov.!S63 -> 0
B31: Dezember | E31: =F31-F30 -> 0 | F31: =+Dez.!S63 -> 0
B32: Gutstunden/Minusstunden | E32: =Dez.!S63 -> 0

Sheet Jänner
B1: ZEITERFASSUNG
B4: NAME: | C4: =Voreingabe!C3 -> Musterfrau | K4: FUNKTION: | M4: =Voreingabe!F3 -> Buchhalterin | V4: MA-Nummer: | X4: =Voreingabe!I3 -> 5
B6: MONAT: | C6: Jänner | K6: JAHR: | M6: 2026
B8: Tag | C8: Datum | D8: INFO | E8: Arbeits- beginn | F8: Pausen-beginn | G8: Pausen-ende | H8: Pausen-beginn | I8: Pausen-ende | J8: Arbeits- ende | K8: Pausen-dauer | L8: tatsächl. geleistete Std. | M8: Info Arbeitszeit | N8: Info Pause | O8: Stunden Soll | P8: Stunden differenz | Q8: Nacht- stunden | R8: Zeit-ausgleich | S8: Durchrechnung | T8: Mehr- stunden | U8: Mehr- stunden 25% | V8: 50%- Überstd. | W8: 100%- Überstd. | X8: Sonn- u. Feiertag | Y8: Nacht-zuschlag | Z8: Kontrolle | AI8: Summe UT | AJ8: Summe AT
C9: ÜBERTRAG AUS DEM VORJAHR
B10: Montag | AB10: =P10-T10-V10-W10-X10-Y10-R10-U10-S10 -> 0 | AC10: =IF(AND(J10>=0.1,J10<6),J10+24,IF(J10>12,J10,0)) -> 0 | AD10: =IF(E10>6.99,"1","2") -> 2 | AE10: =IF(AC10<18.99,"1","2") -> 1 | AF10: =IF(AC10>=22,"2","1") -> 1 | AG10: =AD10+AE10+AF10 -> 4 | AI10: =IF(D10="U",1," ") | AJ10: =IF(L10>0.5,1," ")
B11: Dienstag | AB11: =P11-T11-V11-W11-X11-Y11-R11-U11-S11 -> 0 | AC11: =IF(AND(J11>=0.1,J11<6),J11+24,IF(J11>12,J11,0)) -> 0 | AD11: =IF(E11>6.99,"1","2") -> 2 | AE11: =IF(AC11<18.99,"1","2") -> 1 | AF11: =IF(AC11>=22,"2","1") -> 1 | AG11: =AD11+AE11+AF11 -> 4 | AI11: =IF(D11="U",1," ") | AJ11: =IF(L11>0.5,1," ")
B12: Mittwoch | M12: =IF(L12>12,"§9 AZG! ","-") -> - | N12: =IF(L12>6,IF(K12<0.5,"Pause!","-"),"-") -> - | Z12: =IF(AB12=0,"Okay","Fehler") -> Okay | AB12: =P12-T12-V12-W12-X12-Y12-R12-U12-S12 -> 0 | AC12: =IF(AND(J12>=0.1,J12<6),J12+24,IF(J12>12,J12,0)) -> 0 | AD12: =IF(E12>6.99,"1","2") -> 2 | AE12: =IF(AC12<18.99,"1","2") -> 1 | AF12: =IF(AC12>=22,"2","1") -> 1 | AG12: =AD12+AE12+AF12 -> 4 | AI12: =IF(D12="U",1," ") | AJ12: =IF(L12>0.5,1," ")
B13: Donnerstag | C13: 46023 | D13: FE | E13: =Voreingabe!$C$11 -> 9 | F13: =Voreingabe!$E$11 -> 12 | G13: =Voreingabe!$F$11 -> 12.5 | H13: =Voreingabe!$G$11 -> 0 | I13: =Voreingabe!$H$11 -> 0 | J13: =Voreingabe!$D$11 -> 17 | K13: =(G13-F13)+(I13-H13) -> 0.5 | L13: =+IF((J13-E13-K13)>=0,(J13-E13-K13),(J13-(E13-24)-K13)) -> 7.5 | M13: =IF(L13>12,"§9 AZG! ","-") -> - | N13: =IF(L13>6,IF(K13<0.5,"Pause!","-"),"-") -> - | O13: =Voreingabe!$I$11 -> 7.5 | P13: =L13-O13 -> 0 | Z13: =IF(AB13=0,"Okay","Fehler") -> Okay | AB13: =P13-T13-V13-W13-X13-Y13-R13-U13-S13 -> 0 | AC13: =IF(AND(J13>=0.1,J13<6),J13+24,IF(J13>12,J13,0)) -> 17 | AD13: =IF(E13>6.99,"1","2") -> 1 | AE13: =IF(AC13<18.99,"1","2") -> 1 | AF13: =IF(AC13>=22,"2","1") -> 1 | AG13: =AD13+AE13+AF13 -> 3 | AI13: =IF(D13="U",1," ") | AJ13: =IF(L13>0.5,1," ") -> 1
B14: Freitag | C14: =C13+1 -> 46024 | E14: =Voreingabe!$C$12 -> 9 | F14: =Voreingabe!$E$12 -> 12 | G14: =Voreingabe!$F$12 -> 12.5 | H14: =Voreingabe!$G$12 -> 0 | I14: =Voreingabe!$H$12 -> 0 | J14: =Voreingabe!$D$12 -> 16 | K14: =(G14-F14)+(I14-H14) -> 0.5 | L14: =+IF((J14-E14-K14)>=0,(J14-E14-K14),(J14-(E14-24)-K14)) -> 6.5 | M14: =IF(L14>12,"§9 AZG! ","-") -> - | N14: =IF(L14>6,IF(K14<0.5,"Pause!","-"),"-") -> - | O14: =Voreingabe!$I$12 -> 6.5 | P14: =L14-O14 -> 0 | Z14: =IF(AB14=0,"Okay","Fehler") -> Okay | AB14: =P14-T14-V14-W14-X14-Y14-R14-U14-S14 -> 0 | AC14: =IF(AND(J14>=0.1,J14<6),J14+24,IF(J14>12,J14,0)) -> 16 | AD14: =IF(E14>6.99,"1","2") -> 1 | AE14: =IF(AC14<18.99,"1","2") -> 1 | AF14: =IF(AC14>=22,"2","1") -> 1 | AG14: =AD14+AE14+AF14 -> 3 | AI14: =IF(D14="U",1," ") | AJ14: =IF(L14>0.5,1," ") -> 1
B15: Samstag | C15: =C14+1 -> 46025 | E15: =Voreingabe!$C$13 -> 0 | F15: =Voreingabe!$E$13 -> 0 | G15: =Voreingabe!$F$13 -> 0 | H15: =Voreingabe!$G$13 -> 0 | I15: =Voreingabe!$H$13 -> 0 | J15: =Voreingabe!$D$13 -> 0 | K15: =(G15-F15)+(I15-H15) -> 0 | L15: =+IF((J15-E15-K15)>=0,(J15-E15-K15),(J15-(E15-24)-K15)) -> 0 | M15: =IF(L15>12,"§9 AZG! ","-") -> - | N15: =IF(L15>6,IF(K15<0.5,"Pause!","-"),"-") -> - | O15: =Voreingabe!$I$13 -> 0 | P15: =L15-O15 -> 0 | Z15: =IF(AB15=0,"Okay","Fehler") -> Okay | AB15: =P15-T15-V15-W15-X15-Y15-R15-U15-S15 -> 0 | AC15: =IF(AND(J15>=0.1,J15<6),J15+24,IF(J15>12,J15,0)) -> 0 | AD15: =IF(E15>6.99,"1","2") -> 2 | AE15: =IF(AC15<18.99,"1","2") -> 1 | AF15: =IF(AC15>=22,"2","1") -> 1 | AG15: =AD15+AE15+AF15 -> 4 | AI15: =IF(D15="U",1," ") | AJ15: =IF(L15>0.5,1," ")
B16: Sonntag | C16: =C15+1 -> 46026 | E16: =Voreingabe!$C$14 -> 0 | F16: =Voreingabe!$E$14 -> 0 | G16: =Voreingabe!$F$14 -> 0 | H16: =Voreingabe!$G$14 -> 0 | I16: =Voreingabe!$H$14 -> 0 | J16: =Voreingabe!$D$14 -> 0 | K16: =(G16-F16)+(I16-H16) -> 0 | L16: =+IF((J16-E16-K16)>=0,(J16-E16-K16),(J16-(E16-24)-K16)) -> 0 | M16: =IF(L16>12,"§9 AZG! ","-") -> - | N16: =IF(L16>6,IF(K16<0.5,"Pause!","-"),"-") -> - | O16: =Voreingabe!$I$14 -> 0 | P16: =L16-O16 -> 0 | Q16: =IF(AND((J16-19)>2.99,(J16-E16)>3,J16>19),"JA","-") -> - | Z16: =IF(AB16=0,"Okay","Fehler") -> Okay | AB16: =P16-T16-V16-W16-X16-Y16-R16-U16-S16 -> 0 | AC16: =IF(AND(J16>=0.1,J16<6),J16+24,IF(J16>12,J16,0)) -> 0 | AD16: =IF(E16>6.99,"1","2") -> 2 | AE16: =IF(AC16<18.99,"1","2") -> 1 | AF16: =IF(AC16>=22,"2","1") -> 1 | AG16: =AD16+AE16+AF16 -> 4 | AJ16: =IF(L16>0.5,1," ")
B17: Wochensumme 1 | L17: =SUM(L10:L16) -> 14 | M17: =IF(L17>60,"§9 AZG! ","-") -> - | O17: =SUM(O10:O16) -> 14 | P17: =L17-O17 -> 0 | R17: =SUM(R10:R16) -> 0 | S17: =SUM(S10:S16) -> 0 | T17: =SUM(T10:T16) -> 0 | U17: =SUM(U10:U16) -> 0 | V17: =SUM(V10:V16) -> 0 | W17: =SUM(W10:W16) -> 0 | X17: =SUM(X10:X16) -> 0 | Y17: =SUM(Y10:Y16) -> 0 | Z17: =SUM(T17:Y17) -> 0
B18: Montag | C18: =C16+1 -> 46027 | E18: =Voreingabe!$C$8 -> 9 | F18: =Voreingabe!$E$8 -> 12 | G18: =Voreingabe!$F$8 -> 12.5 | H18: =Voreingabe!$G$8 -> 0 | I18: =Voreingabe!$H$8 -> 0 | J18: =Voreingabe!$D$8 -> 18 | K18: =(G18-F18)+(I18-H18) -> 0.5 | L18: =+IF((J18-E18-K18)>=0,(J18-E18-K18),(J18-(E18-24)-K18)) -> 8.5 | M18: =IF(L18>12,"§9 AZG! ","-") -> - | N18: =IF(L18>6,IF(K18<0.5,"Pause!","-"),"-") -> - | O18: =Voreingabe!$I$8 -> 8.5 | P18: =L18-O18 -> 0 | Q18: =IF(AND((J18-19)>2.99,(J18-E18)>3,J18>19),"JA","-") -> - | Z18: =IF(AB18=0,"Okay","Fehler") -> Okay | AB18: =P18-T18-V18-W18-X18-Y18-R18-U18-S18 -> 0 | AC18: =IF(AND(J18>=0.1,J18<6),J18+24,IF(J18>12,J18,0)) -> 18 | AD18: =IF(E18>6.99,"1","2") -> 1 | AE18: =IF(AC18<18.99,"1","2") -> 1 | AF18: =IF(AC18>=22,"2","1") -> 1 | AG18: =AD18+AE18+AF18 -> 3 | AI18: =IF(D18="U",1," ") | AJ18: =IF(L18>0.5,1," ") -> 1
B19: Dienstag | C19: =C18+1 -> 46028 | D19: FE | E19: =Voreingabe!$C$9 -> 9 | F19: =Voreingabe!$E$9 -> 12 | G19: =Voreingabe!$F$9 -> 12.5 | H19: =Voreingabe!$G$9 -> 0 | I19: =Voreingabe!$H$9 -> 0 | J19: =Voreingabe!$D$9 -> 18 | K19: =(G19-F19)+(I19-H19) -> 0.5 | L19: =+IF((J19-E19-K19)>=0,(J19-E19-K19),(J19-(E19-24)-K19)) -> 8.5 | M19: =IF(L19>12,"§9 AZG! ","-") -> - | N19: =IF(L19>6,IF(K19<0.5,"Pause!","-"),"-") -> - | O19: =Voreingabe!$I$9 -> 8.5 | P19: =L19-O19 -> 0 | Q19: =IF(AND((J19-19)>2.99,(J19-E19)>3,J19>19),"JA","-") -> - | Z19: =IF(AB19=0,"Okay","Fehler") -> Okay | AB19: =P19-T19-V19-W19-X19-Y19-R19-U19-S19 -> 0 | AC19: =IF(AND(J19>=0.1,J19<6),J19+24,IF(J19>12,J19,0)) -> 18 | AD19: =IF(E19>6.99,"1","2") -> 1 | AE19: =IF(AC19<18.99,"1","2") -> 1 | AF19: =IF(AC19>=22,"2","1") -> 1 | AG19: =AD19+AE19+AF19 -> 3 | AI19: =IF(D19="U",1," ") | AJ19: =IF(L19>0.5,1," ") -> 1
B20: Mittwoch | C20: =C19+1 -> 46029 | E20: =Voreingabe!$C$10 -> 9 | F20: =Voreingabe!$E$10 -> 12 | G20: =Voreingabe!$F$10 -> 12.5 | H20: =Voreingabe!$G$10 -> 0 | I20: =Voreingabe!$H$10 -> 0 | J20: =Voreingabe!$D$10 -> 17 | K20: =(G20-F20)+(I20-H20) -> 0.5 | L20: =+IF((J20-E20-K20)>=0,(J20-E20-K20),(J20-(E20-24)-K20)) -> 7.5 | M20: =IF(L20>12,"§9 AZG! ","-") -> - | N20: =IF(L20>6,IF(K20<0.5,"Pause!","-"),"-") -> - | O20: =Voreingabe!$I$10 -> 7.5 | P20: =L20-O20 -> 0 | Q20: =IF(AND((J20-19)>2.99,(J20-E20)>3,J20>19),"JA","-") -> - | Z20: =IF(AB20=0,"Okay","Fehler") -> Okay | AB20: =P20-T20-V20-W20-X20-Y20-R20-U20-S20 -> 0 | AC20: =IF(AND(J20>=0.1,J20<6),J20+24,IF(J20>12,J20,0)) -> 17 | AD20: =IF(E20>6.99,"1","2") -> 1 | AE20: =IF(AC20<18.99,"1","2") -> 1 | AF20: =IF(AC20>=22,"2","1") -> 1 | AG20: =AD20+AE20+AF20 -> 3 | AI20: =IF(D20="U",1," ") | AJ20: =IF(L20>0.5,1," ") -> 1
B21: Donnerstag | C21: =C20+1 -> 46030 | E21: =Voreingabe!$C$11 -> 9 | F21: =Voreingabe!$E$11 -> 12 | G21: =Voreingabe!$F$11 -> 12.5 | H21: =Voreingabe!$G$11 -> 0 | I21: =Voreingabe!$H$11 -> 0 | J21: =Voreingabe!$D$11 -> 17 | K21: =(G21-F21)+(I21-H21) -> 0.5 | L21: =+IF((J21-E21-K21)>=0,(J21-E21-K21),(J21-(E21-24)-K21)) -> 7.5 | M21: =IF(L21>12,"§9 AZG! ","-") -> - | N21: =IF(L21>6,IF(K21<0.5,"Pause!","-"),"-") -> - | O21: =Voreingabe!$I$11 -> 7.5 | P21: =L21-O21 -> 0 | Q21: =IF(AND((J21-19)>2.99,(J21-E21)>3,J21>19),"JA","-") -> - | Z21: =IF(AB21=0,"Okay","Fehler") -> Okay | AB21: =P21-T21-V21-W21-X21-Y21-R21-U21-S21 -> 0 | AC21: =IF(AND(J21>=0.1,J21<6),J21+24,IF(J21>12,J21,0)) -> 17 | AD21: =IF(E21>6.99,"1","2") -> 1 | AE21: =IF(AC21<18.99,"1","2") -> 1 | AF21: =IF(AC21>=22,"2","1") -> 1 | AG21: =AD21+AE21+AF21 -> 3 | AI21: =IF(D21="U",1," ") | AJ21: =IF(L21>0.5,1," ") -> 1
B22: Freitag | C22: =C21+1 -> 46031 | E22: =Voreingabe!$C$12 -> 9 | F22: =Voreingabe!$E$12 -> 12 | G22: =Voreingabe!$F$12 -> 12.5 | H22: =Voreingabe!$G$12 -> 0 | I22: =Voreingabe!$H$12 -> 0 | J22: =Voreingabe!$D$12 -> 16 | K22: =(G22-F22)+(I22-H22) -> 0.5 | L22: =+IF((J22-E22-K22)>=0,(J22-E22-K22),(J22-(E22-24)-K22)) -> 6.5 | M22: =IF(L22>12,"§9 AZG! ","-") -> - | N22: =IF(L22>6,IF(K22<0.5,"Pause!","-"),"-") -> - | O22: =Voreingabe!$I$12 -> 6.5 | P22: =L22-O22 -> 0 | Q22: =IF(AND((J22-19)>2.99,(J22-E22)>3,J22>19),"JA","-") -> - | Z22: =IF(AB22=0,"Okay","Fehler") -> Okay | AB22: =P22-T22-V22-W22-X22-Y22-R22-U22-S22 -> 0 | AC22: =IF(AND(J22>=0.1,J22<6),J22+24,IF(J22>12,J22,0)) -> 16 | AD22: =IF(E22>6.99,"1","2") -> 1 | AE22: =IF(AC22<18.99,"1","2") -> 1 | AF22: =IF(AC22>=22,"2","1") -> 1 | AG22: =AD22+AE22+AF22 -> 3 | AI22: =IF(D22="U",1," ") | AJ22: =IF(L22>0.5,1," ") -> 1
B23: Samstag | C23: =C22+1 -> 46032 | E23: =Voreingabe!$C$13 -> 0 | F23: =Voreingabe!$E$13 -> 0 | G23: =Voreingabe!$F$13 -> 0 | H23: =Voreingabe!$G$13 -> 0 | I23: =Voreingabe!$H$13 -> 0 | J23: =Voreingabe!$D$13 -> 0 | K23: =(G23-F23)+(I23-H23) -> 0 | L23: =+IF((J23-E23-K23)>=0,(J23-E23-K23),(J23-(E23-24)-K23)) -> 0 | M23: =IF(L23>12,"§9 AZG! ","-") -> - | N23: =IF(L23>6,IF(K23<0.5,"Pause!","-"),"-") -> - | O23: =Voreingabe!$I$13 -> 0 | P23: =L23-O23 -> 0 | Q23: =IF(AND((J23-19)>2.99,(J23-E23)>3,J23>19),"JA","-") -> - | Z23: =IF(AB23=0,"Okay","Fehler") -> Okay | AB23: =P23-T23-V23-W23-X23-Y23-R23-U23-S23 -> 0 | AC23: =IF(AND(J23>=0.1,J23<6),J23+24,IF(J23>12,J23,0)) -> 0 | AD23: =IF(E23>6.99,"1","2") -> 2 | AE23: =IF(AC23<18.99,"1","2") -> 1 | AF23: =IF(AC23>=22,"2","1") -> 1 | AG23: =AD23+AE23+AF23 -> 4 | AI23: =IF(D23="U",1," ") | AJ23: =IF(L23>0.5,1," ")
B24: Sonntag | C24: =C23+1 -> 46033 | E24: =Voreingabe!$C$14 -> 0 | F24: =Voreingabe!$E$14 -> 0 | G24: =Voreingabe!$F$14 -> 0 | H24: =Voreingabe!$G$14 -> 0 | I24: =Voreingabe!$H$14 -> 0 | J24: =Voreingabe!$D$14 -> 0 | K24: =(G24-F24)+(I24-H24) -> 0 | L24: =+IF((J24-E24-K24)>=0,(J24-E24-K24),(J24-(E24-24)-K24)) -> 0 | M24: =IF(L24>12,"§9 AZG! ","-") -> - | N24: =IF(L24>6,IF(K24<0.5,"Pause!","-"),"-") -> - | O24: =Voreingabe!$I$14 -> 0 | P24: =L24-O24 -> 0 | Q24: =IF(AND((J24-19)>2.99,(J24-E24)>3,J24>19),"JA","-") -> - | Z24: =IF(AB24=0,"Okay","Fehler") -> Okay | AB24: =P24-T24-V24-W24-X24-Y24-R24-U24-S24 -> 0 | AC24: =IF(AND(J24>=0.1,J24<6),J24+24,IF(J24>12,J24,0)) -> 0 | AD24: =IF(E24>6.99,"1","2") -> 2 | AE24: =IF(AC24<18.99,"1","2") -> 1 | AF24: =IF(AC24>=22,"2","1") -> 1 | AG24: =AD24+AE24+AF24 -> 4 | AJ24: =IF(L24>0.5,1," ")
B25: Wochensumme 2 | L25: =SUM(L18:L24) -> 38.5 | M25: =IF(L25>60,"§9 AZG! ","-") -> - | O25: =SUM(O18:O24) -> 38.5 | P25: =L25-O25 -> 0 | R25: =SUM(R18:R24) -> 0 | S25: =SUM(S18:S24) -> 0 | T25: =SUM(T18:T24) -> 0 | U25: =SUM(U18:U24) -> 0 | V25: =SUM(V18:V24) -> 0 | W25: =SUM(W18:W24) -> 0 | X25: =SUM(X18:X24) -> 0 | Y25: =SUM(Y18:Y24) -> 0 | Z25: =SUM(T25:Y25) -> 0
B26: Montag | C26: =C24+1 -> 46034 | E26: =Voreingabe!$C$8 -> 9 | F26: =Voreingabe!$E$8 -> 12 | G26: =Voreingabe!$F$8 -> 12.5 | H26: =Voreingabe!$G$8 -> 0 | I26: =Voreingabe!$H$8 -> 0 | J26: =Voreingabe!$D$8 -> 18 | K26: =(G26-F26)+(I26-H26) -> 0.5 | L26: =+IF((J26-E26-K26)>=0,(J26-E26-K26),(J26-(E26-24)-K26)) -> 8.5 | M26: =IF(L26>12,"§9 AZG! ","-") -> - | N26: =IF(L26>6,IF(K26<0.5,"Pause!","-"),"-") -> - | O26: =Voreingabe!$I$8 -> 8.5 | P26: =L26-O26 -> 0 | Q26: =IF(AND((J26-19)>2.99,(J26-E26)>3,J26>19),"JA","-") -> - | Z26: =IF(AB26=0,"Okay","Fehler") -> Okay | AB26: =P26-T26-V26-W26-X26-Y26-R26-U26-S26 -> 0 | AC26: =IF(AND(J26>=0.1,J26<6),J26+24,IF(J26>12,J26,0)) -> 18 | AD26: =IF(E26>6.99,"1","2") -> 1 | AE26: =IF(AC26<18.99,"1","2") -> 1 | AF26: =IF(AC26>=22,"2","1") -> 1 | AG26: =AD26+AE26+AF26 -> 3 | AI26: =IF(D26="U",1," ") | AJ26: =IF(L26>0.5,1," ") -> 1
B27: Dienstag | C27: =C26+1 -> 46035 | E27: =Voreingabe!$C$9 -> 9 | F27: =Voreingabe!$E$9 -> 12 | G27: =Voreingabe!$F$9 -> 12.5 | H27: =Voreingabe!$G$9 -> 0 | I27: =Voreingabe!$H$9 -> 0 | J27: =Voreingabe!$D$9 -> 18 | K27: =(G27-F27)+(I27-H27) -> 0.5 | L27: =+IF((J27-E27-K27)>=0,(J27-E27-K27),(J27-(E27-24)-K27)) -> 8.5 | M27: =IF(L27>12,"§9 AZG! ","-") -> - | N27: =IF(L27>6,IF(K27<0.5,"Pause!","-"),"-") -> - | O27: =Voreingabe!$I$9 -> 8.5 | P27: =L27-O27 -> 0 | Q27: =IF(AND((J27-19)>2.99,(J27-E27)>3,J27>19),"JA","-") -> - | Z27: =IF(AB27=0,"Okay","Fehler") -> Okay | AB27: =P27-T27-V27-W27-X27-Y27-R27-U27-S27 -> 0 | AC27: =IF(AND(J27>=0.1,J27<6),J27+24,IF(J27>12,J27,0)) -> 18 | AD27: =IF(E27>6.99,"1","2") -> 1 | AE27: =IF(AC27<18.99,"1","2") -> 1 | AF27: =IF(AC27>=22,"2","1") -> 1 | AG27: =AD27+AE27+AF27 -> 3 | AI27: =IF(D27="U",1," ") | AJ27: =IF(L27>0.5,1," ") -> 1
B28: Mittwoch | C28: =C27+1 -> 46036 | E28: =Voreingabe!$C$10 -> 9 | F28: =Voreingabe!$E$10 -> 12 | G28: =Voreingabe!$F$10 -> 12.5 | H28: =Voreingabe!$G$10 -> 0 | I28: =Voreingabe!$H$10 -> 0 | J28: =Voreingabe!$D$10 -> 17 | K28: =(G28-F28)+(I28-H28) -> 0.5 | L28: =+IF((J28-E28-K28)>=0,(J28-E28-K28),(J28-(E28-24)-K28)) -> 7.5 | M28: =IF(L28>12,"§9 AZG! ","-") -> - | N28: =IF(L28>6,IF(K28<0.5,"Pause!","-"),"-") -> - | O28: =Voreingabe!$I$10 -> 7.5 | P28: =L28-O28 -> 0 | Q28: =IF(AND((J28-19)>2.99,(J28-E28)>3,J28>19),"JA","-") -> - | Z28: =IF(AB28=0,"Okay","Fehler") -> Okay | AB28: =P28-T28-V28-W28-X28-Y28-R28-U28-S28 -> 0 | AC28: =IF(AND(J28>=0.1,J28<6),J28+24,IF(J28>12,J28,0)) -> 17 | AD28: =IF(E28>6.99,"1","2") -> 1 | AE28: =IF(AC28<18.99,"1","2") -> 1 | AF28: =IF(AC28>=22,"2","1") -> 1 | AG28: =AD28+AE28+AF28 -> 3 | AI28: =IF(D28="U",1," ") | AJ28: =IF(L28>0.5,1," ") -> 1
B29: Donnerstag | C29: =C28+1 -> 46037 | E29: =Voreingabe!$C$11 -> 9 | F29: =Voreingabe!$E$11 -> 12 | G29: =Voreingabe!$F$11 -> 12.5 | H29: =Voreingabe!$G$11 -> 0 | I29: =Voreingabe!$H$11 -> 0 | J29: =Voreingabe!$D$11 -> 17 | K29: =(G29-F29)+(I29-H29) -> 0.5 | L29: =+IF((J29-E29-K29)>=0,(J29-E29-K29),(J29-(E29-24)-K29)) -> 7.5 | M29: =IF(L29>12,"§9 AZG! ","-") -> - | N29: =IF(L29>6,IF(K29<0.5,"Pause!","-"),"-") -> - | O29: =Voreingabe!$I$11 -> 7.5 | P29: =L29-O29 -> 0 | Q29: =IF(AND((J29-19)>2.99,(J29-E29)>3,J29>19),"JA","-") -> - | Z29: =IF(AB29=0,"Okay","Fehler") -> Okay | AB29: =P29-T29-V29-W29-X29-Y29-R29-U29-S29 -> 0 | AC29: =IF(AND(J29>=0.1,J29<6),J29+24,IF(J29>12,J29,0)) -> 17 | AD29: =IF(E29>6.99,"1","2") -> 1 | AE29: =IF(AC29<18.99,"1","2") -> 1 | AF29: =IF(AC29>=22,"2","1") -> 1 | AG29: =AD29+AE29+AF29 -> 3 | AI29: =IF(D29="U",1," ") | AJ29: =IF(L29>0.5,1," ") -> 1
B30: Freitag | C30: =C29+1 -> 46038 | E30: =Voreingabe!$C$12 -> 9 | F30: =Voreingabe!$E$12 -> 12 | G30: =Voreingabe!$F$12 -> 12.5 | H30: =Voreingabe!$G$12 -> 0 | I30: =Voreingabe!$H$12 -> 0 | J30: =Voreingabe!$D$12 -> 16 | K30: =(G30-F30)+(I30-H30) -> 0.5 | L30: =+IF((J30-E30-K30)>=0,(J30-E30-K30),(J30-(E30-24)-K30)) -> 6.5 | M30: =IF(L30>12,"§9 AZG! ","-") -> - | N30: =IF(L30>6,IF(K30<0.5,"Pause!","-"),"-") -> - | O30: =Voreingabe!$I$12 -> 6.5 | P30: =L30-O30 -> 0 | Q30: =IF(AND((J30-19)>2.99,(J30-E30)>3,J30>19),"JA","-") -> - | Z30: =IF(AB30=0,"Okay","Fehler") -> Okay | AB30: =P30-T30-V30-W30-X30-Y30-R30-U30-S30 -> 0 | AC30: =IF(AND(J30>=0.1,J30<6),J30+24,IF(J30>12,J30,0)) -> 16 | AD30: =IF(E30>6.99,"1","2") -> 1 | AE30: =IF(AC30<18.99,"1","2") -> 1 | AF30: =IF(AC30>=22,"2","1") -> 1 | AG30: =AD30+AE30+AF30 -> 3 | AI30: =IF(D30="U",1," ") | AJ30: =IF(L30>0.5,1," ") -> 1
B31: Samstag | C31: =C30+1 -> 46039 | E31: =Voreingabe!$C$13 -> 0 | F31: =Voreingabe!$E$13 -> 0 | G31: =Voreingabe!$F$13 -> 0 | H31: =Voreingabe!$G$13 -> 0 | I31: =Voreingabe!$H$13 -> 0 | J31: =Voreingabe!$D$13 -> 0 | K31: =(G31-F31)+(I31-H31) -> 0 | L31: =+IF((J31-E31-K31)>=0,(J31-E31-K31),(J31-(E31-24)-K31)) -> 0 | M31: =IF(L31>12,"§9 AZG! ","-") -> - | N31: =IF(L31>6,IF(K31<0.5,"Pause!","-"),"-") -> - | O31: =Voreingabe!$I$13 -> 0 | P31: =L31-O31 -> 0 | Q31: =IF(AND((J31-19)>2.99,(J31-E31)>3,J31>19),"JA","-") -> - | Z31: =IF(AB31=0,"Okay","Fehler") -> Okay | AB31: =P31-T31-V31-W31-X31-Y31-R31-U31-S31 -> 0 | AC31: =IF(AND(J31>=0.1,J31<6),J31+24,IF(J31>12,J31,0)) -> 0 | AD31: =IF(E31>6.99,"1","2") -> 2 | AE31: =IF(AC31<18.99,"1","2") -> 1 | AF31: =IF(AC31>=22,"2","1") -> 1 | AG31: =AD31+AE31+AF31 -> 4 | AI31: =IF(D31="U",1," ") | AJ31: =IF(L31>0.5,1," ")
B32: Sonntag | C32: =C31+1 -> 46040 | E32: =Voreingabe!$C$14 -> 0 | F32: =Voreingabe!$E$14 -> 0 | G32: =Voreingabe!$F$14 -> 0 | H32: =Voreingabe!$G$14 -> 0 | I32: =Voreingabe!$H$14 -> 0 | J32: =Voreingabe!$D$14 -> 0 | K32: =(G32-F32)+(I32-H32) -> 0 | L32: =+IF((J32-E32-K32)>=0,(J32-E32-K32),(J32-(E32-24)-K32)) -> 0 | M32: =IF(L32>12,"§9 AZG! ","-") -> - | N32: =IF(L32>6,IF(K32<0.5,"Pause!","-"),"-") -> - | O32: =Voreingabe!$I$14 -> 0 | P32: =L32-O32 -> 0 | Q32: =IF(AND((J32-19)>2.99,(J32-E32)>3,J32>19),"JA","-") -> - | Z32: =IF(AB32=0,"Okay","Fehler") -> Okay | AB32: =P32-T32-V32-W32-X32-Y32-R32-U32-S32 -> 0 | AC32: =IF(AND(J32>=0.1,J32<6),J32+24,IF(J32>12,J32,0)) -> 0 | AD32: =IF(E32>6.99,"1","2") -> 2 | AE32: =IF(AC32<18.99,"1","2") -> 1 | AF32: =IF(AC32>=22,"2","1") -> 1 | AG32: =AD32+AE32+AF32 -> 4 | AJ32: =IF(L32>0.5,1," ")
B33: Wochensumme 3 | L33: =SUM(L26:L32) -> 38.5 | M33: =IF(L33>60,"§9 AZG! ","-") -> - | O33: =SUM(O26:O32) -> 38.5 | P33: =L33-O33 -> 0 | R33: =SUM(R26:R32) -> 0 | S33: =SUM(S26:S32) -> 0 | T33: =SUM(T26:T32) -> 0 | U33: =SUM(U26:U32) -> 0 | V33: =SUM(V26:V32) -> 0 | W33: =SUM(W26:W32) -> 0 | X33: =SUM(X26:X32) -> 0 | Y33: =SUM(Y26:Y32) -> 0 | Z33: =SUM(T33:Y33) -> 0
B34: Montag | C34: =C32+1 -> 46041 | E34: =Voreingabe!$C$8 -> 9 | F34: =Voreingabe!$E$8 -> 12 | G34: =Voreingabe!$F$8 -> 12.5 | H34: =Voreingabe!$G$8 -> 0 | I34: =Voreingabe!$H$8 -> 0 | J34: =Voreingabe!$D$8 -> 18 | K34: =(G34-F34)+(I34-H34) -> 0.5 | L34: =+IF((J34-E34-K34)>=0,(J34-E34-K34),(J34-(E34-24)-K34)) -> 8.5 | M34: =IF(L34>12,"§9 AZG! ","-") -> - | N34: =IF(L34>6,IF(K34<0.5,"Pause!","-"),"-") -> - | O34: =Voreingabe!$I$8 -> 8.5 | P34: =L34-O34 -> 0 | Q34: =IF(AND((J34-19)>2.99,(J34-E34)>3,J34>19),"JA","-") -> - | Z34: =IF(AB34=0,"Okay","Fehler") -> Okay | AB34: =P34-T34-V34-W34-X34-Y34-R34-U34-S34 -> 0 | AC34: =IF(AND(J34>=0.1,J34<6),J34+24,IF(J34>12,J34,0)) -> 18 | AD34: =IF(E34>6.99,"1","2") -> 1 | AE34: =IF(AC34<18.99,"1","2") -> 1 | AF34: =IF(AC34>=22,"2","1") -> 1 | AG34: =AD34+AE34+AF34 -> 3 | AI34: =IF(D34="U",1," ") | AJ34: =IF(L34>0.5,1," ") -> 1
B35: Dienstag | C35: =C34+1 -> 46042 | E35: =Voreingabe!$C$9 -> 9 | F35: =Voreingabe!$E$9 -> 12 | G35: =Voreingabe!$F$9 -> 12.5 | H35: =Voreingabe!$G$9 -> 0 | I35: =Voreingabe!$H$9 -> 0 | J35: =Voreingabe!$D$9 -> 18 | K35: =(G35-F35)+(I35-H35) -> 0.5 | L35: =+IF((J35-E35-K35)>=0,(J35-E35-K35),(J35-(E35-24)-K35)) -> 8.5 | M35: =IF(L35>12,"§9 AZG! ","-") -> - | N35: =IF(L35>6,IF(K35<0.5,"Pause!","-"),"-") -> - | O35: =Voreingabe!$I$9 -> 8.5 | P35: =L35-O35 -> 0 | Q35: =IF(AND((J35-19)>2.99,(J35-E35)>3,J35>19),"JA","-") -> - | Z35: =IF(AB35=0,"Okay","Fehler") -> Okay | AB35: =P35-T35-V35-W35-X35-Y35-R35-U35-S35 -> 0 | AC35: =IF(AND(J35>=0.1,J35<6),J35+24,IF(J35>12,J35,0)) -> 18 | AD35: =IF(E35>6.99,"1","2") -> 1 | AE35: =IF(AC35<18.99,"1","2") -> 1 | AF35: =IF(AC35>=22,"2","1") -> 1 | AG35: =AD35+AE35+AF35 -> 3 | AI35: =IF(D35="U",1," ") | AJ35: =IF(L35>0.5,1," ") -> 1
B36: Mittwoch | C36: =C35+1 -> 46043 | E36: =Voreingabe!$C$10 -> 9 | F36: =Voreingabe!$E$10 -> 12 | G36: =Voreingabe!$F$10 -> 12.5 | H36: =Voreingabe!$G$10 -> 0 | I36: =Voreingabe!$H$10 -> 0 | J36: =Voreingabe!$D$10 -> 17 | K36: =(G36-F36)+(I36-H36) -> 0.5 | L36: =+IF((J36-E36-K36)>=0,(J36-E36-K36),(J36-(E36-24)-K36)) -> 7.5 | M36: =IF(L36>12,"§9 AZG! ","-") -> - | N36: =IF(L36>6,IF(K36<0.5,"Pause!","-"),"-") -> - | O36: =Voreingabe!$I$10 -> 7.5 | P36: =L36-O36 -> 0 | Q36: =IF(AND((J36-19)>2.99,(J36-E36)>3,J36>19),"JA","-") -> - | Z36: =IF(AB36=0,"Okay","Fehler") -> Okay | AB36: =P36-T36-V36-W36-X36-Y36-R36-U36-S36 -> 0 | AC36: =IF(AND(J36>=0.1,J36<6),J36+24,IF(J36>12,J36,0)) -> 17 | AD36: =IF(E36>6.99,"1","2") -> 1 | AE36: =IF(AC36<18.99,"1","2") -> 1 | AF36: =IF(AC36>=22,"2","1") -> 1 | AG36: =AD36+AE36+AF36 -> 3 | AI36: =IF(D36="U",1," ") | AJ36: =IF(L36>0.5,1," ") -> 1
B37: Donnerstag | C37: =C36+1 -> 46044 | E37: =Voreingabe!$C$11 -> 9 | F37: =Voreingabe!$E$11 -> 12 | G37: =Voreingabe!$F$11 -> 12.5 | H37: =Voreingabe!$G$11 -> 0 | I37: =Voreingabe!$H$11 -> 0 | J37: =Voreingabe!$D$11 -> 17 | K37: =(G37-F37)+(I37-H37) -> 0.5 | L37: =+IF((J37-E37-K37)>=0,(J37-E37-K37),(J37-(E37-24)-K37)) -> 7.5 | M37: =IF(L37>12,"§9 AZG! ","-") -> - | N37: =IF(L37>6,IF(K37<0.5,"Pause!","-"),"-") -> - | O37: =Voreingabe!$I$11 -> 7.5 | P37: =L37-O37 -> 0 | Q37: =IF(AND((J37-19)>2.99,(J37-E37)>3,J37>19),"JA","-") -> - | Z37: =IF(AB37=0,"Okay","Fehler") -> Okay | AB37: =P37-T37-V37-W37-X37-Y37-R37-U37-S37 -> 0 | AC37: =IF(AND(J37>=0.1,J37<6),J37+24,IF(J37>12,J37,0)) -> 17 | AD37: =IF(E37>6.99,"1","2") -> 1 | AE37: =IF(AC37<18.99,"1","2") -> 1 | AF37: =IF(AC37>=22,"2","1") -> 1 | AG37: =AD37+AE37+AF37 -> 3 | AI37: =IF(D37="U",1," ") | AJ37: =IF(L37>0.5,1," ") -> 1
B38: Freitag | C38: =C37+1 -> 46045 | E38: =Voreingabe!$C$12 -> 9 | F38: =Voreingabe!$E$12 -> 12 | G38: =Voreingabe!$F$12 -> 12.5 | H38: =Voreingabe!$G$12 -> 0 | I38: =Voreingabe!$H$12 -> 0 | J38: =Voreingabe!$D$12 -> 16 | K38: =(G38-F38)+(I38-H38) -> 0.5 | L38: =+IF((J38-E38-K38)>=0,(J38-E38-K38),(J38-(E38-24)-K38)) -> 6.5 | M38: =IF(L38>12,"§9 AZG! ","-") -> - | N38: =IF(L38>6,IF(K38<0.5,"Pause!","-"),"-") -> - | O38: =Voreingabe!$I$12 -> 6.5 | P38: =L38-O38 -> 0 | Q38: =IF(AND((J38-19)>2.99,(J38-E38)>3,J38>19),"JA","-") -> - | Z38: =IF(AB38=0,"Okay","Fehler") -> Okay | AB38: =P38-T38-V38-W38-X38-Y38-R38-U38-S38 -> 0 | AC38: =IF(AND(J38>=0.1,J38<6),J38+24,IF(J38>12,J38,0)) -> 16 | AD38: =IF(E38>6.99,"1","2") -> 1 | AE38: =IF(AC38<18.99,"1","2") -> 1 | AF38: =IF(AC38>=22,"2","1") -> 1 | AG38: =AD38+AE38+AF38 -> 3 | AI38: =IF(D38="U",1," ") | AJ38: =IF(L38>0.5,1," ") -> 1
B39: Samstag | C39: =C38+1 -> 46046 | E39: =Voreingabe!$C$13 -> 0 | F39: =Voreingabe!$E$13 -> 0 | G39: =Voreingabe!$F$13 -> 0 | H39: =Voreingabe!$G$13 -> 0 | I39: =Voreingabe!$H$13 -> 0 | J39: =Voreingabe!$D$13 -> 0 | K39: =(G39-F39)+(I39-H39) -> 0 | L39: =+IF((J39-E39-K39)>=0,(J39-E39-K39),(J39-(E39-24)-K39)) -> 0 | M39: =IF(L39>12,"§9 AZG! ","-") -> - | N39: =IF(L39>6,IF(K39<0.5,"Pause!","-"),"-") -> - | O39: =Voreingabe!$I$13 -> 0 | P39: =L39-O39 -> 0 | Q39: =IF(AND((J39-19)>2.99,(J39-E39)>3,J39>19),"JA","-") -> - | Z39: =IF(AB39=0,"Okay","Fehler") -> Okay | AB39: =P39-T39-V39-W39-X39-Y39-R39-U39-S39 -> 0 | AC39: =IF(AND(J39>=0.1,J39<6),J39+24,IF(J39>12,J39,0)) -> 0 | AD39: =IF(E39>6.99,"1","2") -> 2 | AE39: =IF(AC39<18.99,"1","2") -> 1 | AF39: =IF(AC39>=22,"2","1") -> 1 | AG39: =AD39+AE39+AF39 -> 4 | AI39: =IF(D39="U",1," ") | AJ39: =IF(L39>0.5,1," ")
B40: Sonntag | C40: =C39+1 -> 46047 | E40: =Voreingabe!$C$14 -> 0 | F40: =Voreingabe!$E$14 -> 0 | G40: =Voreingabe!$F$14 -> 0 | H40: =Voreingabe!$G$14 -> 0 | I40: =Voreingabe!$H$14 -> 0 | J40: =Voreingabe!$D$14 -> 0 | K40: =(G40-F40)+(I40-H40) -> 0 | L40: =+IF((J40-E40-K40)>=0,(J40-E40-K40),(J40-(E40-24)-K40)) -> 0 | M40: =IF(L40>12,"§9 AZG! ","-") -> - | N40: =IF(L40>6,IF(K40<0.5,"Pause!","-"),"-") -> - | O40: =Voreingabe!$I$14 -> 0 | P40: =L40-O40 -> 0 | Q40: =IF(AND((J40-19)>2.99,(J40-E40)>3,J40>19),"JA","-") -> - | Z40: =IF(AB40=0,"Okay","Fehler") -> Okay | AB40: =P40-T40-V40-W40-X40-Y40-R40-U40-S40 -> 0 | AC40: =IF(AND(J40>=0.1,J40<6),J40+24,IF(J40>12,J40,0)) -> 0 | AD40: =IF(E40>6.99,"1","2") -> 2 | AE40: =IF(AC40<18.99,"1","2") -> 1 | AF40: =IF(AC40>=22,"2","1") -> 1 | AG40: =AD40+AE40+AF40 -> 4 | AJ40: =IF(L40>0.5,1," ")
B41: Wochensumme 4 | L41: =SUM(L34:L40) -> 38.5 | M41: =IF(L41>60,"§9 AZG! ","-") -> - | O41: =SUM(O34:O40) -> 38.5 | P41: =L41-O41 -> 0 | R41: =SUM(R34:R40) -> 0 | S41: =SUM(S34:S40) -> 0 | T41: =SUM(T34:T40) -> 0 | U41: =SUM(U34:U40) -> 0 | V41: =SUM(V34:V40) -> 0 | W41: =SUM(W34:W40) -> 0 | X41: =SUM(X34:X40) -> 0 | Y41: =SUM(Y34:Y40) -> 0 | Z41: =SUM(T41:Y41) -> 0
B42: Montag | C42: =C40+1 -> 46048 | E42: =Voreingabe!$C$8 -> 9 | F42: =Voreingabe!$E$8 -> 12 | G42: =Voreingabe!$F$8 -> 12.5 | H42: =Voreingabe!$G$8 -> 0 | I42: =Voreingabe!$H$8 -> 0 | J42: =Voreingabe!$D$8 -> 18 | K42: =(G42-F42)+(I42-H42) -> 0.5 | L42: =+IF((J42-E42-K42)>=0,(J42-E42-K42),(J42-(E42-24)-K42)) -> 8.5 | M42: =IF(L42>12,"§9 AZG! ","-") -> - | N42: =IF(L42>6,IF(K42<0.5,"Pause!","-"),"-") -> - | O42: =Voreingabe!$I$8 -> 8.5 | P42: =L42-O42 -> 0 | Q42: =IF(AND((J42-19)>2.99,(J42-E42)>3,J42>19),"JA","-") -> - | Z42: =IF(AB42=0,"Okay","Fehler") -> Okay | AB42: =P42-T42-V42-W42-X42-Y42-R42-U42-S42 -> 0 | AC42: =IF(AND(J42>=0.1,J42<6),J42+24,IF(J42>12,J42,0)) -> 18 | AD42: =IF(E42>6.99,"1","2") -> 1 | AE42: =IF(AC42<18.99,"1","2") -> 1 | AF42: =IF(AC42>=22,"2","1") -> 1 | AG42: =AD42+AE42+AF42 -> 3 | AI42: =IF(D42="U",1," ") | AJ42: =IF(L42>0.5,1," ") -> 1
B43: Dienstag | C43: =+C42+1 -> 46049 | E43: =Voreingabe!$C$9 -> 9 | F43: =Voreingabe!$E$9 -> 12 | G43: =Voreingabe!$F$9 -> 12.5 | H43: =Voreingabe!$G$9 -> 0 | I43: =Voreingabe!$H$9 -> 0 | J43: =Voreingabe!$D$9 -> 18 | K43: =(G43-F43)+(I43-H43) -> 0.5 | L43: =+IF((J43-E43-K43)>=0,(J43-E43-K43),(J43-(E43-24)-K43)) -> 8.5 | M43: =IF(L43>12,"§9 AZG! ","-") -> - | N43: =IF(L43>6,IF(K43<0.5,"Pause!","-"),"-") -> - | O43: =Voreingabe!$I$9 -> 8.5 | P43: =L43-O43 -> 0 | Q43: =IF(AND((J43-19)>2.99,(J43-E43)>3,J43>19),"JA","-") -> - | Z43: =IF(AB43=0,"Okay","Fehler") -> Okay | AB43: =P43-T43-V43-W43-X43-Y43-R43-U43-S43 -> 0 | AC43: =IF(AND(J43>=0.1,J43<6),J43+24,IF(J43>12,J43,0)) -> 18 | AD43: =IF(E43>6.99,"1","2") -> 1 | AE43: =IF(AC43<18.99,"1","2") -> 1 | AF43: =IF(AC43>=22,"2","1") -> 1 | AG43: =AD43+AE43+AF43 -> 3 | AI43: =IF(D43="U",1," ") | AJ43: =IF(L43>0.5,1," ") -> 1
B44: Mittwoch | C44: =C43+1 -> 46050 | E44: =Voreingabe!$C$10 -> 9 | F44: =Voreingabe!$E$10 -> 12 | G44: =Voreingabe!$F$10 -> 12.5 | H44: =Voreingabe!$G$10 -> 0 | I44: =Voreingabe!$H$10 -> 0 | J44: =Voreingabe!$D$10 -> 17 | K44: =(G44-F44)+(I44-H44) -> 0.5 | L44: =+IF((J44-E44-K44)>=0,(J44-E44-K44),(J44-(E44-24)-K44)) -> 7.5 | M44: =IF(L44>12,"§9 AZG! ","-") -> - | N44: =IF(L44>6,IF(K44<0.5,"Pause!","-"),"-") -> - | O44: =Voreingabe!$I$10 -> 7.5 | P44: =L44-O44 -> 0 | Q44: =IF(AND((J44-19)>2.99,(J44-E44)>3,J44>19),"JA","-") -> - | Z44: =IF(AB44=0,"Okay","Fehler") -> Okay | AB44: =P44-T44-V44-W44-X44-Y44-R44-U44-S44 -> 0 | AC44: =IF(AND(J44>=0.1,J44<6),J44+24,IF(J44>12,J44,0)) -> 17 | AD44: =IF(E44>6.99,"1","2") -> 1 | AE44: =IF(AC44<18.99,"1","2") -> 1 | AF44: =IF(AC44>=22,"2","1") -> 1 | AG44: =AD44+AE44+AF44 -> 3 | AI44: =IF(D44="U",1," ") | AJ44: =IF(L44>0.5,1," ") -> 1
B45: Donnerstag | C45: =C44+1 -> 46051 | E45: =Voreingabe!$C$11 -> 9 | F45: =Voreingabe!$E$11 -> 12 | G45: =Voreingabe!$F$11 -> 12.5 | H45: =Voreingabe!$G$11 -> 0 | I45: =Voreingabe!$H$11 -> 0 | J45: =Voreingabe!$D$11 -> 17 | K45: =(G45-F45)+(I45-H45) -> 0.5 | L45: =+IF((J45-E45-K45)>=0,(J45-E45-K45),(J45-(E45-24)-K45)) -> 7.5 | M45: =IF(L45>12,"§9 AZG! ","-") -> - | N45: =IF(L45>6,IF(K45<0.5,"Pause!","-"),"-") -> - | O45: =Voreingabe!$I$11 -> 7.5 | P45: =L45-O45 -> 0 | Q45: =IF(AND((J45-19)>2.99,(J45-E45)>3,J45>19),"JA","-") -> - | Z45: =IF(AB45=0,"Okay","Fehler") -> Okay | AB45: =P45-T45-V45-W45-X45-Y45-R45-U45-S45 -> 0 | AC45: =IF(AND(J45>=0.1,J45<6),J45+24,IF(J45>12,J45,0)) -> 17 | AD45: =IF(E45>6.99,"1","2") -> 1 | AE45: =IF(AC45<18.99,"1","2") -> 1 | AF45: =IF(AC45>=22,"2","1") -> 1 | AG45: =AD45+AE45+AF45 -> 3 | AI45: =IF(D45="U",1," ") | AJ45: =IF(L45>0.5,1," ") -> 1
B46: Freitag | C46: =C45+1 -> 46052 | E46: =Voreingabe!$C$12 -> 9 | F46: =Voreingabe!$E$12 -> 12 | G46: =Voreingabe!$F$12 -> 12.5 | H46: =Voreingabe!$G$12 -> 0 | I46: =Voreingabe!$H$12 -> 0 | J46: =Voreingabe!$D$12 -> 16 | K46: =(G46-F46)+(I46-H46) -> 0.5 | L46: =+IF((J46-E46-K46)>=0,(J46-E46-K46),(J46-(E46-24)-K46)) -> 6.5 | M46: =IF(L46>12,"§9 AZG! ","-") -> - | N46: =IF(L46>6,IF(K46<0.5,"Pause!","-"),"-") -> - | O46: =Voreingabe!$I$12 -> 6.5 | P46: =L46-O46 -> 0 | Q46: =IF(AND((J46-19)>2.99,(J46-E46)>3,J46>19),"JA","-") -> - | Z46: =IF(AB46=0,"Okay","Fehler") -> Okay | AB46: =P46-T46-V46-W46-X46-Y46-R46-U46-S46 -> 0 | AC46: =IF(AND(J46>=0.1,J46<6),J46+24,IF(J46>12,J46,0)) -> 16 | AD46: =IF(E46>6.99,"1","2") -> 1 | AE46: =IF(AC46<18.99,"1","2") -> 1 | AF46: =IF(AC46>=22,"2","1") -> 1 | AG46: =AD46+AE46+AF46 -> 3 | AI46: =IF(D46="U",1," ") | AJ46: =IF(L46>0.5,1," ") -> 1
B47: Samstag | C47: =C46+1 -> 46053 | E47: =Voreingabe!$C$13 -> 0 | F47: =Voreingabe!$E$13 -> 0 | G47: =Voreingabe!$F$13 -> 0 | H47: =Voreingabe!$G$13 -> 0 | I47: =Voreingabe!$H$13 -> 0 | J47: =Voreingabe!$D$13 -> 0 | K47: =(G47-F47)+(I47-H47) -> 0 | L47: =+IF((J47-E47-K47)>=0,(J47-E47-K47),(J47-(E47-24)-K47)) -> 0 | M47: =IF(L47>12,"§9 AZG! ","-") -> - | N47: =IF(L47>6,IF(K47<0.5,"Pause!","-"),"-") -> - | O47: =Voreingabe!$I$13 -> 0 | P47: =L47-O47 -> 0 | Q47: =IF(AND((J47-19)>2.99,(J47-E47)>3,J47>19),"JA","-") -> - | Z47: =IF(AB47=0,"Okay","Fehler") -> Okay | AB47: =P47-T47-V47-W47-X47-Y47-R47-U47-S47 -> 0 | AC47: =IF(AND(J47>=0.1,J47<6),J47+24,IF(J47>12,J47,0)) -> 0 | AD47: =IF(E47>6.99,"1","2") -> 2 | AE47: =IF(AC47<18.99,"1","2") -> 1 | AF47: =IF(AC47>=22,"2","1") -> 1 | AG47: =AD47+AE47+AF47 -> 4 | AI47: =IF(D47="U",1," ") | AJ47: =IF(L47>0.5,1," ")
B48: Sonntag | P48: =L48-O48 -> 0 | Q48: =IF(AND((J48-19)>2.99,(J48-E48)>3,J48>19),"JA","-") -> - | Z48: =IF(AB48=0,"Okay","Fehler") -> Okay | AB48: =P48-T48-V48-W48-X48-Y48-R48-U48-S48 -> 0 | AC48: =IF(AND(J48>=0.1,J48<6),J48+24,IF(J48>12,J48,0)) -> 0 | AD48: =IF(E48>6.99,"1","2") -> 2 | AE48: =IF(AC48<18.99,"1","2") -> 1 | AF48: =IF(AC48>=22,"2","1") -> 1 | AG48: =AD48+AE48+AF48 -> 4 | AJ48: =IF(L48>0.5,1," ")
B49: Wochensumme 5 | L49: =SUM(L42:L48) -> 38.5 | M49: =IF(L49>60,"§9 AZG! ","-") -> - | O49: =SUM(O42:O48) -> 38.5 | P49: =L49-O49 -> 0 | R49: =SUM(R42:R48) -> 0 | S49: =SUM(S42:S48) -> 0 | T49: =SUM(T42:T48) -> 0 | U49: =SUM(U42:U48) -> 0 | V49: =SUM(V42:V48) -> 0 | W49: =SUM(W42:W48) -> 0 | X49: =SUM(X42:X48) -> 0 | Y49: =SUM(Y42:Y48) -> 0 | Z49: =SUM(T49:Y49) -> 0
B50: Montag | Z50: =IF(AB50=0,"Okay","Fehler") -> Okay | AB50: =P50-T50-V50-W50-X50-Y50-R50-U50-S50 -> 0 | AC50: =IF(AND(J50>=0.1,J50<6),J50+24,IF(J50>12,J50,0)) -> 0 | AD50: =IF(E50>6.99,"1","2") -> 2 | AE50: =IF(AC50<18.99,"1","2") -> 1 | AF50: =IF(AC50>=22,"2","1") -> 1 | AG50: =AD50+AE50+AF50 -> 4 | AI50: =IF(D50="U",1," ") | AJ50: =IF(L50>0.5,1," ")
B51: Dienstag | Z51: =IF(AB51=0,"Okay","Fehler") -> Okay | AB51: =P51-T51-V51-W51-X51-Y51-R51-U51-S51 -> 0 | AC51: =IF(AND(J51>=0.1,J51<6),J51+24,IF(J51>12,J51,0)) -> 0 | AD51: =IF(E51>6.99,"1","2") -> 2 | AE51: =IF(AC51<18.99,"1","2") -> 1 | AF51: =IF(AC51>=22,"2","1") -> 1 | AG51: =AD51+AE51+AF51 -> 4 | AI51: =IF(D51="U",1," ") | AJ51: =IF(L51>0.5,1," ")
B52: Mittwoch | Z52: =IF(AB52=0,"Okay","Fehler") -> Okay | AB52: =P52-T52-V52-W52-X52-Y52-R52-U52-S52 -> 0 | AC52: =IF(AND(J52>=0.1,J52<6),J52+24,IF(J52>12,J52,0)) -> 0 | AD52: =IF(E52>6.99,"1","2") -> 2 | AE52: =IF(AC52<18.99,"1","2") -> 1 | AF52: =IF(AC52>=22,"2","1") -> 1 | AG52: =AD52+AE52+AF52 -> 4 | AI52: =IF(D52="U",1," ") | AJ52: =IF(L52>0.5,1," ")
B53: Donnerstag | Z53: =IF(AB53=0,"Okay","Fehler") -> Okay | AB53: =P53-T53-V53-W53-X53-Y53-R53-U53-S53 -> 0 | AC53: =IF(AND(J53>=0.1,J53<6),J53+24,IF(J53>12,J53,0)) -> 0 | AD53: =IF(E53>6.99,"1","2") -> 2 | AE53: =IF(AC53<18.99,"1","2") -> 1 | AF53: =IF(AC53>=22,"2","1") -> 1 | AG53: =AD53+AE53+AF53 -> 4 | AI53: =IF(D53="U",1," ") | AJ53: =IF(L53>0.5,1," ")
B54: Freitag | Z54: =IF(AB54=0,"Okay","Fehler") -> Okay | AB54: =P54-T54-V54-W54-X54-Y54-R54-U54-S54 -> 0 | AC54: =IF(AND(J54>=0.1,J54<6),J54+24,IF(J54>12,J54,0)) -> 0 | AD54: =IF(E54>6.99,"1","2") -> 2 | AE54: =IF(AC54<18.99,"1","2") -> 1 | AF54: =IF(AC54>=22,"2","1") -> 1 | AG54: =AD54+AE54+AF54 -> 4 | AI54: =IF(D54="U",1," ") | AJ54: =IF(L54>0.5,1," ")
B55: Samstag | Z55: =IF(AB55=0,"Okay","Fehler") -> Okay | AB55: =P55-T55-V55-W55-X55-Y55-R55-U55-S55 -> 0 | AC55: =IF(AND(J55>=0.1,J55<6),J55+24,IF(J55>12,J55,0)) -> 0 | AD55: =IF(E55>6.99,"1","2") -> 2 | AE55: =IF(AC55<18.99,"1","2") -> 1 | AF55: =IF(AC55>=22,"2","1") -> 1 | AG55: =AD55+AE55+AF55 -> 4 | AI55: =IF(D55="U",1," ") | AJ55: =IF(L55>0.5,1," ")
B56: Sonntag | Z56: =IF(AB56=0,"Okay","Fehler") -> Okay | AB56: =P56-T56-V56-W56-X56-Y56-R56-U56-S56 -> 0 | AC56: =IF(AND(J56>=0.1,J56<6),J56+24,IF(J56>12,J56,0)) -> 0 | AD56: =IF(E56>6.99,"1","2") -> 2 | AE56: =IF(AC56<18.99,"1","2") -> 1 | AF56: =IF(AC56>=22,"2","1") -> 1 | AG56: =AD56+AE56+AF56 -> 4 | AJ56: =IF(L56>0.5,1," ")
B57: Wochensumme 6 | L57: =SUM(L50:L56) -> 0 | M57: =IF(L57>60,"§9 AZG! ","-") -> - | O57: =SUM(O50:O56) -> 0 | P57: =L57-O57 -> 0 | R57: =SUM(R50:R56) -> 0 | S57: =SUM(S50:S56) -> 0 | T57: =SUM(T50:T56) -> 0 | U57: =SUM(U50:U56) -> 0 | V57: =SUM(V50:V56) -> 0 | W57: =SUM(W50:W56) -> 0 | X57: =SUM(X50:X56) -> 0 | Y57: =SUM(Y50:Y56) -> 0 | Z57: =SUM(T57:Y57) -> 0
B58: Summe Urlaubstage | D58: =+AI58 -> 0 | L58: =L17+L25+L33+L41+L49+L57 -> 168 | M58: =IF((L58/D59)>9.6,"Achtung: WHAZ","") | O58: =O17+O25+O33+O41+O49+O57 -> 168 | P58: =P17+P25+P33+P41+P49+P57 -> 0 | R58: =R17+R25+R33+R41+R49+R57+R9 -> 0 | S58: =S17+S25+S33+S41+S49+S57+S9 -> 0 | T58: =T17+T25+T33+T41+T49+T57+T9 -> 0 | U58: =U17+U25+U33+U41+U49+U57+U9 -> 0 | V58: =V17+V25+V33+V41+V49+V57+V9 -> 0 | W58: =W17+W25+W33+W41+W49+W57+W9 -> 0 | X58: =X17+X25+X33+X41+X49+X57+X9 -> 0 | Y58: =Y17+Y25+Y33+Y41+Y49+Y57+Y9 -> 0 | Z58: =SUM(T58:Y58) -> 0 | AB58: =P58-T58-V58-W58-X58-Y58-R58-U58 -> 0 | AI58: =SUM(AI10:AI57) -> 0 | AJ58: =SUM(AJ10:AJ57) -> 22
B59: Summe Arbeitstage | D59: =+AJ58 -> 22
L60: Umwandlung von Mehr- und Überstunden in | P60: Zeitausgleich: | R60: =(-T60)+(-U60*1.25)+(-V60*1.5)+(-W60*2) -> 0
B62: Ich bestätige die Richtigkeit | O62: davon auszubezahlen:
B63: meiner Angaben: | P63: ÜBERTRAG: | R63: =R58+R60-R62 -> 0 | S63: =S58+S60-S62 -> 0 | T63: =T58+T60-T62 -> 0 | U63: =U58+U60-U62 -> 0 | V63: =V58+V60-V62 -> 0 | W63: =W58+W60-W62 -> 0 | X63: =X58+X60-X62 -> 0 | Y63: =Y58+Y60-Y62 -> 0
B65: kontrolliert von:
B67: Info: | C67: FE= Feiertag, U = Urlaub, K = Krank, BEZ = bezahlte Fehlzeiten | L67: WHAZ = Wochenhöchstarbeitszeit; AZG = Arbeitszeitgesetz

Sheet Februar
B1: ZEITERFASSUNG
B4: NAME: | C4: =Voreingabe!C3 -> Musterfrau | K4: FUNKTION: | M4: =Voreingabe!F3 -> Buchhalterin | V4: MA-Nummer: | X4: =Voreingabe!I3 -> 5
B6: MONAT: | C6: Februar | K6: JAHR: | M6: 2026
B8: Tag | C8: Datum | D8: INFO | E8: Arbeits- beginn | F8: Pausen-beginn | G8: Pausen-ende | H8: Pausen-beginn | I8: Pausen-ende | J8: Arbeits- ende | K8: Pausen-dauer | L8: tatsächl. geleistete Std. | M8: Info Arbeitszeit | N8: Info Pause | O8: Stunden Soll | P8: Stunden differenz | Q8: Nacht- stunden | R8: Zeit-ausgleich | S8: Durchrechnung | T8: Mehr- stunden | U8: Mehr- stunden 25% | V8: 50%- Überstd. | W8: 100%- Überstd. | X8: Sonn- u. Feiertag | Y8: Nacht-zuschlag | Z8: Kontrolle | AI8: Summe UT | AJ8: Summe AT
B9: ÜBETRAG | R9: =Jänner!R63 -> 0 | S9: =Jänner!S63 -> 0 | T9: =Jänner!T63 -> 0 | U9: =Jänner!U63 -> 0 | V9: =Jänner!V63 -> 0 | W9: =Jänner!W63 -> 0 | X9: =Jänner!X63 -> 0 | Y9: =Jänner!Y63 -> 0
B10: Montag | Z10: =IF(AB10=0,"Okay","Fehler") -> Okay | AB10: =P10-T10-V10-W10-X10-Y10-R10-U10-S10 -> 0 | AC10: =IF(AND(J10>=0.1,J10<=12),J10+24,IF(J10>=12,J10,0)) -> 0 | AD10: =IF(E10>6.99,"1","2") -> 2 | AE10: =IF(AC10<18.99,"1","2") -> 1 | AF10: =IF(AC10>22,"2","1") -> 1 | AG10: =AD10+AE10+AF10 -> 4 | AI10: =IF(D10="U",1," ") | AJ10: =IF(L10>0.5,1," ")
B11: Dienstag | Z11: =IF(AB11=0,"Okay","Fehler") -> Okay | AB11: =P11-T11-V11-W11-X11-Y11-R11-U11-S11 -> 0 | AC11: =IF(AND(J11>=0.1,J11<=12),J11+24,IF(J11>=12,J11,0)) -> 0 | AD11: =IF(E11>6.99,"1","2") -> 2 | AE11: =IF(AC11<18.99,"1","2") -> 1 | AF11: =IF(AC11>22,"2","1") -> 1 | AG11: =AD11+AE11+AF11 -> 4 | AI11: =IF(D11="U",1," ") | AJ11: =IF(L11>0.5,1," ")
B12: Mittwoch | Q12: =IF(AND((J12-19)>2.99,(J12-E12)>3,J12>19),"JA","-") -> - | Z12: =IF(AB12=0,"Okay","Fehler") -> Okay | AB12: =P12-T12-V12-W12-X12-Y12-R12-U12-S12 -> 0 | AC12: =IF(AND(J12>=0.1,J12<=12),J12+24,IF(J12>=12,J12,0)) -> 0 | AD12: =IF(E12>6.99,"1","2") -> 2 | AE12: =IF(AC12<18.99,"1","2") -> 1 | AF12: =IF(AC12>22,"2","1") -> 1 | AG12: =AD12+AE12+AF12 -> 4 | AI12: =IF(D12="U",1," ") | AJ12: =IF(L12>0.5,1," ")
B13: Donnerstag | Q13: =IF(AND((J13-19)>2.99,(J13-E13)>3,J13>19),"JA","-") -> - | Z13: =IF(AB13=0,"Okay","Fehler") -> Okay | AB13: =P13-T13-V13-W13-X13-Y13-R13-U13-S13 -> 0 | AC13: =IF(AND(J13>=0.1,J13<=12),J13+24,IF(J13>=12,J13,0)) -> 0 | AD13: =IF(E13>6.99,"1","2") -> 2 | AE13: =IF(AC13<18.99,"1","2") -> 1 | AF13: =IF(AC13>22,"2","1") -> 1 | AG13: =AD13+AE13+AF13 -> 4 | AI13: =IF(D13="U",1," ") | AJ13: =IF(L13>0.5,1," ")
B14: Freitag | Q14: =IF(AND((J14-19)>2.99,(J14-E14)>3,J14>19),"JA","-") -> - | Z14: =IF(AB14=0,"Okay","Fehler") -> Okay | AB14: =P14-T14-V14-W14-X14-Y14-R14-U14-S14 -> 0 | AC14: =IF(AND(J14>=0.1,J14<=12),J14+24,IF(J14>=12,J14,0)) -> 0 | AD14: =IF(E14>6.99,"1","2") -> 2 | AE14: =IF(AC14<18.99,"1","2") -> 1 | AF14: =IF(AC14>22,"2","1") -> 1 | AG14: =AD14+AE14+AF14 -> 4 | AI14: =IF(D14="U",1," ") | AJ14: =IF(L14>0.5,1," ")
B15: Samstag | Q15: =IF(AND((J15-19)>2.99,(J15-E15)>3,J15>19),"JA","-") -> - | Z15: =IF(AB15=0,"Okay","Fehler") -> Okay | AB15: =P15-T15-V15-W15-X15-Y15-R15-U15-S15 -> 0 | AC15: =IF(AND(J15>=0.1,J15<=12),J15+24,IF(J15>=12,J15,0)) -> 0 | AD15: =IF(E15>6.99,"1","2") -> 2 | AE15: =IF(AC15<18.99,"1","2") -> 1 | AF15: =IF(AC15>22,"2","1") -> 1 | AG15: =AD15+AE15+AF15 -> 4 | AI15: =IF(D15="U",1," ") | AJ15: =IF(L15>0.5,1," ")
B16: Sonntag | C16: 46054 | E16: =Voreingabe!$C$14 -> 0 | F16: =Voreingabe!$E$14 -> 0 | G16: =Voreingabe!$F$14 -> 0 | H16: =Voreingabe!$G$14 -> 0 | I16: =Voreingabe!$H$14 -> 0 | J16: =Voreingabe!$D$14 -> 0 | K16: =(G16-F16)+(I16-H16) -> 0 | L16: =+IF((J16-E16-K16)>=0,(J16-E16-K16),(J16-(E16-24)-K16)) -> 0 | M16: =IF(L16>12,"§9 AZG! ","-") -> - | N16: =IF(L16>6,IF(K16<0.5,"Pause!","-"),"-") -> - | O16: =Voreingabe!$I$14 -> 0 | P16: =L16-O16 -> 0 | Q16: =IF(AND((J16-19)>2.99,(J16-E16)>3,J16>19),"JA","-") -> - | Z16: =IF(AB16=0,"Okay","Fehler") -> Okay | AB16: =P16-T16-V16-W16-X16-Y16-R16-U16-S16 -> 0 | AC16: =IF(AND(J16>=0.1,J16<=12),J16+24,IF(J16>=12,J16,0)) -> 0 | AD16: =IF(E16>6.99,"1","2") -> 2 | AE16: =IF(AC16<18.99,"1","2") -> 1 | AF16: =IF(AC16>22,"2","1") -> 1 | AG16: =AD16+AE16+AF16 -> 4 | AJ16: =IF(L16>0.5,1," ")
B17: Wochensumme 1 | L17: =SUM(L10:L16) -> 0 | M17: =IF(L17>60,"§9 AZG! ","-") -> - | O17: =SUM(O10:O16) -> 0 | P17: =L17-O17 -> 0 | R17: =SUM(R10:R16) -> 0 | S17: =SUM(S10:S16) -> 0 | T17: =SUM(T10:T16) -> 0 | U17: =SUM(U10:U16) -> 0 | V17: =SUM(V10:V16) -> 0 | W17: =SUM(W10:W16) -> 0 | X17: =SUM(X10:X16) -> 0 | Y17: =SUM(Y10:Y16) -> 0 | Z17: =SUM(T17:Y17) -> 0
B18: Montag | C18: =C16+1 -> 46055 | E18: =Voreingabe!$C$8 -> 9 | F18: =Voreingabe!$E$8 -> 12 | G18: =Voreingabe!$F$8 -> 12.5 | H18: =Voreingabe!$G$8 -> 0 | I18: =Voreingabe!$H$8 -> 0 | J18: =Voreingabe!$D$8 -> 18 | K18: =(G18-F18)+(I18-H18) -> 0.5 | L18: =+IF((J18-E18-K18)>=0,(J18-E18-K18),(J18-(E18-24)-K18)) -> 8.5 | M18: =IF(L18>12,"§9 AZG! ","-") -> - | N18: =IF(L18>6,IF(K18<0.5,"Pause!","-"),"-") -> - | O18: =Voreingabe!$I$8 -> 8.5 | P18: =L18-O18 -> 0 | Q18: =IF(AND((J18-19)>2.99,(J18-E18)>3,J18>19),"JA","-") -> - | Z18: =IF(AB18=0,"Okay","Fehler") -> Okay | AB18: =P18-T18-V18-W18-X18-Y18-R18-U18-S18 -> 0 | AC18: =IF(AND(J18>=0.1,J18<=12),J18+24,IF(J18>=12,J18,0)) -> 18 | AD18: =IF(E18>6.99,"1","2") -> 1 | AE18: =IF(AC18<18.99,"1","2") -> 1 | AF18: =IF(AC18>22,"2","1") -> 1 | AG18: =AD18+AE18+AF18 -> 3 | AI18: =IF(D18="U",1," ") | AJ18: =IF(L18>0.5,1," ") -> 1
B19: Dienstag | C19: =C18+1 -> 46056 | E19: =Voreingabe!$C$9 -> 9 | F19: =Voreingabe!$E$9 -> 12 | G19: =Voreingabe!$F$9 -> 12.5 | H19: =Voreingabe!$G$9 -> 0 | I19: =Voreingabe!$H$9 -> 0 | J19: =Voreingabe!$D$9 -> 18 | K19: =(G19-F19)+(I19-H19) -> 0.5 | L19: =+IF((J19-E19-K19)>=0,(J19-E19-K19),(J19-(E19-24)-K19)) -> 8.5 | M19: =IF(L19>12,"§9 AZG! ","-") -> - | N19: =IF(L19>6,IF(K19<0.5,"Pause!","-"),"-") -> - | O19: =Voreingabe!$I$9 -> 8.5 | P19: =L19-O19 -> 0 | Q19: =IF(AND((J19-19)>2.99,(J19-E19)>3,J19>19),"JA","-") -> - | Z19: =IF(AB19=0,"Okay","Fehler") -> Okay | AB19: =P19-T19-V19-W19-X19-Y19-R19-U19-S19 -> 0 | AC19: =IF(AND(J19>=0.1,J19<=12),J19+24,IF(J19>=12,J19,0)) -> 18 | AD19: =IF(E19>6.99,"1","2") -> 1 | AE19: =IF(AC19<18.99,"1","2") -> 1 | AF19: =IF(AC19>22,"2","1") -> 1 | AG19: =AD19+AE19+AF19 -> 3 | AI19: =IF(D19="U",1," ") | AJ19: =IF(L19>0.5,1," ") -> 1
B20: Mittwoch | C20: =C19+1 -> 46057 | E20: =Voreingabe!$C$10 -> 9 | F20: =Voreingabe!$E$10 -> 12 | G20: =Voreingabe!$F$10 -> 12.5 | H20: =Voreingabe!$G$10 -> 0 | I20: =Voreingabe!$H$10 -> 0 | J20: =Voreingabe!$D$10 -> 17 | K20: =(G20-F20)+(I20-H20) -> 0.5 | L20: =+IF((J20-E20-K20)>=0,(J20-E20-K20),(J20-(E20-24)-K20)) -> 7.5 | M20: =IF(L20>12,"§9 AZG! ","-") -> - | N20: =IF(L20>6,IF(K20<0.5,"Pause!","-"),"-") -> - | O20: =Voreingabe!$I$10 -> 7.5 | P20: =L20-O20 -> 0 | Q20: =IF(AND((J20-19)>2.99,(J20-E20)>3,J20>19),"JA","-") -> - | Z20: =IF(AB20=0,"Okay","Fehler") -> Okay | AB20: =P20-T20-V20-W20-X20-Y20-R20-U20-S20 -> 0 | AC20: =IF(AND(J20>=0.1,J20<=12),J20+24,IF(J20>=12,J20,0)) -> 17 | AD20: =IF(E20>6.99,"1","2") -> 1 | AE20: =IF(AC20<18.99,"1","2") -> 1 | AF20: =IF(AC20>22,"2","1") -> 1 | AG20: =AD20+AE20+AF20 -> 3 | AI20: =IF(D20="U",1," ") | AJ20: =IF(L20>0.5,1," ") -> 1
B21: Donnerstag | C21: =C20+1 -> 46058 | E21: =Voreingabe!$C$11 -> 9 | F21: =Voreingabe!$E$11 -> 12 | G21: =Voreingabe!$F$11 -> 12.5 | H21: =Voreingabe!$G$11 -> 0 | I21: =Voreingabe!$H$11 -> 0 | J21: =Voreingabe!$D$11 -> 17 | K21: =(G21-F21)+(I21-H21) -> 0.5 | L21: =+IF((J21-E21-K21)>=0,(J21-E21-K21),(J21-(E21-24)-K21)) -> 7.5 | M21: =IF(L21>12,"§9 AZG! ","-") -> - | N21: =IF(L21>6,IF(K21<0.5,"Pause!","-"),"-") -> - | O21: =Voreingabe!$I$11 -> 7.5 | P21: =L21-O21 -> 0 | Q21: =IF(AND((J21-19)>2.99,(J21-E21)>3,J21>19),"JA","-") -> - | Z21: =IF(AB21=0,"Okay","Fehler") -> Okay | AB21: =P21-T21-V21-W21-X21-Y21-R21-U21-S21 -> 0 | AC21: =IF(AND(J21>=0.1,J21<=12),J21+24,IF(J21>=12,J21,0)) -> 17 | AD21: =IF(E21>6.99,"1","2") -> 1 | AE21: =IF(AC21<18.99,"1","2") -> 1 | AF21: =IF(AC21>22,"2","1") -> 1 | AG21: =AD21+AE21+AF21 -> 3 | AI21: =IF(D21="U",1," ") | AJ21: =IF(L21>0.5,1," ") -> 1
B22: Freitag | C22: =C21+1 -> 46059 | E22: =Voreingabe!$C$12 -> 9 | F22: =Voreingabe!$E$12 -> 12 | G22: =Voreingabe!$F$12 -> 12.5 | H22: =Voreingabe!$G$12 -> 0 | I22: =Voreingabe!$H$12 -> 0 | J22: =Voreingabe!$D$12 -> 16 | K22: =(G22-F22)+(I22-H22) -> 0.5 | L22: =+IF((J22-E22-K22)>=0,(J22-E22-K22),(J22-(E22-24)-K22)) -> 6.5 | M22: =IF(L22>12,"§9 AZG! ","-") -> - | N22: =IF(L22>6,IF(K22<0.5,"Pause!","-"),"-") -> - | O22: =Voreingabe!$I$12 -> 6.5 | P22: =L22-O22 -> 0 | Q22: =IF(AND((J22-19)>2.99,(J22-E22)>3,J22>19),"JA","-") -> - | Z22: =IF(AB22=0,"Okay","Fehler") -> Okay | AB22: =P22-T22-V22-W22-X22-Y22-R22-U22-S22 -> 0 | AC22: =IF(AND(J22>=0.1,J22<=12),J22+24,IF(J22>=12,J22,0)) -> 16 | AD22: =IF(E22>6.99,"1","2") -> 1 | AE22: =IF(AC22<18.99,"1","2") -> 1 | AF22: =IF(AC22>22,"2","1") -> 1 | AG22: =AD22+AE22+AF22 -> 3 | AI22: =IF(D22="U",1," ") | AJ22: =IF(L22>0.5,1," ") -> 1
B23: Samstag | C23: =C22+1 -> 46060 | E23: =Voreingabe!$C$13 -> 0 | F23: =Voreingabe!$E$13 -> 0 | G23: =Voreingabe!$F$13 -> 0 | H23: =Voreingabe!$G$13 -> 0 | I23: =Voreingabe!$H$13 -> 0 | J23: =Voreingabe!$D$13 -> 0 | K23: =(G23-F23)+(I23-H23) -> 0 | L23: =+IF((J23-E23-K23)>=0,(J23-E23-K23),(J23-(E23-24)-K23)) -> 0 | M23: =IF(L23>12,"§9 AZG! ","-") -> - | N23: =IF(L23>6,IF(K23<0.5,"Pause!","-"),"-") -> - | O23: =Voreingabe!$I$13 -> 0 | P23: =L23-O23 -> 0 | Q23: =IF(AND((J23-19)>2.99,(J23-E23)>3,J23>19),"JA","-") -> - | Z23: =IF(AB23=0,"Okay","Fehler") -> Okay | AB23: =P23-T23-V23-W23-X23-Y23-R23-U23-S23 -> 0 | AC23: =IF(AND(J23>=0.1,J23<=12),J23+24,IF(J23>=12,J23,0)) -> 0 | AD23: =IF(E23>6.99,"1","2") -> 2 | AE23: =IF(AC23<18.99,"1","2") -> 1 | AF23: =IF(AC23>22,"2","1") -> 1 | AG23: =AD23+AE23+AF23 -> 4 | AI23: =IF(D23="U",1," ") | AJ23: =IF(L23>0.5,1," ")
B24: Sonntag | C24: =C23+1 -> 46061 | E24: =Voreingabe!$C$14 -> 0 | F24: =Voreingabe!$E$14 -> 0 | G24: =Voreingabe!$F$14 -> 0 | H24: =Voreingabe!$G$14 -> 0 | I24: =Voreingabe!$H$14 -> 0 | J24: =Voreingabe!$D$14 -> 0 | K24: =(G24-F24)+(I24-H24) -> 0 | L24: =+IF((J24-E24-K24)>=0,(J24-E24-K24),(J24-(E24-24)-K24)) -> 0 | M24: =IF(L24>12,"§9 AZG! ","-") -> - | N24: =IF(L24>6,IF(K24<0.5,"Pause!","-"),"-") -> - | O24: =Voreingabe!$I$14 -> 0 | P24: =L24-O24 -> 0 | Q24: =IF(AND((J24-19)>2.99,(J24-E24)>3,J24>19),"JA","-") -> - | Z24: =IF(AB24=0,"Okay","Fehler") -> Okay | AB24: =P24-T24-V24-W24-X24-Y24-R24-U24-S24 -> 0 | AC24: =IF(AND(J24>=0.1,J24<=12),J24+24,IF(J24>=12,J24,0)) -> 0 | AD24: =IF(E24>6.99,"1","2") -> 2 | AE24: =IF(AC24<18.99,"1","2") -> 1 | AF24: =IF(AC24>22,"2","1") -> 1 | AG24: =AD24+AE24+AF24 -> 4 | AJ24: =IF(L24>0.5,1," ")
B25: Wochensumme 2 | L25: =SUM(L18:L24) -> 38.5 | M25: =IF(L25>60,"§9 AZG! ","-") -> - | O25: =SUM(O18:O24) -> 38.5 | P25: =L25-O25 -> 0 | R25: =SUM(R18:R24) -> 0 | S25: =SUM(S18:S24) -> 0 | T25: =SUM(T18:T24) -> 0 | U25: =SUM(U18:U24) -> 0 | V25: =SUM(V18:V24) -> 0 | W25: =SUM(W18:W24) -> 0 | X25: =SUM(X18:X24) -> 0 | Y25: =SUM(Y18:Y24) -> 0 | Z25: =SUM(T25:Y25) -> 0
B26: Montag | C26: =C24+1 -> 46062 | E26: =Voreingabe!$C$8 -> 9 | F26: =Voreingabe!$E$8 -> 12 | G26: =Voreingabe!$F$8 -> 12.5 | H26: =Voreingabe!$G$8 -> 0 | I26: =Voreingabe!$H$8 -> 0 | J26: =Voreingabe!$D$8 -> 18 | K26: =(G26-F26)+(I26-H26) -> 0.5 | L26: =+IF((J26-E26-K26)>=0,(J26-E26-K26),(J26-(E26-24)-K26)) -> 8.5 | M26: =IF(L26>12,"§9 AZG! ","-") -> - | N26: =IF(L26>6,IF(K26<0.5,"Pause!","-"),"-") -> - | O26: =Voreingabe!$I$8 -> 8.5 | P26: =L26-O26 -> 0 | Q26: =IF(AND((J26-19)>2.99,(J26-E26)>3,J26>19),"JA","-") -> - | Z26: =IF(AB26=0,"Okay","Fehler") -> Okay | AB26: =P26-T26-V26-W26-X26-Y26-R26-U26-S26 -> 0 | AC26: =IF(AND(J26>=0.1,J26<=12),J26+24,IF(J26>=12,J26,0)) -> 18 | AD26: =IF(E26>6.99,"1","2") -> 1 | AE26: =IF(AC26<18.99,"1","2") -> 1 | AF26: =IF(AC26>22,"2","1") -> 1 | AG26: =AD26+AE26+AF26 -> 3 | AI26: =IF(D26="U",1," ") | AJ26: =IF(L26>0.5,1," ") -> 1
B27: Dienstag | C27: =C26+1 -> 46063 | E27: =Voreingabe!$C$9 -> 9 | F27: =Voreingabe!$E$9 -> 12 | G27: =Voreingabe!$F$9 -> 12.5 | H27: =Voreingabe!$G$9 -> 0 | I27: =Voreingabe!$H$9 -> 0 | J27: =Voreingabe!$D$9 -> 18 | K27: =(G27-F27)+(I27-H27) -> 0.5 | L27: =+IF((J27-E27-K27)>=0,(J27-E27-K27),(J27-(E27-24)-K27)) -> 8.5 | M27: =IF(L27>12,"§9 AZG! ","-") -> - | N27: =IF(L27>6,IF(K27<0.5,"Pause!","-"),"-") -> - | O27: =Voreingabe!$I$9 -> 8.5 | P27: =L27-O27 -> 0 | Q27: =IF(AND((J27-19)>2.99,(J27-E27)>3,J27>19),"JA","-") -> - | Z27: =IF(AB27=0,"Okay","Fehler") -> Okay | AB27: =P27-T27-V27-W27-X27-Y27-R27-U27-S27 -> 0 | AC27: =IF(AND(J27>=0.1,J27<=12),J27+24,IF(J27>=12,J27,0)) -> 18 | AD27: =IF(E27>6.99,"1","2") -> 1 | AE27: =IF(AC27<18.99,"1","2") -> 1 | AF27: =IF(AC27>22,"2","1") -> 1 | AG27: =AD27+AE27+AF27 -> 3 | AI27: =IF(D27="U",1," ") | AJ27: =IF(L27>0.5,1," ") -> 1
B28: Mittwoch | C28: =C27+1 -> 46064 | E28: =Voreingabe!$C$10 -> 9 | F28: =Voreingabe!$E$10 -> 12 | G28: =Voreingabe!$F$10 -> 12.5 | H28: =Voreingabe!$G$10 -> 0 | I28: =Voreingabe!$H$10 -> 0 | J28: =Voreingabe!$D$10 -> 17 | K28: =(G28-F28)+(I28-H28) -> 0.5 | L28: =+IF((J28-E28-K28)>=0,(J28-E28-K28),(J28-(E28-24)-K28)) -> 7.5 | M28: =IF(L28>12,"§9 AZG! ","-") -> - | N28: =IF(L28>6,IF(K28<0.5,"Pause!","-"),"-") -> - | O28: =Voreingabe!$I$10 -> 7.5 | P28: =L28-O28 -> 0 | Q28: =IF(AND((J28-19)>2.99,(J28-E28)>3,J28>19),"JA","-") -> - | Z28: =IF(AB28=0,"Okay","Fehler") -> Okay | AB28: =P28-T28-V28-W28-X28-Y28-R28-U28-S28 -> 0 | AC28: =IF(AND(J28>=0.1,J28<=12),J28+24,IF(J28>=12,J28,0)) -> 17 | AD28: =IF(E28>6.99,"1","2") -> 1 | AE28: =IF(AC28<18.99,"1","2") -> 1 | AF28: =IF(AC28>22,"2","1") -> 1 | AG28: =AD28+AE28+AF28 -> 3 | AI28: =IF(D28="U",1," ") | AJ28: =IF(L28>0.5,1," ") -> 1
B29: Donnerstag | C29: =C28+1 -> 46065 | E29: =Voreingabe!$C$11 -> 9 | F29: =Voreingabe!$E$11 -> 12 | G29: =Voreingabe!$F$11 -> 12.5 | H29: =Voreingabe!$G$11 -> 0 | I29: =Voreingabe!$H$11 -> 0 | J29: =Voreingabe!$D$11 -> 17 | K29: =(G29-F29)+(I29-H29) -> 0.5 | L29: =+IF((J29-E29-K29)>=0,(J29-E29-K29),(J29-(E29-24)-K29)) -> 7.5 | M29: =IF(L29>12,"§9 AZG! ","-") -> - | N29: =IF(L29>6,IF(K29<0.5,"Pause!","-"),"-") -> - | O29: =Voreingabe!$I$11 -> 7.5 | P29: =L29-O29 -> 0 | Q29: =IF(AND((J29-19)>2.99,(J29-E29)>3,J29>19),"JA","-") -> - | Z29: =IF(AB29=0,"Okay","Fehler") -> Okay | AB29: =P29-T29-V29-W29-X29-Y29-R29-U29-S29 -> 0 | AC29: =IF(AND(J29>=0.1,J29<=12),J29+24,IF(J29>=12,J29,0)) -> 17 | AD29: =IF(E29>6.99,"1","2") -> 1 | AE29: =IF(AC29<18.99,"1","2") -> 1 | AF29: =IF(AC29>22,"2","1") -> 1 | AG29: =AD29+AE29+AF29 -> 3 | AI29: =IF(D29="U",1," ") | AJ29: =IF(L29>0.5,1," ") -> 1
B30: Freitag | C30: =C29+1 -> 46066 | E30: =Voreingabe!$C$12 -> 9 | F30: =Voreingabe!$E$12 -> 12 | G30: =Voreingabe!$F$12 -> 12.5 | H30: =Voreingabe!$G$12 -> 0 | I30: =Voreingabe!$H$12 -> 0 | J30: =Voreingabe!$D$12 -> 16 | K30: =(G30-F30)+(I30-H30) -> 0.5 | L30: =+IF((J30-E30-K30)>=0,(J30-E30-K30),(J30-(E30-24)-K30)) -> 6.5 | M30: =IF(L30>12,"§9 AZG! ","-") -> - | N30: =IF(L30>6,IF(K30<0.5,"Pause!","-"),"-") -> - | O30: =Voreingabe!$I$12 -> 6.5 | P30: =L30-O30 -> 0 | Q30: =IF(AND((J30-19)>2.99,(J30-E30)>3,J30>19),"JA","-") -> - | Z30: =IF(AB30=0,"Okay","Fehler") -> Okay | AB30: =P30-T30-V30-W30-X30-Y30-R30-U30-S30 -> 0 | AC30: =IF(AND(J30>=0.1,J30<=12),J30+24,IF(J30>=12,J30,0)) -> 16 | AD30: =IF(E30>6.99,"1","2") -> 1 | AE30: =IF(AC30<18.99,"1","2") -> 1 | AF30: =IF(AC30>22,"2","1") -> 1 | AG30: =AD30+AE30+AF30 -> 3 | AI30: =IF(D30="U",1," ") | AJ30: =IF(L30>0.5,1," ") -> 1
B31: Samstag | C31: =C30+1 -> 46067 | E31: =Voreingabe!$C$13 -> 0 | F31: =Voreingabe!$E$13 -> 0 | G31: =Voreingabe!$F$13 -> 0 | H31: =Voreingabe!$G$13 -> 0 | I31: =Voreingabe!$H$13 -> 0 | J31: =Voreingabe!$D$13 -> 0 | K31: =(G31-F31)+(I31-H31) -> 0 | L31: =+IF((J31-E31-K31)>=0,(J31-E31-K31),(J31-(E31-24)-K31)) -> 0 | M31: =IF(L31>12,"§9 AZG! ","-") -> - | N31: =IF(L31>6,IF(K31<0.5,"Pause!","-"),"-") -> - | O31: =Voreingabe!$I$13 -> 0 | P31: =L31-O31 -> 0 | Q31: =IF(AND((J31-19)>2.99,(J31-E31)>3,J31>19),"JA","-") -> - | Z31: =IF(AB31=0,"Okay","Fehler") -> Okay | AB31: =P31-T31-V31-W31-X31-Y31-R31-U31-S31 -> 0 | AC31: =IF(AND(J31>=0.1,J31<=12),J31+24,IF(J31>=12,J31,0)) -> 0 | AD31: =IF(E31>6.99,"1","2") -> 2 | AE31: =IF(AC31<18.99,"1","2") -> 1 | AF31: =IF(AC31>22,"2","1") -> 1 | AG31: =AD31+AE31+AF31 -> 4 | AI31: =IF(D31="U",1," ") | AJ31: =IF(L31>0.5,1," ")
B32: Sonntag | C32: =C31+1 -> 46068 | E32: =Voreingabe!$C$14 -> 0 | F32: =Voreingabe!$E$14 -> 0 | G32: =Voreingabe!$F$14 -> 0 | H32: =Voreingabe!$G$14 -> 0 | I32: =Voreingabe!$H$14 -> 0 | J32: =Voreingabe!$D$14 -> 0 | K32: =(G32-F32)+(I32-H32) -> 0 | L32: =+IF((J32-E32-K32)>=0,(J32-E32-K32),(J32-(E32-24)-K32)) -> 0 | M32: =IF(L32>12,"§9 AZG! ","-") -> - | N32: =IF(L32>6,IF(K32<0.5,"Pause!","-"),"-") -> - | O32: =Voreingabe!$I$14 -> 0 | P32: =L32-O32 -> 0 | Q32: =IF(AND((J32-19)>2.99,(J32-E32)>3,J32>19),"JA","-") -> - | Z32: =IF(AB32=0,"Okay","Fehler") -> Okay | AB32: =P32-T32-V32-W32-X32-Y32-R32-U32-S32 -> 0 | AC32: =IF(AND(J32>=0.1,J32<=12),J32+24,IF(J32>=12,J32,0)) -> 0 | AD32: =IF(E32>6.99,"1","2") -> 2 | AE32: =IF(AC32<18.99,"1","2") -> 1 | AF32: =IF(AC32>22,"2","1") -> 1 | AG32: =AD32+AE32+AF32 -> 4 | AJ32: =IF(L32>0.5,1," ")
B33: Wochensumme 3 | L33: =SUM(L26:L32) -> 38.5 | M33: =IF(L33>60,"§9 AZG! ","-") -> - | O33: =SUM(O26:O32) -> 38.5 | P33: =L33-O33 -> 0 | R33: =SUM(R26:R32) -> 0 | S33: =SUM(S26:S32) -> 0 | T33: =SUM(T26:T32) -> 0 | U33: =SUM(U26:U32) -> 0 | V33: =SUM(V26:V32) -> 0 | W33: =SUM(W26:W32) -> 0 | X33: =SUM(X26:X32) -> 0 | Y33: =SUM(Y26:Y32) -> 0 | Z33: =SUM(T33:Y33) -> 0
B34: Montag | C34: =C32+1 -> 46069 | E34: =Voreingabe!$C$8 -> 9 | F34: =Voreingabe!$E$8 -> 12 | G34: =Voreingabe!$F$8 -> 12.5 | H34: =Voreingabe!$G$8 -> 0 | I34: =Voreingabe!$H$8 -> 0 | J34: =Voreingabe!$D$8 -> 18 | K34: =(G34-F34)+(I34-H34) -> 0.5 | L34: =+IF((J34-E34-K34)>=0,(J34-E34-K34),(J34-(E34-24)-K34)) -> 8.5 | M34: =IF(L34>12,"§9 AZG! ","-") -> - | N34: =IF(L34>6,IF(K34<0.5,"Pause!","-"),"-") -> - | O34: =Voreingabe!$I$8 -> 8.5 | P34: =L34-O34 -> 0 | Q34: =IF(AND((J34-19)>2.99,(J34-E34)>3,J34>19),"JA","-") -> - | Z34: =IF(AB34=0,"Okay","Fehler") -> Okay | AB34: =P34-T34-V34-W34-X34-Y34-R34-U34-S34 -> 0 | AC34: =IF(AND(J34>=0.1,J34<=12),J34+24,IF(J34>=12,J34,0)) -> 18 | AD34: =IF(E34>6.99,"1","2") -> 1 | AE34: =IF(AC34<18.99,"1","2") -> 1 | AF34: =IF(AC34>22,"2","1") -> 1 | AG34: =AD34+AE34+AF34 -> 3 | AI34: =IF(D34="U",1," ") | AJ34: =IF(L34>0.5,1," ") -> 1
B35: Dienstag | C35: =C34+1 -> 46070 | E35: =Voreingabe!$C$9 -> 9 | F35: =Voreingabe!$E$9 -> 12 | G35: =Voreingabe!$F$9 -> 12.5 | H35: =Voreingabe!$G$9 -> 0 | I35: =Voreingabe!$H$9 -> 0 | J35: =Voreingabe!$D$9 -> 18 | K35: =(G35-F35)+(I35-H35) -> 0.5 | L35: =+IF((J35-E35-K35)>=0,(J35-E35-K35),(J35-(E35-24)-K35)) -> 8.5 | M35: =IF(L35>12,"§9 AZG! ","-") -> - | N35: =IF(L35>6,IF(K35<0.5,"Pause!","-"),"-") -> - | O35: =Voreingabe!$I$9 -> 8.5 | P35: =L35-O35 -> 0 | Q35: =IF(AND((J35-19)>2.99,(J35-E35)>3,J35>19),"JA","-") -> - | Z35: =IF(AB35=0,"Okay","Fehler") -> Okay | AB35: =P35-T35-V35-W35-X35-Y35-R35-U35-S35 -> 0 | AC35: =IF(AND(J35>=0.1,J35<=12),J35+24,IF(J35>=12,J35,0)) -> 18 | AD35: =IF(E35>6.99,"1","2") -> 1 | AE35: =IF(AC35<18.99,"1","2") -> 1 | AF35: =IF(AC35>22,"2","1") -> 1 | AG35: =AD35+AE35+AF35 -> 3 | AI35: =IF(D35="U",1," ") | AJ35: =IF(L35>0.5,1," ") -> 1
B36: Mittwoch | C36: =C35+1 -> 46071 | E36: =Voreingabe!$C$10 -> 9 | F36: =Voreingabe!$E$10 -> 12 | G36: =Voreingabe!$F$10 -> 12.5 | H36: =Voreingabe!$G$10 -> 0 | I36: =Voreingabe!$H$10 -> 0 | J36: =Voreingabe!$D$10 -> 17 | K36: =(G36-F36)+(I36-H36) -> 0.5 | L36: =+IF((J36-E36-K36)>=0,(J36-E36-K36),(J36-(E36-24)-K36)) -> 7.5 | M36: =IF(L36>12,"§9 AZG! ","-") -> - | N36: =IF(L36>6,IF(K36<0.5,"Pause!","-"),"-") -> - | O36: =Voreingabe!$I$10 -> 7.5 | P36: =L36-O36 -> 0 | Q36: =IF(AND((J36-19)>2.99,(J36-E36)>3,J36>19),"JA","-") -> - | Z36: =IF(AB36=0,"Okay","Fehler") -> Okay | AB36: =P36-T36-V36-W36-X36-Y36-R36-U36-S36 -> 0 | AC36: =IF(AND(J36>=0.1,J36<=12),J36+24,IF(J36>=12,J36,0)) -> 17 | AD36: =IF(E36>6.99,"1","2") -> 1 | AE36: =IF(AC36<18.99,"1","2") -> 1 | AF36: =IF(AC36>22,"2","1") -> 1 | AG36: =AD36+AE36+AF36 -> 3 | AI36: =IF(D36="U",1," ") | AJ36: =IF(L36>0.5,1," ") -> 1
B37: Donnerstag | C37: =C36+1 -> 46072 | E37: =Voreingabe!$C$11 -> 9 | F37: =Voreingabe!$E$11 -> 12 | G37: =Voreingabe!$F$11 -> 12.5 | H37: =Voreingabe!$G$11 -> 0 | I37: =Voreingabe!$H$11 -> 0 | J37: =Voreingabe!$D$11 -> 17 | K37: =(G37-F37)+(I37-H37) -> 0.5 | L37: =+IF((J37-E37-K37)>=0,(J37-E37-K37),(J37-(E37-24)-K37)) -> 7.5 | M37: =IF(L37>12,"§9 AZG! ","-") -> - | N37: =IF(L37>6,IF(K37<0.5,"Pause!","-"),"-") -> - | O37: =Voreingabe!$I$11 -> 7.5 | P37: =L37-O37 -> 0 | Q37: =IF(AND((J37-19)>2.99,(J37-E37)>3,J37>19),"JA","-") -> - | Z37: =IF(AB37=0,"Okay","Fehler") -> Okay | AB37: =P37-T37-V37-W37-X37-Y37-R37-U37-S37 -> 0 | AC37: =IF(AND(J37>=0.1,J37<=12),J37+24,IF(J37>=12,J37,0)) -> 17 | AD37: =IF(E37>6.99,"1","2") -> 1 | AE37: =IF(AC37<18.99,"1","2") -> 1 | AF37: =IF(AC37>22,"2","1") -> 1 | AG37: =AD37+AE37+AF37 -> 3 | AI37: =IF(D37="U",1," ") | AJ37: =IF(L37>0.5,1," ") -> 1
B38: Freitag | C38: =C37+1 -> 46073 | E38: =Voreingabe!$C$12 -> 9 | F38: =Voreingabe!$E$12 -> 12 | G38: =Voreingabe!$F$12 -> 12.5 | H38: =Voreingabe!$G$12 -> 0 | I38: =Voreingabe!$H$12 -> 0 | J38: =Voreingabe!$D$12 -> 16 | K38: =(G38-F38)+(I38-H38) -> 0.5 | L38: =+IF((J38-E38-K38)>=0,(J38-E38-K38),(J38-(E38-24)-K38)) -> 6.5 | M38: =IF(L38>12,"§9 AZG! ","-") -> - | N38: =IF(L38>6,IF(K38<0.5,"Pause!","-"),"-") -> - | O38: =Voreingabe!$I$12 -> 6.5 | P38: =L38-O38 -> 0 | Q38: =IF(AND((J38-19)>2.99,(J38-E38)>3,J38>19),"JA","-") -> - | Z38: =IF(AB38=0,"Okay","Fehler") -> Okay | AB38: =P38-T38-V38-W38-X38-Y38-R38-U38-S38 -> 0 | AC38: =IF(AND(J38>=0.1,J38<=12),J38+24,IF(J38>=12,J38,0)) -> 16 | AD38: =IF(E38>6.99,"1","2") -> 1 | AE38: =IF(AC38<18.99,"1","2") -> 1 | AF38: =IF(AC38>22,"2","1") -> 1 | AG38: =AD38+AE38+AF38 -> 3 | AI38: =IF(D38="U",1," ") | AJ38: =IF(L38>0.5,1," ") -> 1
B39: Samstag | C39: =C38+1 -> 46074 | E39: =Voreingabe!$C$13 -> 0 | F39: =Voreingabe!$E$13 -> 0 | G39: =Voreingabe!$F$13 -> 0 | H39: =Voreingabe!$G$13 -> 0 | I39: =Voreingabe!$H$13 -> 0 | J39: =Voreingabe!$D$13 -> 0 | K39: =(G39-F39)+(I39-H39) -> 0 | L39: =+IF((J39-E39-K39)>=0,(J39-E39-K39),(J39-(E39-24)-K39)) -> 0 | M39: =IF(L39>12,"§9 AZG! ","-") -> - | N39: =IF(L39>6,IF(K39<0.5,"Pause!","-"),"-") -> - | O39: =Voreingabe!$I$13 -> 0 | P39: =L39-O39 -> 0 | Q39: =IF(AND((J39-19)>2.99,(J39-E39)>3,J39>19),"JA","-") -> - | Z39: =IF(AB39=0,"Okay","Fehler") -> Okay | AB39: =P39-T39-V39-W39-X39-Y39-R39-U39-S39 -> 0 | AC39: =IF(AND(J39>=0.1,J39<=12),J39+24,IF(J39>=12,J39,0)) -> 0 | AD39: =IF(E39>6.99,"1","2") -> 2 | AE39: =IF(AC39<18.99,"1","2") -> 1 | AF39: =IF(AC39>22,"2","1") -> 1 | AG39: =AD39+AE39+AF39 -> 4 | AI39: =IF(D39="U",1," ") | AJ39: =IF(L39>0.5,1," ")
B40: Sonntag | C40: =C39+1 -> 46075 | E40: =Voreingabe!$C$14 -> 0 | F40: =Voreingabe!$E$14 -> 0 | G40: =Voreingabe!$F$14 -> 0 | H40: =Voreingabe!$G$14 -> 0 | I40: =Voreingabe!$H$14 -> 0 | J40: =Voreingabe!$D$14 -> 0 | K40: =(G40-F40)+(I40-H40) -> 0 | L40: =+IF((J40-E40-K40)>=0,(J40-E40-K40),(J40-(E40-24)-K40)) -> 0 | M40: =IF(L40>12,"§9 AZG! ","-") -> - | N40: =IF(L40>6,IF(K40<0.5,"Pause!","-"),"-") -> - | O40: =Voreingabe!$I$14 -> 0 | P40: =L40-O40 -> 0 | Q40: =IF(AND((J40-19)>2.99,(J40-E40)>3,J40>19),"JA","-") -> - | Z40: =IF(AB40=0,"Okay","Fehler") -> Okay | AB40: =P40-T40-V40-W40-X40-Y40-R40-U40-S40 -> 0 | AC40: =IF(AND(J40>=0.1,J40<=12),J40+24,IF(J40>=12,J40,0)) -> 0 | AD40: =IF(E40>6.99,"1","2") -> 2 | AE40: =IF(AC40<18.99,"1","2") -> 1 | AF40: =IF(AC40>22,"2","1") -> 1 | AG40: =AD40+AE40+AF40 -> 4 | AJ40: =IF(L40>0.5,1," ")
B41: Wochensumme 4 | L41: =SUM(L34:L40) -> 38.5 | M41: =IF(L41>60,"§9 AZG! ","-") -> - | O41: =SUM(O34:O40) -> 38.5 | P41: =L41-O41 -> 0 | R41: =SUM(R34:R40) -> 0 | S41: =SUM(S34:S40) -> 0 | T41: =SUM(T34:T40) -> 0 | U41: =SUM(U34:U40) -> 0 | V41: =SUM(V34:V40) -> 0 | W41: =SUM(W34:W40) -> 0 | X41: =SUM(X34:X40) -> 0 | Y41: =SUM(Y34:Y40) -> 0 | Z41: =SUM(T41:Y41) -> 0
B42: Montag | C42: =C40+1 -> 46076 | E42: =Voreingabe!$C$8 -> 9 | F42: =Voreingabe!$E$8 -> 12 | G42: =Voreingabe!$F$8 -> 12.5 | H42: =Voreingabe!$G$8 -> 0 | I42: =Voreingabe!$H$8 -> 0 | J42: =Voreingabe!$D$8 -> 18 | K42: =(G42-F42)+(I42-H42) -> 0.5 | L42: =+IF((J42-E42-K42)>=0,(J42-E42-K42),(J42-(E42-24)-K42)) -> 8.5 | M42: =IF(L42>12,"§9 AZG! ","-") -> - | N42: =IF(L42>6,IF(K42<0.5,"Pause!","-"),"-") -> - | O42: =Voreingabe!$I$8 -> 8.5 | P42: =L42-O42 -> 0 | Q42: =IF(AND((J42-19)>2.99,(J42-E42)>3,J42>19),"JA","-") -> - | Z42: =IF(AB42=0,"Okay","Fehler") -> Okay | AB42: =P42-T42-V42-W42-X42-Y42-R42-U42-S42 -> 0 | AC42: =IF(AND(J42>=0.1,J42<=12),J42+24,IF(J42>=12,J42,0)) -> 18 | AD42: =IF(E42>6.99,"1","2") -> 1 | AE42: =IF(AC42<18.99,"1","2") -> 1 | AF42: =IF(AC42>22,"2","1") -> 1 | AG42: =AD42+AE42+AF42 -> 3 | AI42: =IF(D42="U",1," ") | AJ42: =IF(L42>0.5,1," ") -> 1
B43: Dienstag | C43: =C42+1 -> 46077 | E43: =Voreingabe!$C$9 -> 9 | F43: =Voreingabe!$E$9 -> 12 | G43: =Voreingabe!$F$9 -> 12.5 | H43: =Voreingabe!$G$9 -> 0 | I43: =Voreingabe!$H$9 -> 0 | J43: =Voreingabe!$D$9 -> 18 | K43: =(G43-F43)+(I43-H43) -> 0.5 | L43: =+IF((J43-E43-K43)>=0,(J43-E43-K43),(J43-(E43-24)-K43)) -> 8.5 | M43: =IF(L43>12,"§9 AZG! ","-") -> - | N43: =IF(L43>6,IF(K43<0.5,"Pause!","-"),"-") -> - | O43: =Voreingabe!$I$9 -> 8.5 | P43: =L43-O43 -> 0 | Q43: =IF(AND((J43-19)>2.99,(J43-E43)>3,J43>19),"JA","-") -> - | Z43: =IF(AB43=0,"Okay","Fehler") -> Okay | AB43: =P43-T43-V43-W43-X43-Y43-R43-U43-S43 -> 0 | AC43: =IF(AND(J43>=0.1,J43<=12),J43+24,IF(J43>=12,J43,0)) -> 18 | AD43: =IF(E43>6.99,"1","2") -> 1 | AE43: =IF(AC43<18.99,"1","2") -> 1 | AF43: =IF(AC43>22,"2","1") -> 1 | AG43: =AD43+AE43+AF43 -> 3 | AI43: =IF(D43="U",1," ") | AJ43: =IF(L43>0.5,1," ") -> 1
B44: Mittwoch | C44: =C43+1 -> 46078 | E44: =Voreingabe!$C$10 -> 9 | F44: =Voreingabe!$E$10 -> 12 | G44: =Voreingabe!$F$10 -> 12.5 | H44: =Voreingabe!$G$10 -> 0 | I44: =Voreingabe!$H$10 -> 0 | J44: =Voreingabe!$D$10 -> 17 | K44: =(G44-F44)+(I44-H44) -> 0.5 | L44: =+IF((J44-E44-K44)>=0,(J44-E44-K44),(J44-(E44-24)-K44)) -> 7.5 | M44: =IF(L44>12,"§9 AZG! ","-") -> - | N44: =IF(L44>6,IF(K44<0.5,"Pause!","-"),"-") -> - | O44: =Voreingabe!$I$10 -> 7.5 | P44: =L44-O44 -> 0 | Z44: =IF(AB44=0,"Okay","Fehler") -> Okay | AB44: =P44-T44-V44-W44-X44-Y44-R44-U44-S44 -> 0 | AC44: =IF(AND(J44>=0.1,J44<=12),J44+24,IF(J44>=12,J44,0)) -> 17 | AD44: =IF(E44>6.99,"1","2") -> 1 | AE44: =IF(AC44<18.99,"1","2") -> 1 | AF44: =IF(AC44>22,"2","1") -> 1 | AG44: =AD44+AE44+AF44 -> 3 | AI44: =IF(D44="U",1," ") | AJ44: =IF(L44>0.5,1," ") -> 1
B45: Donnerstag | C45: =C44+1 -> 46079 | E45: =Voreingabe!$C$11 -> 9 | F45: =Voreingabe!$E$11 -> 12 | G45: =Voreingabe!$F$11 -> 12.5 | H45: =Voreingabe!$G$11 -> 0 | I45: =Voreingabe!$H$11 -> 0 | J45: =Voreingabe!$D$11 -> 17 | K45: =(G45-F45)+(I45-H45) -> 0.5 | L45: =+IF((J45-E45-K45)>=0,(J45-E45-K45),(J45-(E45-24)-K45)) -> 7.5 | M45: =IF(L45>12,"§9 AZG! ","-") -> - | N45: =IF(L45>6,IF(K45<0.5,"Pause!","-"),"-") -> - | O45: =Voreingabe!$I$11 -> 7.5 | P45: =L45-O45 -> 0 | Z45: =IF(AB45=0,"Okay","Fehler") -> Okay | AB45: =P45-T45-V45-W45-X45-Y45-R45-U45-S45 -> 0 | AC45: =IF(AND(J45>=0.1,J45<=12),J45+24,IF(J45>=12,J45,0)) -> 17 | AD45: =IF(E45>6.99,"1","2") -> 1 | AE45: =IF(AC45<18.99,"1","2") -> 1 | AF45: =IF(AC45>22,"2","1") -> 1 | AG45: =AD45+AE45+AF45 -> 3 | AI45: =IF(D45="U",1," ") | AJ45: =IF(L45>0.5,1," ") -> 1
B46: Freitag | C46: =C45+1 -> 46080 | E46: =Voreingabe!$C$12 -> 9 | F46: =Voreingabe!$E$12 -> 12 | G46: =Voreingabe!$F$12 -> 12.5 | H46: =Voreingabe!$G$12 -> 0 | I46: =Voreingabe!$H$12 -> 0 | J46: =Voreingabe!$D$12 -> 16 | K46: =(G46-F46)+(I46-H46) -> 0.5 | L46: =+IF((J46-E46-K46)>=0,(J46-E46-K46),(J46-(E46-24)-K46)) -> 6.5 | M46: =IF(L46>12,"§9 AZG! ","-") -> - | N46: =IF(L46>6,IF(K46<0.5,"Pause!","-"),"-") -> - | O46: =Voreingabe!$I$12 -> 6.5 | P46: =L46-O46 -> 0 | Z46: =IF(AB46=0,"Okay","Fehler") -> Okay | AB46: =P46-T46-V46-W46-X46-Y46-R46-U46-S46 -> 0 | AC46: =IF(AND(J46>=0.1,J46<=12),J46+24,IF(J46>=12,J46,0)) -> 16 | AD46: =IF(E46>6.99,"1","2") -> 1 | AE46: =IF(AC46<18.99,"1","2") -> 1 | AF46: =IF(AC46>22,"2","1") -> 1 | AG46: =AD46+AE46+AF46 -> 3 | AI46: =IF(D46="U",1," ") | AJ46: =IF(L46>0.5,1," ") -> 1
B47: Samstag | C47: =C46+1 -> 46081 | E47: =Voreingabe!$C$13 -> 0 | F47: =Voreingabe!$E$13 -> 0 | G47: =Voreingabe!$F$13 -> 0 | H47: =Voreingabe!$G$13 -> 0 | I47: =Voreingabe!$H$13 -> 0 | J47: =Voreingabe!$D$13 -> 0 | K47: =(G47-F47)+(I47-H47) -> 0 | L47: =+IF((J47-E47-K47)>=0,(J47-E47-K47),(J47-(E47-24)-K47)) -> 0 | M47: =IF(L47>12,"§9 AZG! ","-") -> - | N47: =IF(L47>6,IF(K47<0.5,"Pause!","-"),"-") -> - | O47: =Voreingabe!$I$13 -> 0 | P47: =L47-O47 -> 0 | Q47: =IF(AND((J47-19)>2.99,(J47-E47)>3,J47>19),"JA","-") -> - | Z47: =IF(AB47=0,"Okay","Fehler") -> Okay | AB47: =P47-T47-V47-W47-X47-Y47-R47-U47-S47 -> 0 | AC47: =IF(AND(J47>=0.1,J47<=12),J47+24,IF(J47>=12,J47,0)) -> 0 | AD47: =IF(E47>6.99,"1","2") -> 2 | AE47: =IF(AC47<18.99,"1","2") -> 1 | AF47: =IF(AC47>22,"2","1") -> 1 | AG47: =AD47+AE47+AF47 -> 4 | AI47: =IF(D47="U",1," ") | AJ47: =IF(L47>0.5,1," ")
B48: Sonntag | Z48: =IF(AB48=0,"Okay","Fehler") -> Okay | AB48: =P48-T48-V48-W48-X48-Y48-R48-U48-S48 -> 0 | AC48: =IF(AND(J48>=0.1,J48<=12),J48+24,IF(J48>=12,J48,0)) -> 0 | AD48: =IF(E48>6.99,"1","2") -> 2 | AE48: =IF(AC48<18.99,"1","2") -> 1 | AF48: =IF(AC48>22,"2","1") -> 1 | AG48: =AD48+AE48+AF48 -> 4 | AJ48: =IF(L48>0.5,1," ")
B49: Wochensumme 5 | L49: =SUM(L42:L48) -> 38.5 | M49: =IF(L49>60,"§9 AZG! ","-") -> - | O49: =SUM(O42:O48) -> 38.5 | P49: =L49-O49 -> 0 | R49: =SUM(R42:R48) -> 0 | S49: =SUM(S42:S48) -> 0 | T49: =SUM(T42:T48) -> 0 | U49: =SUM(U42:U48) -> 0 | V49: =SUM(V42:V48) -> 0 | W49: =SUM(W42:W48) -> 0 | X49: =SUM(X42:X48) -> 0 | Y49: =SUM(Y42:Y48) -> 0 | Z49: =SUM(T49:Y49) -> 0
B50: Montag | Z50: =IF(AB50=0,"Okay","Fehler") -> Okay | AB50: =P50-T50-V50-W50-X50-Y50-R50-U50-S50 -> 0 | AC50: =IF(AND(J50>=0.1,J50<=12),J50+24,IF(J50>=12,J50,0)) -> 0 | AD50: =IF(E50>6.99,"1","2") -> 2 | AE50: =IF(AC50<18.99,"1","2") -> 1 | AF50: =IF(AC50>22,"2","1") -> 1 | AG50: =AD50+AE50+AF50 -> 4 | AI50: =IF(D50="U",1," ") | AJ50: =IF(L50>0.5,1," ")
B51: Dienstag | Z51: =IF(AB51=0,"Okay","Fehler") -> Okay | AB51: =P51-T51-V51-W51-X51-Y51-R51-U51-S51 -> 0 | AC51: =IF(AND(J51>=0.1,J51<=12),J51+24,IF(J51>=12,J51,0)) -> 0 | AD51: =IF(E51>6.99,"1","2") -> 2 | AE51: =IF(AC51<18.99,"1","2") -> 1 | AF51: =IF(AC51>22,"2","1") -> 1 | AG51: =AD51+AE51+AF51 -> 4 | AI51: =IF(D51="U",1," ") | AJ51: =IF(L51>0.5,1," ")
B52: Mittwoch | Z52: =IF(AB52=0,"Okay","Fehler") -> Okay | AB52: =P52-T52-V52-W52-X52-Y52-R52-U52-S52 -> 0 | AC52: =IF(AND(J52>=0.1,J52<=12),J52+24,IF(J52>=12,J52,0)) -> 0 | AD52: =IF(E52>6.99,"1","2") -> 2 | AE52: =IF(AC52<18.99,"1","2") -> 1 | AF52: =IF(AC52>22,"2","1") -> 1 | AG52: =AD52+AE52+AF52 -> 4 | AI52: =IF(D52="U",1," ") | AJ52: =IF(L52>0.5,1," ")
B53: Donnerstag | Z53: =IF(AB53=0,"Okay","Fehler") -> Okay | AB53: =P53-T53-V53-W53-X53-Y53-R53-U53-S53 -> 0 | AC53: =IF(AND(J53>=0.1,J53<=12),J53+24,IF(J53>=12,J53,0)) -> 0 | AD53: =IF(E53>6.99,"1","2") -> 2 | AE53: =IF(AC53<18.99,"1","2") -> 1 | AF53: =IF(AC53>22,"2","1") -> 1 | AG53: =AD53+AE53+AF53 -> 4 | AI53: =IF(D53="U",1," ") | AJ53: =IF(L53>0.5,1," ")
B54: Freitag | Z54: =IF(AB54=0,"Okay","Fehler") -> Okay | AB54: =P54-T54-V54-W54-X54-Y54-R54-U54-S54 -> 0 | AC54: =IF(AND(J54>=0.1,J54<=12),J54+24,IF(J54>=12,J54,0)) -> 0 | AD54: =IF(E54>6.99,"1","2") -> 2 | AE54: =IF(AC54<18.99,"1","2") -> 1 | AF54: =IF(AC54>22,"2","1") -> 1 | AG54: =AD54+AE54+AF54 -> 4 | AI54: =IF(D54="U",1," ") | AJ54: =IF(L54>0.5,1," ")
B55: Samstag | Z55: =IF(AB55=0,"Okay","Fehler") -> Okay | AB55: =P55-T55-V55-W55-X55-Y55-R55-U55-S55 -> 0 | AC55: =IF(AND(J55>=0.1,J55<=12),J55+24,IF(J55>=12,J55,0)) -> 0 | AD55: =IF(E55>6.99,"1","2") -> 2 | AE55: =IF(AC55<18.99,"1","2") -> 1 | AF55: =IF(AC55>22,"2","1") -> 1 | AG55: =AD55+AE55+AF55 -> 4 | AI55: =IF(D55="U",1," ") | AJ55: =IF(L55>0.5,1," ")
B56: Sonntag | Z56: =IF(AB56=0,"Okay","Fehler") -> Okay | AB56: =P56-T56-V56-W56-X56-Y56-R56-U56-S56 -> 0 | AC56: =IF(AND(J56>=0.1,J56<=12),J56+24,IF(J56>=12,J56,0)) -> 0 | AD56: =IF(E56>6.99,"1","2") -> 2 | AE56: =IF(AC56<18.99,"1","2") -> 1 | AF56: =IF(AC56>22,"2","1") -> 1 | AG56: =AD56+AE56+AF56 -> 4 | AJ56: =IF(L56>0.5,1," ")
B57: Wochensumme 6 | L57: =SUM(L50:L56) -> 0 | M57: =IF(L57>60,"§9 AZG! ","-") -> - | O57: =SUM(O50:O56) -> 0 | P57: =L57-O57 -> 0 | R57: =SUM(R50:R56) -> 0 | S57: =SUM(S50:S56) -> 0 | T57: =SUM(T50:T56) -> 0 | U57: =SUM(U50:U56) -> 0 | V57: =SUM(V50:V56) -> 0 | W57: =SUM(W50:W56) -> 0 | X57: =SUM(X50:X56) -> 0 | Y57: =SUM(Y50:Y56) -> 0 | Z57: =SUM(T57:Y57) -> 0
B58: Summe Urlaubstage | D58: =+AI58 -> 0 | L58: =L17+L25+L33+L41+L49+L57 -> 154 | M58: =IF((L58/D59)>9.6,"Achtung: WHAZ","") | O58: =O17+O25+O33+O41+O49+O57 -> 154 | P58: =P17+P25+P33+P41+P49+P57 -> 0 | R58: =R17+R25+R33+R41+R49+R57+R9 -> 0 | S58: =S17+S25+S33+S41+S49+S57+S9 -> 0 | T58: =T17+T25+T33+T41+T49+T57+T9 -> 0 | U58: =U17+U25+U33+U41+U49+U57+U9 -> 0 | V58: =V17+V25+V33+V41+V49+V57+V9 -> 0 | W58: =W17+W25+W33+W41+W49+W57+W9 -> 0 | X58: =X17+X25+X33+X41+X49+X57+X9 -> 0 | Y58: =Y17+Y25+Y33+Y41+Y49+Y57+Y9 -> 0 | Z58: =SUM(T58:Y58) -> 0 | AB58: =P58-T58-V58-W58-X58-Y58-R58-U58 -> 0 | AI58: =SUM(AI10:AI57) -> 0 | AJ58: =SUM(AJ10:AJ57) -> 20
B59: Summe Arbeitstage | D59: =+AJ58 -> 20
L60: Umwandlung von Mehr- und Überstunden in | P60: Zeitausgleich: | R60: =(-T60)+(-U60*1.25)+(-V60*1.5)+(-W60*2) -> 0
B62: Ich bestätige die Richtigkeit | O62: davon auszubezahlen:
B63: meiner Angaben: | P63: ÜBERTRAG: | R63: =R58+R60-R62 -> 0 | S63: =S58+S60-S62 -> 0 | T63: =T58+T60-T62 -> 0 | U63: =U58+U60-U62 -> 0 | V63: =V58+V60-V62 -> 0 | W63: =W58+W60-W62 -> 0 | X63: =X58+X60-X62 -> 0 | Y63: =Y58+Y60-Y62 -> 0
B65: kontrolliert von:
B67: Info: | C67: FE= Feiertag, U = Urlaub, K = Krank, BEZ = bezahlte Fehlzeiten | L67: WHAZ = Wochenhöchstarbeitszeit; AZG = Arbeitszeitgesetz

Sheet März
B1: ZEITERFASSUNG
B4: NAME: | C4: =Voreingabe!C3 -> Musterfrau | K4: FUNKTION: | M4: =Voreingabe!F3 -> Buchhalterin | V4: MA-Nummer: | X4: =Voreingabe!I3 -> 5
B6: MONAT: | C6: März | K6: JAHR: | M6: 2026
B8: Tag | C8: Datum | D8: INFO | E8: Arbeits- beginn | F8: Pausen-beginn | G8: Pausen-ende | H8: Pausen-beginn | I8: Pausen-ende | J8: Arbeits- ende | K8: Pausen-dauer | L8: tatsächl. geleistete Std. | M8: Info Arbeitszeit | N8: Info Pause | O8: Stunden Soll | P8: Stunden differenz | Q8: Nacht- stunden | R8: Zeit-ausgleich | S8: Durchrechnung | T8: Mehr- stunden | U8: Mehr- stunden 25% | V8: 50%- Überstd. | W8: 100%- Überstd. | X8: Sonn- u. Feiertag | Y8: Nacht-zuschlag | Z8: Kontrolle | AI8: Summe UT | AJ8: Summe AT
B9: ÜBETRAG | R9: =Februar!R63 -> 0 | S9: =Februar!S63 -> 0 | T9: =Februar!T63 -> 0 | U9: =Februar!U63 -> 0 | V9: =Februar!V63 -> 0 | W9: =Februar!W63 -> 0 | X9: =Februar!X63 -> 0 | Y9: =Februar!Y63 -> 0
B10: Montag | Z10: =IF(AB10=0,"Okay","Fehler") -> Okay | AB10: =P10-T10-V10-W10-X10-Y10-R10-U10-S10 -> 0 | AC10: =IF(AND(J10>=0.1,J10<=12),J10+24,IF(J10>=12,J10,0)) -> 0 | AD10: =IF(E10>6.99,"1","2") -> 2 | AE10: =IF(AC10<18.99,"1","2") -> 1 | AF10: =IF(AC10>22,"2","1") -> 1 | AG10: =AD10+AE10+AF10 -> 4 | AI10: =IF(D10="U",1," ") | AJ10: =IF(L10>0.5,1," ")
B11: Dienstag | Z11: =IF(AB11=0,"Okay","Fehler") -> Okay | AB11: =P11-T11-V11-W11-X11-Y11-R11-U11-S11 -> 0 | AC11: =IF(AND(J11>=0.1,J11<=12),J11+24,IF(J11>=12,J11,0)) -> 0 | AD11: =IF(E11>6.99,"1","2") -> 2 | AE11: =IF(AC11<18.99,"1","2") -> 1 | AF11: =IF(AC11>22,"2","1") -> 1 | AG11: =AD11+AE11+AF11 -> 4 | AI11: =IF(D11="U",1," ") | AJ11: =IF(L11>0.5,1," ")
B12: Mittwoch | Z12: =IF(AB12=0,"Okay","Fehler") -> Okay | AB12: =P12-T12-V12-W12-X12-Y12-R12-U12-S12 -> 0 | AC12: =IF(AND(J12>=0.1,J12<=12),J12+24,IF(J12>=12,J12,0)) -> 0 | AD12: =IF(E12>6.99,"1","2") -> 2 | AE12: =IF(AC12<18.99,"1","2") -> 1 | AF12: =IF(AC12>22,"2","1") -> 1 | AG12: =AD12+AE12+AF12 -> 4 | AI12: =IF(D12="U",1," ") | AJ12: =IF(L12>0.5,1," ")
B13: Donnerstag | Z13: =IF(AB13=0,"Okay","Fehler") -> Okay | AB13: =P13-T13-V13-W13-X13-Y13-R13-U13-S13 -> 0 | AC13: =IF(AND(J13>=0.1,J13<=12),J13+24,IF(J13>=12,J13,0)) -> 0 | AD13: =IF(E13>6.99,"1","2") -> 2 | AE13: =IF(AC13<18.99,"1","2") -> 1 | AF13: =IF(AC13>22,"2","1") -> 1 | AG13: =AD13+AE13+AF13 -> 4 | AI13: =IF(D13="U",1," ") | AJ13: =IF(L13>0.5,1," ")
B14: Freitag | Q14: =IF(AND((J14-19)>2.99,(J14-E14)>3,J14>19),"JA","-") -> - | Z14: =IF(AB14=0,"Okay","Fehler") -> Okay | AB14: =P14-T14-V14-W14-X14-Y14-R14-U14-S14 -> 0 | AC14: =IF(AND(J14>=0.1,J14<=12),J14+24,IF(J14>=12,J14,0)) -> 0 | AD14: =IF(E14>6.99,"1","2") -> 2 | AE14: =IF(AC14<18.99,"1","2") -> 1 | AF14: =IF(AC14>22,"2","1") -> 1 | AG14: =AD14+AE14+AF14 -> 4 | AI14: =IF(D14="U",1," ") | AJ14: =IF(L14>0.5,1," ")
B15: Samstag | P15: =L15-O15 -> 0 | Q15: =IF(AND((J15-19)>2.99,(J15-E15)>3,J15>19),"JA","-") -> - | Z15: =IF(AB15=0,"Okay","Fehler") -> Okay | AB15: =P15-T15-V15-W15-X15-Y15-R15-U15-S15 -> 0 | AC15: =IF(AND(J15>=0.1,J15<=12),J15+24,IF(J15>=12,J15,0)) -> 0 | AD15: =IF(E15>6.99,"1","2") -> 2 | AE15: =IF(AC15<18.99,"1","2") -> 1 | AF15: =IF(AC15>22,"2","1") -> 1 | AG15: =AD15+AE15+AF15 -> 4 | AI15: =IF(D15="U",1," ") | AJ15: =IF(L15>0.5,1," ")
B16: Sonntag | C16: 46082 | E16: =Voreingabe!$C$14 -> 0 | F16: =Voreingabe!$E$14 -> 0 | G16: =Voreingabe!$F$14 -> 0 | H16: =Voreingabe!$G$14 -> 0 | I16: =Voreingabe!$H$14 -> 0 | J16: =Voreingabe!$D$14 -> 0 | K16: =(G16-F16)+(I16-H16) -> 0 | L16: =+IF((J16-E16-K16)>=0,(J16-E16-K16),(J16-(E16-24)-K16)) -> 0 | M16: =IF(L16>12,"§9 AZG! ","-") -> - | N16: =IF(L16>6,IF(K16<0.5,"Pause!","-"),"-") -> - | O16: =Voreingabe!$I$14 -> 0 | P16: =L16-O16 -> 0 | Q16: =IF(AND((J16-19)>2.99,(J16-E16)>3,J16>19),"JA","-") -> - | Z16: =IF(AB16=0,"Okay","Fehler") -> Okay | AB16: =P16-T16-V16-W16-X16-Y16-R16-U16-S16 -> 0 | AC16: =IF(AND(J16>=0.1,J16<=12),J16+24,IF(J16>=12,J16,0)) -> 0 | AD16: =IF(E16>6.99,"1","2") -> 2 | AE16: =IF(AC16<18.99,"1","2") -> 1 | AF16: =IF(AC16>22,"2","1") -> 1 | AG16: =AD16+AE16+AF16 -> 4 | AJ16: =IF(L16>0.5,1," ")
B17: Wochensumme 1 | L17: =SUM(L10:L16) -> 0 | M17: =IF(L17>60,"§9 AZG! ","-") -> - | O17: =SUM(O10:O16) -> 0 | P17: =L17-O17 -> 0 | R17: =SUM(R10:R16) -> 0 | S17: =SUM(S10:S16) -> 0 | T17: =SUM(T10:T16) -> 0 | U17: =SUM(U10:U16) -> 0 | V17: =SUM(V10:V16) -> 0 | W17: =SUM(W10:W16) -> 0 | X17: =SUM(X10:X16) -> 0 | Y17: =SUM(Y10:Y16) -> 0 | Z17: =SUM(T17:Y17) -> 0
B18: Montag | C18: =C16+1 -> 46083 | E18: =Voreingabe!$C$8 -> 9 | F18: =Voreingabe!$E$8 -> 12 | G18: =Voreingabe!$F$8 -> 12.5 | H18: =Voreingabe!$G$8 -> 0 | I18: =Voreingabe!$H$8 -> 0 | J18: =Voreingabe!$D$8 -> 18 | K18: =(G18-F18)+(I18-H18) -> 0.5 | L18: =+IF((J18-E18-K18)>=0,(J18-E18-K18),(J18-(E18-24)-K18)) -> 8.5 | M18: =IF(L18>12,"§9 AZG! ","-") -> - | N18: =IF(L18>6,IF(K18<0.5,"Pause!","-"),"-") -> - | O18: =Voreingabe!$I$8 -> 8.5 | P18: =L18-O18 -> 0 | Q18: =IF(AND((J18-19)>2.99,(J18-E18)>3,J18>19),"JA","-") -> - | Z18: =IF(AB18=0,"Okay","Fehler") -> Okay | AB18: =P18-T18-V18-W18-X18-Y18-R18-U18-S18 -> 0 | AC18: =IF(AND(J18>=0.1,J18<=12),J18+24,IF(J18>=12,J18,0)) -> 18 | AD18: =IF(E18>6.99,"1","2") -> 1 | AE18: =IF(AC18<18.99,"1","2") -> 1 | AF18: =IF(AC18>22,"2","1") -> 1 | AG18: =AD18+AE18+AF18 -> 3 | AI18: =IF(D18="U",1," ") | AJ18: =IF(L18>0.5,1," ") -> 1
B19: Dienstag | C19: =C18+1 -> 46084 | E19: =Voreingabe!$C$9 -> 9 | F19: =Voreingabe!$E$9 -> 12 | G19: =Voreingabe!$F$9 -> 12.5 | H19: =Voreingabe!$G$9 -> 0 | I19: =Voreingabe!$H$9 -> 0 | J19: =Voreingabe!$D$9 -> 18 | K19: =(G19-F19)+(I19-H19) -> 0.5 | L19: =+IF((J19-E19-K19)>=0,(J19-E19-K19),(J19-(E19-24)-K19)) -> 8.5 | M19: =IF(L19>12,"§9 AZG! ","-") -> - | N19: =IF(L19>6,IF(K19<0.5,"Pause!","-"),"-") -> - | O19: =Voreingabe!$I$9 -> 8.5 | P19: =L19-O19 -> 0 | Q19: =IF(AND((J19-19)>2.99,(J19-E19)>3,J19>19),"JA","-") -> - | Z19: =IF(AB19=0,"Okay","Fehler") -> Okay | AB19: =P19-T19-V19-W19-X19-Y19-R19-U19-S19 -> 0 | AC19: =IF(AND(J19>=0.1,J19<=12),J19+24,IF(J19>=12,J19,0)) -> 18 | AD19: =IF(E19>6.99,"1","2") -> 1 | AE19: =IF(AC19<18.99,"1","2") -> 1 | AF19: =IF(AC19>22,"2","1") -> 1 | AG19: =AD19+AE19+AF19 -> 3 | AI19: =IF(D19="U",1," ") | AJ19: =IF(L19>0.5,1," ") -> 1
B20: Mittwoch | C20: =C19+1 -> 46085 | E20: =Voreingabe!$C$10 -> 9 | F20: =Voreingabe!$E$10 -> 12 | G20: =Voreingabe!$F$10 -> 12.5 | H20: =Voreingabe!$G$10 -> 0 | I20: =Voreingabe!$H$10 -> 0 | J20: =Voreingabe!$D$10 -> 17 | K20: =(G20-F20)+(I20-H20) -> 0.5 | L20: =+IF((J20-E20-K20)>=0,(J20-E20-K20),(J20-(E20-24)-K20)) -> 7.5 | M20: =IF(L20>12,"§9 AZG! ","-") -> - | N20: =IF(L20>6,IF(K20<0.5,"Pause!","-"),"-") -> - | O20: =Voreingabe!$I$10 -> 7.5 | P20: =L20-O20 -> 0 | Q20: =IF(AND((J20-19)>2.99,(J20-E20)>3,J20>19),"JA","-") -> - | Z20: =IF(AB20=0,"Okay","Fehler") -> Okay | AB20: =P20-T20-V20-W20-X20-Y20-R20-U20-S20 -> 0 | AC20: =IF(AND(J20>=0.1,J20<=12),J20+24,IF(J20>=12,J20,0)) -> 17 | AD20: =IF(E20>6.99,"1","2") -> 1 | AE20: =IF(AC20<18.99,"1","2") -> 1 | AF20: =IF(AC20>22,"2","1") -> 1 | AG20: =AD20+AE20+AF20 -> 3 | AI20: =IF(D20="U",1," ") | AJ20: =IF(L20>0.5,1," ") -> 1
B21: Donnerstag | C21: =C20+1 -> 46086 | E21: =Voreingabe!$C$11 -> 9 | F21: =Voreingabe!$E$11 -> 12 | G21: =Voreingabe!$F$11 -> 12.5 | H21: =Voreingabe!$G$11 -> 0 | I21: =Voreingabe!$H$11 -> 0 | J21: =Voreingabe!$D$11 -> 17 | K21: =(G21-F21)+(I21-H21) -> 0.5 | L21: =+IF((J21-E21-K21)>=0,(J21-E21-K21),(J21-(E21-24)-K21)) -> 7.5 | M21: =IF(L21>12,"§9 AZG! ","-") -> - | N21: =IF(L21>6,IF(K21<0.5,"Pause!","-"),"-") -> - | O21: =Voreingabe!$I$11 -> 7.5 | P21: =L21-O21 -> 0 | Q21: =IF(AND((J21-19)>2.99,(J21-E21)>3,J21>19),"JA","-") -> - | Z21: =IF(AB21=0,"Okay","Fehler") -> Okay | AB21: =P21-T21-V21-W21-X21-Y21-R21-U21-S21 -> 0 | AC21: =IF(AND(J21>=0.1,J21<=12),J21+24,IF(J21>=12,J21,0)) -> 17 | AD21: =IF(E21>6.99,"1","2") -> 1 | AE21: =IF(AC21<18.99,"1","2") -> 1 | AF21: =IF(AC21>22,"2","1") -> 1 | AG21: =AD21+AE21+AF21 -> 3 | AI21: =IF(D21="U",1," ") | AJ21: =IF(L21>0.5,1," ") -> 1
B22: Freitag | C22: =C21+1 -> 46087 | E22: =Voreingabe!$C$12 -> 9 | F22: =Voreingabe!$E$12 -> 12 | G22: =Voreingabe!$F$12 -> 12.5 | H22: =Voreingabe!$G$12 -> 0 | I22: =Voreingabe!$H$12 -> 0 | J22: =Voreingabe!$D$12 -> 16 | K22: =(G22-F22)+(I22-H22) -> 0.5 | L22: =+IF((J22-E22-K22)>=0,(J22-E22-K22),(J22-(E22-24)-K22)) -> 6.5 | M22: =IF(L22>12,"§9 AZG! ","-") -> - | N22: =IF(L22>6,IF(K22<0.5,"Pause!","-"),"-") -> - | O22: =Voreingabe!$I$12 -> 6.5 | P22: =L22-O22 -> 0 | Q22: =IF(AND((J22-19)>2.99,(J22-E22)>3,J22>19),"JA","-") -> - | Z22: =IF(AB22=0,"Okay","Fehler") -> Okay | AB22: =P22-T22-V22-W22-X22-Y22-R22-U22-S22 -> 0 | AC22: =IF(AND(J22>=0.1,J22<=12),J22+24,IF(J22>=12,J22,0)) -> 16 | AD22: =IF(E22>6.99,"1","2") -> 1 | AE22: =IF(AC22<18.99,"1","2") -> 1 | AF22: =IF(AC22>22,"2","1") -> 1 | AG22: =AD22+AE22+AF22 -> 3 | AI22: =IF(D22="U",1," ") | AJ22: =IF(L22>0.5,1," ") -> 1
B23: Samstag | C23: =C22+1 -> 46088 | E23: =Voreingabe!$C$13 -> 0 | F23: =Voreingabe!$E$13 -> 0 | G23: =Voreingabe!$F$13 -> 0 | H23: =Voreingabe!$G$13 -> 0 | I23: =Voreingabe!$H$13 -> 0 | J23: =Voreingabe!$D$13 -> 0 | K23: =(G23-F23)+(I23-H23) -> 0 | L23: =+IF((J23-E23-K23)>=0,(J23-E23-K23),(J23-(E23-24)-K23)) -> 0 | M23: =IF(L23>12,"§9 AZG! ","-") -> - | N23: =IF(L23>6,IF(K23<0.5,"Pause!","-"),"-") -> - | O23: =Voreingabe!$I$13 -> 0 | P23: =L23-O23 -> 0 | Q23: =IF(AND((J23-19)>2.99,(J23-E23)>3,J23>19),"JA","-") -> - | Z23: =IF(AB23=0,"Okay","Fehler") -> Okay | AB23: =P23-T23-V23-W23-X23-Y23-R23-U23-S23 -> 0 | AC23: =IF(AND(J23>=0.1,J23<=12),J23+24,IF(J23>=12,J23,0)) -> 0 | AD23: =IF(E23>6.99,"1","2") -> 2 | AE23: =IF(AC23<18.99,"1","2") -> 1 | AF23: =IF(AC23>22,"2","1") -> 1 | AG23: =AD23+AE23+AF23 -> 4 | AI23: =IF(D23="U",1," ") | AJ23: =IF(L23>0.5,1," ")
B24: Sonntag | C24: =C23+1 -> 46089 | E24: =Voreingabe!$C$14 -> 0 | F24: =Voreingabe!$E$14 -> 0 | G24: =Voreingabe!$F$14 -> 0 | H24: =Voreingabe!$G$14 -> 0 | I24: =Voreingabe!$H$14 -> 0 | J24: =Voreingabe!$D$14 -> 0 | K24: =(G24-F24)+(I24-H24) -> 0 | L24: =+IF((J24-E24-K24)>=0,(J24-E24-K24),(J24-(E24-24)-K24)) -> 0 | M24: =IF(L24>12,"§9 AZG! ","-") -> - | N24: =IF(L24>6,IF(K24<0.5,"Pause!","-"),"-") -> - | O24: =Voreingabe!$I$14 -> 0 | P24: =L24-O24 -> 0 | Q24: =IF(AND((J24-19)>2.99,(J24-E24)>3,J24>19),"JA","-") -> - | Z24: =IF(AB24=0,"Okay","Fehler") -> Okay | AB24: =P24-T24-V24-W24-X24-Y24-R24-U24-S24 -> 0 | AC24: =IF(AND(J24>=0.1,J24<=12),J24+24,IF(J24>=12,J24,0)) -> 0 | AD24: =IF(E24>6.99,"1","2") -> 2 | AE24: =IF(AC24<18.99,"1","2") -> 1 | AF24: =IF(AC24>22,"2","1") -> 1 | AG24: =AD24+AE24+AF24 -> 4 | AJ24: =IF(L24>0.5,1," ")
B25: Wochensumme 2 | L25: =SUM(L18:L24) -> 38.5 | M25: =IF(L25>60,"§9 AZG! ","-") -> - | O25: =SUM(O18:O24) -> 38.5 | P25: =L25-O25 -> 0 | R25: =SUM(R18:R24) -> 0 | S25: =SUM(S18:S24) -> 0 | T25: =SUM(T18:T24) -> 0 | U25: =SUM(U18:U24) -> 0 | V25: =SUM(V18:V24) -> 0 | W25: =SUM(W18:W24) -> 0 | X25: =SUM(X18:X24) -> 0 | Y25: =SUM(Y18:Y24) -> 0 | Z25: =SUM(T25:Y25) -> 0
B26: Montag | C26: =C24+1 -> 46090 | E26: =Voreingabe!$C$8 -> 9 | F26: =Voreingabe!$E$8 -> 12 | G26: =Voreingabe!$F$8 -> 12.5 | H26: =Voreingabe!$G$8 -> 0 | I26: =Voreingabe!$H$8 -> 0 | J26: =Voreingabe!$D$8 -> 18 | K26: =(G26-F26)+(I26-H26) -> 0.5 | L26: =+IF((J26-E26-K26)>=0,(J26-E26-K26),(J26-(E26-24)-K26)) -> 8.5 | M26: =IF(L26>12,"§9 AZG! ","-") -> - | N26: =IF(L26>6,IF(K26<0.5,"Pause!","-"),"-") -> - | O26: =Voreingabe!$I$8 -> 8.5 | P26: =L26-O26 -> 0 | Q26: =IF(AND((J26-19)>2.99,(J26-E26)>3,J26>19),"JA","-") -> - | Z26: =IF(AB26=0,"Okay","Fehler") -> Okay | AB26: =P26-T26-V26-W26-X26-Y26-R26-U26-S26 -> 0 | AC26: =IF(AND(J26>=0.1,J26<=12),J26+24,IF(J26>=12,J26,0)) -> 18 | AD26: =IF(E26>6.99,"1","2") -> 1 | AE26: =IF(AC26<18.99,"1","2") -> 1 | AF26: =IF(AC26>22,"2","1") -> 1 | AG26: =AD26+AE26+AF26 -> 3 | AI26: =IF(D26="U",1," ") | AJ26: =IF(L26>0.5,1," ") -> 1
B27: Dienstag | C27: =C26+1 -> 46091 | E27: =Voreingabe!$C$9 -> 9 | F27: =Voreingabe!$E$9 -> 12 | G27: =Voreingabe!$F$9 -> 12.5 | H27: =Voreingabe!$G$9 -> 0 | I27: =Voreingabe!$H$9 -> 0 | J27: =Voreingabe!$D$9 -> 18 | K27: =(G27-F27)+(I27-H27) -> 0.5 | L27: =+IF((J27-E27-K27)>=0,(J27-E27-K27),(J27-(E27-24)-K27)) -> 8.5 | M27: =IF(L27>12,"§9 AZG! ","-") -> - | N27: =IF(L27>6,IF(K27<0.5,"Pause!","-"),"-") -> - | O27: =Voreingabe!$I$9 -> 8.5 | P27: =L27-O27 -> 0 | Q27: =IF(AND((J27-19)>2.99,(J27-E27)>3,J27>19),"JA","-") -> - | Z27: =IF(AB27=0,"Okay","Fehler") -> Okay | AB27: =P27-T27-V27-W27-X27-Y27-R27-U27-S27 -> 0 | AC27: =IF(AND(J27>=0.1,J27<=12),J27+24,IF(J27>=12,J27,0)) -> 18 | AD27: =IF(E27>6.99,"1","2") -> 1 | AE27: =IF(AC27<18.99,"1","2") -> 1 | AF27: =IF(AC27>22,"2","1") -> 1 | AG27: =AD27+AE27+AF27 -> 3 | AI27: =IF(D27="U",1," ") | AJ27: =IF(L27>0.5,1," ") -> 1
B28: Mittwoch | C28: =C27+1 -> 46092 | E28: =Voreingabe!$C$10 -> 9 | F28: =Voreingabe!$E$10 -> 12 | G28: =Voreingabe!$F$10 -> 12.5 | H28: =Voreingabe!$G$10 -> 0 | I28: =Voreingabe!$H$10 -> 0 | J28: =Voreingabe!$D$10 -> 17 | K28: =(G28-F28)+(I28-H28) -> 0.5 | L28: =+IF((J28-E28-K28)>=0,(J28-E28-K28),(J28-(E28-24)-K28)) -> 7.5 | M28: =IF(L28>12,"§9 AZG! ","-") -> - | N28: =IF(L28>6,IF(K28<0.5,"Pause!","-"),"-") -> - | O28: =Voreingabe!$I$10 -> 7.5 | P28: =L28-O28 -> 0 | Q28: =IF(AND((J28-19)>2.99,(J28-E28)>3,J28>19),"JA","-") -> - | Z28: =IF(AB28=0,"Okay","Fehler") -> Okay | AB28: =P28-T28-V28-W28-X28-Y28-R28-U28-S28 -> 0 | AC28: =IF(AND(J28>=0.1,J28<=12),J28+24,IF(J28>=12,J28,0)) -> 17 | AD28: =IF(E28>6.99,"1","2") -> 1 | AE28: =IF(AC28<18.99,"1","2") -> 1 | AF28: =IF(AC28>22,"2","1") -> 1 | AG28: =AD28+AE28+AF28 -> 3 | AI28: =IF(D28="U",1," ") | AJ28: =IF(L28>0.5,1," ") -> 1
B29: Donnerstag | C29: =C28+1 -> 46093 | E29: =Voreingabe!$C$11 -> 9 | F29: =Voreingabe!$E$11 -> 12 | G29: =Voreingabe!$F$11 -> 12.5 | H29: =Voreingabe!$G$11 -> 0 | I29: =Voreingabe!$H$11 -> 0 | J29: =Voreingabe!$D$11 -> 17 | K29: =(G29-F29)+(I29-H29) -> 0.5 | L29: =+IF((J29-E29-K29)>=0,(J29-E29-K29),(J29-(E29-24)-K29)) -> 7.5 | M29: =IF(L29>12,"§9 AZG! ","-") -> - | N29: =IF(L29>6,IF(K29<0.5,"Pause!","-"),"-") -> - | O29: =Voreingabe!$I$11 -> 7.5 | P29: =L29-O29 -> 0 | Q29: =IF(AND((J29-19)>2.99,(J29-E29)>3,J29>19),"JA","-") -> - | Z29: =IF(AB29=0,"Okay","Fehler") -> Okay | AB29: =P29-T29-V29-W29-X29-Y29-R29-U29-S29 -> 0 | AC29: =IF(AND(J29>=0.1,J29<=12),J29+24,IF(J29>=12,J29,0)) -> 17 | AD29: =IF(E29>6.99,"1","2") -> 1 | AE29: =IF(AC29<18.99,"1","2") -> 1 | AF29: =IF(AC29>22,"2","1") -> 1 | AG29: =AD29+AE29+AF29 -> 3 | AI29: =IF(D29="U",1," ") | AJ29: =IF(L29>0.5,1," ") -> 1
B30: Freitag | C30: =C29+1 -> 46094 | E30: =Voreingabe!$C$12 -> 9 | F30: =Voreingabe!$E$12 -> 12 | G30: =Voreingabe!$F$12 -> 12.5 | H30: =Voreingabe!$G$12 -> 0 | I30: =Voreingabe!$H$12 -> 0 | J30: =Voreingabe!$D$12 -> 16 | K30: =(G30-F30)+(I30-H30) -> 0.5 | L30: =+IF((J30-E30-K30)>=0,(J30-E30-K30),(J30-(E30-24)-K30)) -> 6.5 | M30: =IF(L30>12,"§9 AZG! ","-") -> - | N30: =IF(L30>6,IF(K30<0.5,"Pause!","-"),"-") -> - | O30: =Voreingabe!$I$12 -> 6.5 | P30: =L30-O30 -> 0 | Q30: =IF(AND((J30-19)>2.99,(J30-E30)>3,J30>19),"JA","-") -> - | Z30: =IF(AB30=0,"Okay","Fehler") -> Okay | AB30: =P30-T30-V30-W30-X30-Y30-R30-U30-S30 -> 0 | AC30: =IF(AND(J30>=0.1,J30<=12),J30+24,IF(J30>=12,J30,0)) -> 16 | AD30: =IF(E30>6.99,"1","2") -> 1 | AE30: =IF(AC30<18.99,"1","2") -> 1 | AF30: =IF(AC30>22,"2","1") -> 1 | AG30: =AD30+AE30+AF30 -> 3 | AI30: =IF(D30="U",1," ") | AJ30: =IF(L30>0.5,1," ") -> 1
B31: Samstag | C31: =C30+1 -> 46095 | E31: =Voreingabe!$C$13 -> 0 | F31: =Voreingabe!$E$13 -> 0 | G31: =Voreingabe!$F$13 -> 0 | H31: =Voreingabe!$G$13 -> 0 | I31: =Voreingabe!$H$13 -> 0 | J31: =Voreingabe!$D$13 -> 0 | K31: =(G31-F31)+(I31-H31) -> 0 | L31: =+IF((J31-E31-K31)>=0,(J31-E31-K31),(J31-(E31-24)-K31)) -> 0 | M31: =IF(L31>12,"§9 AZG! ","-") -> - | N31: =IF(L31>6,IF(K31<0.5,"Pause!","-"),"-") -> - | O31: =Voreingabe!$I$13 -> 0 | P31: =L31-O31 -> 0 | Q31: =IF(AND((J31-19)>2.99,(J31-E31)>3,J31>19),"JA","-") -> - | Z31: =IF(AB31=0,"Okay","Fehler") -> Okay | AB31: =P31-T31-V31-W31-X31-Y31-R31-U31-S31 -> 0 | AC31: =IF(AND(J31>=0.1,J31<=12),J31+24,IF(J31>=12,J31,0)) -> 0 | AD31: =IF(E31>6.99,"1","2") -> 2 | AE31: =IF(AC31<18.99,"1","2") -> 1 | AF31: =IF(AC31>22,"2","1") -> 1 | AG31: =AD31+AE31+AF31 -> 4 | AI31: =IF(D31="U",1," ") | AJ31: =IF(L31>0.5,1," ")
B32: Sonntag | C32: =C31+1 -> 46096 | E32: =Voreingabe!$C$14 -> 0 | F32: =Voreingabe!$E$14 -> 0 | G32: =Voreingabe!$F$14 -> 0 | H32: =Voreingabe!$G$14 -> 0 | I32: =Voreingabe!$H$14 -> 0 | J32: =Voreingabe!$D$14 -> 0 | K32: =(G32-F32)+(I32-H32) -> 0 | L32: =+IF((J32-E32-K32)>=0,(J32-E32-K32),(J32-(E32-24)-K32)) -> 0 | M32: =IF(L32>12,"§9 AZG! ","-") -> - | N32: =IF(L32>6,IF(K32<0.5,"Pause!","-"),"-") -> - | O32: =Voreingabe!$I$14 -> 0 | P32: =L32-O32 -> 0 | Q32: =IF(AND((J32-19)>2.99,(J32-E32)>3,J32>19),"JA","-") -> - | Z32: =IF(AB32=0,"Okay","Fehler") -> Okay | AB32: =P32-T32-V32-W32-X32-Y32-R32-U32-S32 -> 0 | AC32: =IF(AND(J32>=0.1,J32<=12),J32+24,IF(J32>=12,J32,0)) -> 0 | AD32: =IF(E32>6.99,"1","2") -> 2 | AE32: =IF(AC32<18.99,"1","2") -> 1 | AF32: =IF(AC32>22,"2","1") -> 1 | AG32: =AD32+AE32+AF32 -> 4 | AJ32: =IF(L32>0.5,1," ")
B33: Wochensumme 3 | L33: =SUM(L26:L32) -> 38.5 | M33: =IF(L33>60,"§9 AZG! ","-") -> - | O33: =SUM(O26:O32) -> 38.5 | P33: =L33-O33 -> 0 | R33: =SUM(R26:R32) -> 0 | S33: =SUM(S26:S32) -> 0 | T33: =SUM(T26:T32) -> 0 | U33: =SUM(U26:U32) -> 0 | V33: =SUM(V26:V32) -> 0 | W33: =SUM(W26:W32) -> 0 | X33: =SUM(X26:X32) -> 0 | Y33: =SUM(Y26:Y32) -> 0 | Z33: =SUM(T33:Y33) -> 0
B34: Montag | C34: =C32+1 -> 46097 | E34: =Voreingabe!$C$8 -> 9 | F34: =Voreingabe!$E$8 -> 12 | G34: =Voreingabe!$F$8 -> 12.5 | H34: =Voreingabe!$G$8 -> 0 | I34: =Voreingabe!$H$8 -> 0 | J34: =Voreingabe!$D$8 -> 18 | K34: =(G34-F34)+(I34-H34) -> 0.5 | L34: =+IF((J34-E34-K34)>=0,(J34-E34-K34),(J34-(E34-24)-K34)) -> 8.5 | M34: =IF(L34>12,"§9 AZG! ","-") -> - | N34: =IF(L34>6,IF(K34<0.5,"Pause!","-"),"-") -> - | O34: =Voreingabe!$I$8 -> 8.5 | P34: =L34-O34 -> 0 | Q34: =IF(AND((J34-19)>2.99,(J34-E34)>3,J34>19),"JA","-") -> - | Z34: =IF(AB34=0,"Okay","Fehler") -> Okay | AB34: =P34-T34-V34-W34-X34-Y34-R34-U34-S34 -> 0 | AC34: =IF(AND(J34>=0.1,J34<=12),J34+24,IF(J34>=12,J34,0)) -> 18 | AD34: =IF(E34>6.99,"1","2") -> 1 | AE34: =IF(AC34<18.99,"1","2") -> 1 | AF34: =IF(AC34>22,"2","1") -> 1 | AG34: =AD34+AE34+AF34 -> 3 | AI34: =IF(D34="U",1," ") | AJ34: =IF(L34>0.5,1," ") -> 1
B35: Dienstag | C35: =C34+1 -> 46098 | E35: =Voreingabe!$C$9 -> 9 | F35: =Voreingabe!$E$9 -> 12 | G35: =Voreingabe!$F$9 -> 12.5 | H35: =Voreingabe!$G$9 -> 0 | I35: =Voreingabe!$H$9 -> 0 | J35: =Voreingabe!$D$9 -> 18 | K35: =(G35-F35)+(I35-H35) -> 0.5 | L35: =+IF((J35-E35-K35)>=0,(J35-E35-K35),(J35-(E35-24)-K35)) -> 8.5 | M35: =IF(L35>12,"§9 AZG! ","-") -> - | N35: =IF(L35>6,IF(K35<0.5,"Pause!","-"),"-") -> - | O35: =Voreingabe!$I$9 -> 8.5 | P35: =L35-O35 -> 0 | Q35: =IF(AND((J35-19)>2.99,(J35-E35)>3,J35>19),"JA","-") -> - | Z35: =IF(AB35=0,"Okay","Fehler") -> Okay | AB35: =P35-T35-V35-W35-X35-Y35-R35-U35-S35 -> 0 | AC35: =IF(AND(J35>=0.1,J35<=12),J35+24,IF(J35>=12,J35,0)) -> 18 | AD35: =IF(E35>6.99,"1","2") -> 1 | AE35: =IF(AC35<18.99,"1","2") -> 1 | AF35: =IF(AC35>22,"2","1") -> 1 | AG35: =AD35+AE35+AF35 -> 3 | AI35: =IF(D35="U",1," ") | AJ35: =IF(L35>0.5,1," ") -> 1
B36: Mittwoch | C36: =C35+1 -> 46099 | E36: =Voreingabe!$C$10 -> 9 | F36: =Voreingabe!$E$10 -> 12 | G36: =Voreingabe!$F$10 -> 12.5 | H36: =Voreingabe!$G$10 -> 0 | I36: =Voreingabe!$H$10 -> 0 | J36: =Voreingabe!$D$10 -> 17 | K36: =(G36-F36)+(I36-H36) -> 0.5 | L36: =+IF((J36-E36-K36)>=0,(J36-E36-K36),(J36-(E36-24)-K36)) -> 7.5 | M36: =IF(L36>12,"§9 AZG! ","-") -> - | N36: =IF(L36>6,IF(K36<0.5,"Pause!","-"),"-") -> - | O36: =Voreingabe!$I$10 -> 7.5 | P36: =L36-O36 -> 0 | Q36: =IF(AND((J36-19)>2.99,(J36-E36)>3,J36>19),"JA","-") -> - | Z36: =IF(AB36=0,"Okay","Fehler") -> Okay | AB36: =P36-T36-V36-W36-X36-Y36-R36-U36-S36 -> 0 | AC36: =IF(AND(J36>=0.1,J36<=12),J36+24,IF(J36>=12,J36,0)) -> 17 | AD36: =IF(E36>6.99,"1","2") -> 1 | AE36: =IF(AC36<18.99,"1","2") -> 1 | AF36: =IF(AC36>22,"2","1") -> 1 | AG36: =AD36+AE36+AF36 -> 3 | AI36: =IF(D36="U",1," ") | AJ36: =IF(L36>0.5,1," ") -> 1
B37: Donnerstag | C37: =C36+1 -> 46100 | E37: =Voreingabe!$C$11 -> 9 | F37: =Voreingabe!$E$11 -> 12 | G37: =Voreingabe!$F$11 -> 12.5 | H37: =Voreingabe!$G$11 -> 0 | I37: =Voreingabe!$H$11 -> 0 | J37: =Voreingabe!$D$11 -> 17 | K37: =(G37-F37)+(I37-H37) -> 0.5 | L37: =+IF((J37-E37-K37)>=0,(J37-E37-K37),(J37-(E37-24)-K37)) -> 7.5 | M37: =IF(L37>12,"§9 AZG! ","-") -> - | N37: =IF(L37>6,IF(K37<0.5,"Pause!","-"),"-") -> - | O37: =Voreingabe!$I$11 -> 7.5 | P37: =L37-O37 -> 0 | Q37: =IF(AND((J37-19)>2.99,(J37-E37)>3,J37>19),"JA","-") -> - | Z37: =IF(AB37=0,"Okay","Fehler") -> Okay | AB37: =P37-T37-V37-W37-X37-Y37-R37-U37-S37 -> 0 | AC37: =IF(AND(J37>=0.1,J37<=12),J37+24,IF(J37>=12,J37,0)) -> 17 | AD37: =IF(E37>6.99,"1","2") -> 1 | AE37: =IF(AC37<18.99,"1","2") -> 1 | AF37: =IF(AC37>22,"2","1") -> 1 | AG37: =AD37+AE37+AF37 -> 3 | AI37: =IF(D37="U",1," ") | AJ37: =IF(L37>0.5,1," ") -> 1
B38: Freitag | C38: =C37+1 -> 46101 | E38: =Voreingabe!$C$12 -> 9 | F38: =Voreingabe!$E$12 -> 12 | G38: =Voreingabe!$F$12 -> 12.5 | H38: =Voreingabe!$G$12 -> 0 | I38: =Voreingabe!$H$12 -> 0 | J38: =Voreingabe!$D$12 -> 16 | K38: =(G38-F38)+(I38-H38) -> 0.5 | L38: =+IF((J38-E38-K38)>=0,(J38-E38-K38),(J38-(E38-24)-K38)) -> 6.5 | M38: =IF(L38>12,"§9 AZG! ","-") -> - | N38: =IF(L38>6,IF(K38<0.5,"Pause!","-"),"-") -> - | O38: =Voreingabe!$I$12 -> 6.5 | P38: =L38-O38 -> 0 | Q38: =IF(AND((J38-19)>2.99,(J38-E38)>3,J38>19),"JA","-") -> - | Z38: =IF(AB38=0,"Okay","Fehler") -> Okay | AB38: =P38-T38-V38-W38-X38-Y38-R38-U38-S38 -> 0 | AC38: =IF(AND(J38>=0.1,J38<=12),J38+24,IF(J38>=12,J38,0)) -> 16 | AD38: =IF(E38>6.99,"1","2") -> 1 | AE38: =IF(AC38<18.99,"1","2") -> 1 | AF38: =IF(AC38>22,"2","1") -> 1 | AG38: =AD38+AE38+AF38 -> 3 | AI38: =IF(D38="U",1," ") | AJ38: =IF(L38>0.5,1," ") -> 1
B39: Samstag | C39: =C38+1 -> 46102 | E39: =Voreingabe!$C$13 -> 0 | F39: =Voreingabe!$E$13 -> 0 | G39: =Voreingabe!$F$13 -> 0 | H39: =Voreingabe!$G$13 -> 0 | I39: =Voreingabe!$H$13 -> 0 | J39: =Voreingabe!$D$13 -> 0 | K39: =(G39-F39)+(I39-H39) -> 0 | L39: =+IF((J39-E39-K39)>=0,(J39-E39-K39),(J39-(E39-24)-K39)) -> 0 | M39: =IF(L39>12,"§9 AZG! ","-") -> - | N39: =IF(L39>6,IF(K39<0.5,"Pause!","-"),"-") -> - | O39: =Voreingabe!$I$13 -> 0 | P39: =L39-O39 -> 0 | Q39: =IF(AND((J39-19)>2.99,(J39-E39)>3,J39>19),"JA","-") -> - | Z39: =IF(AB39=0,"Okay","Fehler") -> Okay | AB39: =P39-T39-V39-W39-X39-Y39-R39-U39-S39 -> 0 | AC39: =IF(AND(J39>=0.1,J39<=12),J39+24,IF(J39>=12,J39,0)) -> 0 | AD39: =IF(E39>6.99,"1","2") -> 2 | AE39: =IF(AC39<18.99,"1","2") -> 1 | AF39: =IF(AC39>22,"2","1") -> 1 | AG39: =AD39+AE39+AF39 -> 4 | AI39: =IF(D39="U",1," ") | AJ39: =IF(L39>0.5,1," ")
B40: Sonntag | C40: =C39+1 -> 46103 | E40: =Voreingabe!$C$14 -> 0 | F40: =Voreingabe!$E$14 -> 0 | G40: =Voreingabe!$F$14 -> 0 | H40: =Voreingabe!$G$14 -> 0 | I40: =Voreingabe!$H$14 -> 0 | J40: =Voreingabe!$D$14 -> 0 | K40: =(G40-F40)+(I40-H40) -> 0 | L40: =+IF((J40-E40-K40)>=0,(J40-E40-K40),(J40-(E40-24)-K40)) -> 0 | M40: =IF(L40>12,"§9 AZG! ","-") -> - | N40: =IF(L40>6,IF(K40<0.5,"Pause!","-"),"-") -> - | O40: =Voreingabe!$I$14 -> 0 | P40: =L40-O40 -> 0 | Q40: =IF(AND((J40-19)>2.99,(J40-E40)>3,J40>19),"JA","-") -> - | Z40: =IF(AB40=0,"Okay","Fehler") -> Okay | AB40: =P40-T40-V40-W40-X40-Y40-R40-U40-S40 -> 0 | AC40: =IF(AND(J40>=0.1,J40<=12),J40+24,IF(J40>=12,J40,0)) -> 0 | AD40: =IF(E40>6.99,"1","2") -> 2 | AE40: =IF(AC40<18.99,"1","2") -> 1 | AF40: =IF(AC40>22,"2","1") -> 1 | AG40: =AD40+AE40+AF40 -> 4 | AJ40: =IF(L40>0.5,1," ")
B41: Wochensumme 4 | L41: =SUM(L34:L40) -> 38.5 | M41: =IF(L41>60,"§9 AZG! ","-") -> - | O41: =SUM(O34:O40) -> 38.5 | P41: =L41-O41 -> 0 | R41: =SUM(R34:R40) -> 0 | S41: =SUM(S34:S40) -> 0 | T41: =SUM(T34:T40) -> 0 | U41: =SUM(U34:U40) -> 0 | V41: =SUM(V34:V40) -> 0 | W41: =SUM(W34:W40) -> 0 | X41: =SUM(X34:X40) -> 0 | Y41: =SUM(Y34:Y40) -> 0 | Z41: =SUM(T41:Y41) -> 0
B42: Montag | C42: =C40+1 -> 46104 | E42: =Voreingabe!$C$8 -> 9 | F42: =Voreingabe!$E$8 -> 12 | G42: =Voreingabe!$F$8 -> 12.5 | H42: =Voreingabe!$G$8 -> 0 | I42: =Voreingabe!$H$8 -> 0 | J42: =Voreingabe!$D$8 -> 18 | K42: =(G42-F42)+(I42-H42) -> 0.5 | L42: =+IF((J42-E42-K42)>=0,(J42-E42-K42),(J42-(E42-24)-K42)) -> 8.5 | M42: =IF(L42>12,"§9 AZG! ","-") -> - | N42: =IF(L42>6,IF(K42<0.5,"Pause!","-"),"-") -> - | O42: =Voreingabe!$I$8 -> 8.5 | P42: =L42-O42 -> 0 | Q42: =IF(AND((J42-19)>2.99,(J42-E42)>3,J42>19),"JA","-") -> - | Z42: =IF(AB42=0,"Okay","Fehler") -> Okay | AB42: =P42-T42-V42-W42-X42-Y42-R42-U42-S42 -> 0 | AC42: =IF(AND(J42>=0.1,J42<=12),J42+24,IF(J42>=12,J42,0)) -> 18 | AD42: =IF(E42>6.99,"1","2") -> 1 | AE42: =IF(AC42<18.99,"1","2") -> 1 | AF42: =IF(AC42>22,"2","1") -> 1 | AG42: =AD42+AE42+AF42 -> 3 | AI42: =IF(D42="U",1," ") | AJ42: =IF(L42>0.5,1," ") -> 1
B43: Dienstag | C43: =C42+1 -> 46105 | E43: =Voreingabe!$C$9 -> 9 | F43: =Voreingabe!$E$9 -> 12 | G43: =Voreingabe!$F$9 -> 12.5 | H43: =Voreingabe!$G$9 -> 0 | I43: =Voreingabe!$H$9 -> 0 | J43: =Voreingabe!$D$9 -> 18 | K43: =(G43-F43)+(I43-H43) -> 0.5 | L43: =+IF((J43-E43-K43)>=0,(J43-E43-K43),(J43-(E43-24)-K43)) -> 8.5 | M43: =IF(L43>12,"§9 AZG! ","-") -> - | N43: =IF(L43>6,IF(K43<0.5,"Pause!","-"),"-") -> - | O43: =Voreingabe!$I$9 -> 8.5 | P43: =L43-O43 -> 0 | Q43: =IF(AND((J43-19)>2.99,(J43-E43)>3,J43>19),"JA","-") -> - | Z43: =IF(AB43=0,"Okay","Fehler") -> Okay | AB43: =P43-T43-V43-W43-X43-Y43-R43-U43-S43 -> 0 | AC43: =IF(AND(J43>=0.1,J43<=12),J43+24,IF(J43>=12,J43,0)) -> 18 | AD43: =IF(E43>6.99,"1","2") -> 1 | AE43: =IF(AC43<18.99,"1","2") -> 1 | AF43: =IF(AC43>22,"2","1") -> 1 | AG43: =AD43+AE43+AF43 -> 3 | AI43: =IF(D43="U",1," ") | AJ43: =IF(L43>0.5,1," ") -> 1
B44: Mittwoch | C44: =C43+1 -> 46106 | E44: =Voreingabe!$C$10 -> 9 | F44: =Voreingabe!$E$10 -> 12 | G44: =Voreingabe!$F$10 -> 12.5 | H44: =Voreingabe!$G$10 -> 0 | I44: =Voreingabe!$H$10 -> 0 | J44: =Voreingabe!$D$10 -> 17 | K44: =(G44-F44)+(I44-H44) -> 0.5 | L44: =+IF((J44-E44-K44)>=0,(J44-E44-K44),(J44-(E44-24)-K44)) -> 7.5 | M44: =IF(L44>12,"§9 AZG! ","-") -> - | N44: =IF(L44>6,IF(K44<0.5,"Pause!","-"),"-") -> - | O44: =Voreingabe!$I$10 -> 7.5 | P44: =L44-O44 -> 0 | Q44: =IF(AND((J44-19)>2.99,(J44-E44)>3,J44>19),"JA","-") -> - | Z44: =IF(AB44=0,"Okay","Fehler") -> Okay | AB44: =P44-T44-V44-W44-X44-Y44-R44-U44-S44 -> 0 | AC44: =IF(AND(J44>=0.1,J44<=12),J44+24,IF(J44>=12,J44,0)) -> 17 | AD44: =IF(E44>6.99,"1","2") -> 1 | AE44: =IF(AC44<18.99,"1","2") -> 1 | AF44: =IF(AC44>22,"2","1") -> 1 | AG44: =AD44+AE44+AF44 -> 3 | AI44: =IF(D44="U",1," ") | AJ44: =IF(L44>0.5,1," ") -> 1
B45: Donnerstag | C45: =C44+1 -> 46107 | E45: =Voreingabe!$C$11 -> 9 | F45: =Voreingabe!$E$11 -> 12 | G45: =Voreingabe!$F$11 -> 12.5 | H45: =Voreingabe!$G$11 -> 0 | I45: =Voreingabe!$H$11 -> 0 | J45: =Voreingabe!$D$11 -> 17 | K45: =(G45-F45)+(I45-H45) -> 0.5 | L45: =+IF((J45-E45-K45)>=0,(J45-E45-K45),(J45-(E45-24)-K45)) -> 7.5 | M45: =IF(L45>12,"§9 AZG! ","-") -> - | N45: =IF(L45>6,IF(K45<0.5,"Pause!","-"),"-") -> - | O45: =Voreingabe!$I$11 -> 7.5 | P45: =L45-O45 -> 0 | Z45: =IF(AB45=0,"Okay","Fehler") -> Okay | AB45: =P45-T45-V45-W45-X45-Y45-R45-U45-S45 -> 0 | AC45: =IF(AND(J45>=0.1,J45<=12),J45+24,IF(J45>=12,J45,0)) -> 17 | AD45: =IF(E45>6.99,"1","2") -> 1 | AE45: =IF(AC45<18.99,"1","2") -> 1 | AF45: =IF(AC45>22,"2","1") -> 1 | AG45: =AD45+AE45+AF45 -> 3 | AI45: =IF(D45="U",1," ") | AJ45: =IF(L45>0.5,1," ") -> 1
B46: Freitag | C46: =C45+1 -> 46108 | E46: =Voreingabe!$C$12 -> 9 | F46: =Voreingabe!$E$12 -> 12 | G46: =Voreingabe!$F$12 -> 12.5 | H46: =Voreingabe!$G$12 -> 0 | I46: =Voreingabe!$H$12 -> 0 | J46: =Voreingabe!$D$12 -> 16 | K46: =(G46-F46)+(I46-H46) -> 0.5 | L46: =+IF((J46-E46-K46)>=0,(J46-E46-K46),(J46-(E46-24)-K46)) -> 6.5 | M46: =IF(L46>12,"§9 AZG! ","-") -> - | N46: =IF(L46>6,IF(K46<0.5,"Pause!","-"),"-") -> - | O46: =Voreingabe!$I$12 -> 6.5 | P46: =L46-O46 -> 0 | Q46: =IF(AND((J46-19)>2.99,(J46-E46)>3,J46>19),"JA","-") -> - | Z46: =IF(AB46=0,"Okay","Fehler") -> Okay | AB46: =P46-T46-V46-W46-X46-Y46-R46-U46-S46 -> 0 | AC46: =IF(AND(J46>=0.1,J46<=12),J46+24,IF(J46>=12,J46,0)) -> 16 | AD46: =IF(E46>6.99,"1","2") -> 1 | AE46: =IF(AC46<18.99,"1","2") -> 1 | AF46: =IF(AC46>22,"2","1") -> 1 | AG46: =AD46+AE46+AF46 -> 3 | AI46: =IF(D46="U",1," ") | AJ46: =IF(L46>0.5,1," ") -> 1
B47: Samstag | C47: =C46+1 -> 46109 | E47: =Voreingabe!$C$13 -> 0 | F47: =Voreingabe!$E$13 -> 0 | G47: =Voreingabe!$F$13 -> 0 | H47: =Voreingabe!$G$13 -> 0 | I47: =Voreingabe!$H$13 -> 0 | J47: =Voreingabe!$D$13 -> 0 | K47: =(G47-F47)+(I47-H47) -> 0 | L47: =+IF((J47-E47-K47)>=0,(J47-E47-K47),(J47-(E47-24)-K47)) -> 0 | M47: =IF(L47>12,"§9 AZG! ","-") -> - | N47: =IF(L47>6,IF(K47<0.5,"Pause!","-"),"-") -> - | O47: =Voreingabe!$I$13 -> 0 | P47: =L47-O47 -> 0 | Z47: =IF(AB47=0,"Okay","Fehler") -> Okay | AB47: =P47-T47-V47-W47-X47-Y47-R47-U47-S47 -> 0 | AC47: =IF(AND(J47>=0.1,J47<=12),J47+24,IF(J47>=12,J47,0)) -> 0 | AD47: =IF(E47>6.99,"1","2") -> 2 | AE47: =IF(AC47<18.99,"1","2") -> 1 | AF47: =IF(AC47>22,"2","1") -> 1 | AG47: =AD47+AE47+AF47 -> 4 | AI47: =IF(D47="U",1," ") | AJ47: =IF(L47>0.5,1," ")
B48: Sonntag | C48: =C47+1 -> 46110 | E48: =Voreingabe!$C$14 -> 0 | F48: =Voreingabe!$E$14 -> 0 | G48: =Voreingabe!$F$14 -> 0 | H48: =Voreingabe!$G$14 -> 0 | I48: =Voreingabe!$H$14 -> 0 | J48: =Voreingabe!$D$14 -> 0 | K48: =(G48-F48)+(I48-H48) -> 0 | L48: =+IF((J48-E48-K48)>=0,(J48-E48-K48),(J48-(E48-24)-K48)) -> 0 | M48: =IF(L48>12,"§9 AZG! ","-") -> - | N48: =IF(L48>6,IF(K48<0.5,"Pause!","-"),"-") -> - | O48: =Voreingabe!$I$14 -> 0 | P48: =L48-O48 -> 0 | Z48: =IF(AB48=0,"Okay","Fehler") -> Okay | AB48: =P48-T48-V48-W48-X48-Y48-R48-U48-S48 -> 0 | AC48: =IF(AND(J48>=0.1,J48<=12),J48+24,IF(J48>=12,J48,0)) -> 0 | AD48: =IF(E48>6.99,"1","2") -> 2 | AE48: =IF(AC48<18.99,"1","2") -> 1 | AF48: =IF(AC48>22,"2","1") -> 1 | AG48: =AD48+AE48+AF48 -> 4 | AJ48: =IF(L48>0.5,1," ")
B49: Wochensumme 5 | L49: =SUM(L42:L48) -> 38.5 | M49: =IF(L49>60,"§9 AZG! ","-") -> - | O49: =SUM(O42:O48) -> 38.5 | P49: =L49-O49 -> 0 | R49: =SUM(R42:R48) -> 0 | S49: =SUM(S42:S48) -> 0 | T49: =SUM(T42:T48) -> 0 | U49: =SUM(U42:U48) -> 0 | V49: =SUM(V42:V48) -> 0 | W49: =SUM(W42:W48) -> 0 | X49: =SUM(X42:X48) -> 0 | Y49: =SUM(Y42:Y48) -> 0 | Z49: =SUM(T49:Y49) -> 0
B50: Montag | C50: =C48+1 -> 46111 | E50: =Voreingabe!$C$8 -> 9 | F50: =Voreingabe!$E$8 -> 12 | G50: =Voreingabe!$F$8 -> 12.5 | H50: =Voreingabe!$G$8 -> 0 | I50: =Voreingabe!$H$8 -> 0 | J50: =Voreingabe!$D$8 -> 18 | K50: =(G50-F50)+(I50-H50) -> 0.5 | L50: =+IF((J50-E50-K50)>=0,(J50-E50-K50),(J50-(E50-24)-K50)) -> 8.5 | M50: =IF(L50>12,"§9 AZG! ","-") -> - | N50: =IF(L50>6,IF(K50<0.5,"Pause!","-"),"-") -> - | O50: =Voreingabe!$I$8 -> 8.5 | P50: =L50-O50 -> 0 | Z50: =IF(AB50=0,"Okay","Fehler") -> Okay | AB50: =P50-T50-V50-W50-X50-Y50-R50-U50-S50 -> 0 | AC50: =IF(AND(J50>=0.1,J50<=12),J50+24,IF(J50>=12,J50,0)) -> 18 | AD50: =IF(E50>6.99,"1","2") -> 1 | AE50: =IF(AC50<18.99,"1","2") -> 1 | AF50: =IF(AC50>22,"2","1") -> 1 | AG50: =AD50+AE50+AF50 -> 3 | AI50: =IF(D50="U",1," ") | AJ50: =IF(L50>0.5,1," ") -> 1
B51: Dienstag | C51: 46112 | E51: =Voreingabe!$C$9 -> 9 | F51: =Voreingabe!$E$9 -> 12 | G51: =Voreingabe!$F$9 -> 12.5 | H51: =Voreingabe!$G$9 -> 0 | I51: =Voreingabe!$H$9 -> 0 | J51: =Voreingabe!$D$9 -> 18 | K51: =(G51-F51)+(I51-H51) -> 0.5 | L51: =+IF((J51-E51-K51)>=0,(J51-E51-K51),(J51-(E51-24)-K51)) -> 8.5 | M51: =IF(L51>12,"§9 AZG! ","-") -> - | N51: =IF(L51>6,IF(K51<0.5,"Pause!","-"),"-") -> - | O51: =Voreingabe!$I$9 -> 8.5 | P51: =L51-O51 -> 0 | Q51: =IF(AND((J51-19)>2.99,(J51-E51)>3,J51>19),"JA","-") -> - | Z51: =IF(AB51=0,"Okay","Fehler") -> Okay | AB51: =P51-T51-V51-W51-X51-Y51-R51-U51-S51 -> 0 | AC51: =IF(AND(J51>=0.1,J51<=12),J51+24,IF(J51>=12,J51,0)) -> 18 | AD51: =IF(E51>6.99,"1","2") -> 1 | AE51: =IF(AC51<18.99,"1","2") -> 1 | AF51: =IF(AC51>22,"2","1") -> 1 | AG51: =AD51+AE51+AF51 -> 3 | AI51: =IF(D51="U",1," ") | AJ51: =IF(L51>0.5,1," ") -> 1
B52: Mittwoch | Z52: =IF(AB52=0,"Okay","Fehler") -> Okay | AB52: =P52-T52-V52-W52-X52-Y52-R52-U52-S52 -> 0 | AC52: =IF(AND(J52>=0.1,J52<=12),J52+24,IF(J52>=12,J52,0)) -> 0 | AD52: =IF(E52>6.99,"1","2") -> 2 | AE52: =IF(AC52<18.99,"1","2") -> 1 | AF52: =IF(AC52>22,"2","1") -> 1 | AG52: =AD52+AE52+AF52 -> 4 | AI52: =IF(D52="U",1," ") | AJ52: =IF(L52>0.5,1," ")
B53: Donnerstag | Z53: =IF(AB53=0,"Okay","Fehler") -> Okay | AB53: =P53-T53-V53-W53-X53-Y53-R53-U53-S53 -> 0 | AC53: =IF(AND(J53>=0.1,J53<=12),J53+24,IF(J53>=12,J53,0)) -> 0 | AD53: =IF(E53>6.99,"1","2") -> 2 | AE53: =IF(AC53<18.99,"1","2") -> 1 | AF53: =IF(AC53>22,"2","1") -> 1 | AG53: =AD53+AE53+AF53 -> 4 | AI53: =IF(D53="U",1," ") | AJ53: =IF(L53>0.5,1," ")
B54: Freitag | Z54: =IF(AB54=0,"Okay","Fehler") -> Okay | AB54: =P54-T54-V54-W54-X54-Y54-R54-U54-S54 -> 0 | AC54: =IF(AND(J54>=0.1,J54<=12),J54+24,IF(J54>=12,J54,0)) -> 0 | AD54: =IF(E54>6.99,"1","2") -> 2 | AE54: =IF(AC54<18.99,"1","2") -> 1 | AF54: =IF(AC54>22,"2","1") -> 1 | AG54: =AD54+AE54+AF54 -> 4 | AI54: =IF(D54="U",1," ") | AJ54: =IF(L54>0.5,1," ")
B55: Samstag | Z55: =IF(AB55=0,"Okay","Fehler") -> Okay | AB55: =P55-T55-V55-W55-X55-Y55-R55-U55-S55 -> 0 | AC55: =IF(AND(J55>=0.1,J55<=12),J55+24,IF(J55>=12,J55,0)) -> 0 | AD55: =IF(E55>6.99,"1","2") -> 2 | AE55: =IF(AC55<18.99,"1","2") -> 1 | AF55: =IF(AC55>22,"2","1") -> 1 | AG55: =AD55+AE55+AF55 -> 4 | AI55: =IF(D55="U",1," ") | AJ55: =IF(L55>0.5,1," ")
B56: Sonntag | Z56: =IF(AB56=0,"Okay","Fehler") -> Okay | AB56: =P56-T56-V56-W56-X56-Y56-R56-U56-S56 -> 0 | AC56: =IF(AND(J56>=0.1,J56<=12),J56+24,IF(J56>=12,J56,0)) -> 0 | AD56: =IF(E56>6.99,"1","2") -> 2 | AE56: =IF(AC56<18.99,"1","2") -> 1 | AF56: =IF(AC56>22,"2","1") -> 1 | AG56: =AD56+AE56+AF56 -> 4 | AJ56: =IF(L56>0.5,1," ")
B57: Wochensumme 6 | L57: =SUM(L50:L56) -> 17 | M57: =IF(L57>60,"§9 AZG! ","-") -> - | O57: =SUM(O50:O56) -> 17 | P57: =L57-O57 -> 0 | R57: =SUM(R50:R56) -> 0 | S57: =SUM(S50:S56) -> 0 | T57: =SUM(T50:T56) -> 0 | U57: =SUM(U50:U56) -> 0 | V57: =SUM(V50:V56) -> 0 | W57: =SUM(W50:W56) -> 0 | X57: =SUM(X50:X56) -> 0 | Y57: =SUM(Y50:Y56) -> 0 | Z57: =SUM(T57:Y57) -> 0
B58: Summe Urlaubstage | D58: =+AI58 -> 0 | L58: =L17+L25+L33+L41+L49+L57 -> 171 | M58: =IF((L58/D59)>9.6,"Achtung: WHAZ","") | O58: =O17+O25+O33+O41+O49+O57 -> 171 | P58: =P17+P25+P33+P41+P49+P57 -> 0 | R58: =R17+R25+R33+R41+R49+R57+R9 -> 0 | S58: =S17+S25+S33+S41+S49+S57+S9 -> 0 | T58: =T17+T25+T33+T41+T49+T57+T9 -> 0 | U58: =U17+U25+U33+U41+U49+U57+U9 -> 0 | V58: =V17+V25+V33+V41+V49+V57+V9 -> 0 | W58: =W17+W25+W33+W41+W49+W57+W9 -> 0 | X58: =X17+X25+X33+X41+X49+X57+X9 -> 0 | Y58: =Y17+Y25+Y33+Y41+Y49+Y57+Y9 -> 0 | Z58: =SUM(T58:Y58) -> 0 | AB58: =P58-T58-V58-W58-X58-Y58-R58-U58 -> 0 | AI58: =SUM(AI10:AI57) -> 0 | AJ58: =SUM(AJ10:AJ57) -> 22
B59: Summe Arbeitstage | D59: =+AJ58 -> 22
L60: Umwandlung von Mehr- und Überstunden in | P60: Zeitausgleich: | R60: =(-T60)+(-U60*1.25)+(-V60*1.5)+(-W60*2) -> 0
B62: Ich bestätige die Richtigkeit | O62: davon auszubezahlen:
B63: meiner Angaben: | P63: ÜBERTRAG: | R63: =R58+R60-R62 -> 0 | S63: =S58+S60-S62 -> 0 | T63: =T58+T60-T62 -> 0 | U63: =U58+U60-U62 -> 0 | V63: =V58+V60-V62 -> 0 | W63: =W58+W60-W62 -> 0 | X63: =X58+X60-X62 -> 0 | Y63: =Y58+Y60-Y62 -> 0
B65: kontrolliert von:
B67: Info: | C67: FE= Feiertag, U = Urlaub, K = Krank, BEZ = bezahlte Fehlzeiten | L67: WHAZ = Wochenhöchstarbeitszeit; AZG = Arbeitszeitgesetz

Sheet April
B1: ZEITERFASSUNG
B4: NAME: | C4: =Voreingabe!C3 -> Musterfrau | K4: FUNKTION: | M4: =Voreingabe!F3 -> Buchhalterin | V4: MA-Nummer: | X4: =Voreingabe!I3 -> 5
B6: MONAT: | C6: April | K6: JAHR: | M6: 2026
B8: Tag | C8: Datum | D8: INFO | E8: Arbeits- beginn | F8: Pausen-beginn | G8: Pausen-ende | H8: Pausen-beginn | I8: Pausen-ende | J8: Arbeits- ende | K8: Pausen-dauer | L8: tatsächl. geleistete Std. | M8: Info Arbeitszeit | N8: Info Pause | O8: Stunden Soll | P8: Stunden differenz | Q8: Nacht- stunden | R8: Zeit-ausgleich | S8: Durchrechnung | T8: Mehr- stunden | U8: Mehr- stunden 25% | V8: 50%- Überstd. | W8: 100%- Überstd. | X8: Sonn- u. Feiertag | Y8: Nacht-zuschlag | Z8: Kontrolle | AI8: Summe UT | AJ8: Summe AT
B9: ÜBETRAG | R9: =März!R63 -> 0 | S9: =März!S63 -> 0 | T9: =März!T63 -> 0 | U9: =März!U63 -> 0 | V9: =März!V63 -> 0 | W9: =März!W63 -> 0 | X9: =März!X63 -> 0 | Y9: =März!Y63 -> 0
B10: Montag | Q10: =IF(AND((J10-19)>2.99,(J10-E10)>3,J10>19),"JA","-") -> - | Z10: =IF(AB10=0,"Okay","Fehler") -> Okay | AB10: =P10-T10-V10-W10-X10-Y10-R10-U10-S10 -> 0 | AC10: =IF(AND(J10>=0.1,J10<=12),J10+24,IF(J10>=12,J10,0)) -> 0 | AD10: =IF(E10>6.99,"1","2") -> 2 | AE10: =IF(AC10<18.99,"1","2") -> 1 | AF10: =IF(AC10>22,"2","1") -> 1 | AG10: =AD10+AE10+AF10 -> 4 | AI10: =IF(D10="U",1," ") | AJ10: =IF(L10>0.5,1," ")
B11: Dienstag | Q11: =IF(AND((J11-19)>2.99,(J11-E11)>3,J11>19),"JA","-") -> - | Z11: =IF(AB11=0,"Okay","Fehler") -> Okay | AB11: =P11-T11-V11-W11-X11-Y11-R11-U11-S11 -> 0 | AC11: =IF(AND(J11>=0.1,J11<=12),J11+24,IF(J11>=12,J11,0)) -> 0 | AD11: =IF(E11>6.99,"1","2") -> 2 | AE11: =IF(AC11<18.99,"1","2") -> 1 | AF11: =IF(AC11>22,"2","1") -> 1 | AG11: =AD11+AE11+AF11 -> 4 | AI11: =IF(D11="U",1," ") | AJ11: =IF(L11>0.5,1," ")
B12: Mittwoch | C12: 46113 | E12: =Voreingabe!$C$10 -> 9 | F12: =Voreingabe!$E$10 -> 12 | G12: =Voreingabe!$F$10 -> 12.5 | H12: =Voreingabe!$G$10 -> 0 | I12: =Voreingabe!$H$10 -> 0 | J12: =Voreingabe!$D$10 -> 17 | K12: =(G12-F12)+(I12-H12) -> 0.5 | L12: =+IF((J12-E12-K12)>=0,(J12-E12-K12),(J12-(E12-24)-K12)) -> 7.5 | M12: =IF(L12>12,"§9 AZG! ","-") -> - | N12: =IF(L12>6,IF(K12<0.5,"Pause!","-"),"-") -> - | O12: =Voreingabe!$I$10 -> 7.5 | P12: =L12-O12 -> 0 | Q12: =IF(AND((J12-19)>2.99,(J12-E12)>3,J12>19),"JA","-") -> - | Z12: =IF(AB12=0,"Okay","Fehler") -> Okay | AB12: =P12-T12-V12-W12-X12-Y12-R12-U12-S12 -> 0 | AC12: =IF(AND(J12>=0.1,J12<=12),J12+24,IF(J12>=12,J12,0)) -> 17 | AD12: =IF(E12>6.99,"1","2") -> 1 | AE12: =IF(AC12<18.99,"1","2") -> 1 | AF12: =IF(AC12>22,"2","1") -> 1 | AG12: =AD12+AE12+AF12 -> 3 | AI12: =IF(D12="U",1," ") | AJ12: =IF(L12>0.5,1," ") -> 1
B13: Donnerstag | C13: =C12+1 -> 46114 | E13: =Voreingabe!$C$11 -> 9 | F13: =Voreingabe!$E$11 -> 12 | G13: =Voreingabe!$F$11 -> 12.5 | H13: =Voreingabe!$G$11 -> 0 | I13: =Voreingabe!$H$11 -> 0 | J13: =Voreingabe!$D$11 -> 17 | K13: =(G13-F13)+(I13-H13) -> 0.5 | L13: =+IF((J13-E13-K13)>=0,(J13-E13-K13),(J13-(E13-24)-K13)) -> 7.5 | M13: =IF(L13>12,"§9 AZG! ","-") -> - | N13: =IF(L13>6,IF(K13<0.5,"Pause!","-"),"-") -> - | O13: =Voreingabe!$I$11 -> 7.5 | P13: =L13-O13 -> 0 | Q13: =IF(AND((J13-19)>2.99,(J13-E13)>3,J13>19),"JA","-") -> - | Z13: =IF(AB13=0,"Okay","Fehler") -> Okay | AB13: =P13-T13-V13-W13-X13-Y13-R13-U13-S13 -> 0 | AC13: =IF(AND(J13>=0.1,J13<=12),J13+24,IF(J13>=12,J13,0)) -> 17 | AD13: =IF(E13>6.99,"1","2") -> 1 | AE13: =IF(AC13<18.99,"1","2") -> 1 | AF13: =IF(AC13>22,"2","1") -> 1 | AG13: =AD13+AE13+AF13 -> 3 | AI13: =IF(D13="U",1," ") | AJ13: =IF(L13>0.5,1," ") -> 1
B14: Freitag | C14: =C13+1 -> 46115 | D14: Karfreitag | E14: =Voreingabe!$C$12 -> 9 | F14: =Voreingabe!$E$12 -> 12 | G14: =Voreingabe!$F$12 -> 12.5 | H14: =Voreingabe!$G$12 -> 0 | I14: =Voreingabe!$H$12 -> 0 | J14: =Voreingabe!$D$12 -> 16 | K14: =(G14-F14)+(I14-H14) -> 0.5 | L14: =+IF((J14-E14-K14)>=0,(J14-E14-K14),(J14-(E14-24)-K14)) -> 6.5 | M14: =IF(L14>12,"§9 AZG! ","-") -> - | N14: =IF(L14>6,IF(K14<0.5,"Pause!","-"),"-") -> - | O14: =Voreingabe!$I$12 -> 6.5 | P14: =L14-O14 -> 0 | Q14: =IF(AND((J14-19)>2.99,(J14-E14)>3,J14>19),"JA","-") -> - | Z14: =IF(AB14=0,"Okay","Fehler") -> Okay | AB14: =P14-T14-V14-W14-X14-Y14-R14-U14-S14 -> 0 | AC14: =IF(AND(J14>=0.1,J14<=12),J14+24,IF(J14>=12,J14,0)) -> 16 | AD14: =IF(E14>6.99,"1","2") -> 1 | AE14: =IF(AC14<18.99,"1","2") -> 1 | AF14: =IF(AC14>22,"2","1") -> 1 | AG14: =AD14+AE14+AF14 -> 3 | AI14: =IF(D14="U",1," ") | AJ14: =IF(L14>0.5,1," ") -> 1
B15: Samstag | C15: =C14+1 -> 46116 | E15: =Voreingabe!$C$13 -> 0 | F15: =Voreingabe!$E$13 -> 0 | G15: =Voreingabe!$F$13 -> 0 | H15: =Voreingabe!$G$13 -> 0 | I15: =Voreingabe!$H$13 -> 0 | J15: =Voreingabe!$D$13 -> 0 | K15: =(G15-F15)+(I15-H15) -> 0 | L15: =+IF((J15-E15-K15)>=0,(J15-E15-K15),(J15-(E15-24)-K15)) -> 0 | M15: =IF(L15>12,"§9 AZG! ","-") -> - | N15: =IF(L15>6,IF(K15<0.5,"Pause!","-"),"-") -> - | O15: =Voreingabe!$I$13 -> 0 | P15: =L15-O15 -> 0 | Q15: =IF(AND((J15-19)>2.99,(J15-E15)>3,J15>19),"JA","-") -> - | Z15: =IF(AB15=0,"Okay","Fehler") -> Okay | AB15: =P15-T15-V15-W15-X15-Y15-R15-U15-S15 -> 0 | AC15: =IF(AND(J15>=0.1,J15<=12),J15+24,IF(J15>=12,J15,0)) -> 0 | AD15: =IF(E15>6.99,"1","2") -> 2 | AE15: =IF(AC15<18.99,"1","2") -> 1 | AF15: =IF(AC15>22,"2","1") -> 1 | AG15: =AD15+AE15+AF15 -> 4 | AI15: =IF(D15="U",1," ") | AJ15: =IF(L15>0.5,1," ")
B16: Sonntag | C16: =C15+1 -> 46117 | D16: Ostersonn. | E16: =Voreingabe!$C$14 -> 0 | F16: =Voreingabe!$E$14 -> 0 | G16: =Voreingabe!$F$14 -> 0 | H16: =Voreingabe!$G$14 -> 0 | I16: =Voreingabe!$H$14 -> 0 | J16: =Voreingabe!$D$14 -> 0 | K16: =(G16-F16)+(I16-H16) -> 0 | L16: =+IF((J16-E16-K16)>=0,(J16-E16-K16),(J16-(E16-24)-K16)) -> 0 | M16: =IF(L16>12,"§9 AZG! ","-") -> - | N16: =IF(L16>6,IF(K16<0.5,"Pause!","-"),"-") -> - | O16: =Voreingabe!$I$14 -> 0 | P16: =L16-O16 -> 0 | Q16: =IF(AND((J16-19)>2.99,(J16-E16)>3,J16>19),"JA","-") -> - | Z16: =IF(AB16=0,"Okay","Fehler") -> Okay | AB16: =P16-T16-V16-W16-X16-Y16-R16-U16-S16 -> 0 | AC16: =IF(AND(J16>=0.1,J16<=12),J16+24,IF(J16>=12,J16,0)) -> 0 | AD16: =IF(E16>6.99,"1","2") -> 2 | AE16: =IF(AC16<18.99,"1","2") -> 1 | AF16: =IF(AC16>22,"2","1") -> 1 | AG16: =AD16+AE16+AF16 -> 4 | AJ16: =IF(L16>0.5,1," ")
B17: Wochensumme 1 | L17: =SUM(L10:L16) -> 21.5 | M17: =IF(L17>60,"§9 AZG! ","-") -> - | O17: =SUM(O10:O16) -> 21.5 | P17: =L17-O17 -> 0 | R17: =SUM(R10:R16) -> 0 | S17: =SUM(S10:S16) -> 0 | T17: =SUM(T10:T16) -> 0 | U17: =SUM(U10:U16) -> 0 | V17: =SUM(V10:V16) -> 0 | W17: =SUM(W10:W16) -> 0 | X17: =SUM(X10:X16) -> 0 | Y17: =SUM(Y10:Y16) -> 0 | Z17: =SUM(T17:Y17) -> 0
B18: Montag | C18: =C16+1 -> 46118 | D18: FE | E18: =Voreingabe!$C$8 -> 9 | F18: =Voreingabe!$E$8 -> 12 | G18: =Voreingabe!$F$8 -> 12.5 | H18: =Voreingabe!$G$8 -> 0 | I18: =Voreingabe!$H$8 -> 0 | J18: =Voreingabe!$D$8 -> 18 | K18: =(G18-F18)+(I18-H18) -> 0.5 | L18: =+IF((J18-E18-K18)>=0,(J18-E18-K18),(J18-(E18-24)-K18)) -> 8.5 | M18: =IF(L18>12,"§9 AZG! ","-") -> - | N18: =IF(L18>6,IF(K18<0.5,"Pause!","-"),"-") -> - | O18: =Voreingabe!$I$8 -> 8.5 | P18: =L18-O18 -> 0 | Q18: =IF(AND((J18-19)>2.99,(J18-E18)>3,J18>19),"JA","-") -> - | Z18: =IF(AB18=0,"Okay","Fehler") -> Okay | AB18: =P18-T18-V18-W18-X18-Y18-R18-U18-S18 -> 0 | AC18: =IF(AND(J18>=0.1,J18<=12),J18+24,IF(J18>=12,J18,0)) -> 18 | AD18: =IF(E18>6.99,"1","2") -> 1 | AE18: =IF(AC18<18.99,"1","2") -> 1 | AF18: =IF(AC18>22,"2","1") -> 1 | AG18: =AD18+AE18+AF18 -> 3 | AI18: =IF(D18="U",1," ") | AJ18: =IF(L18>0.5,1," ") -> 1
B19: Dienstag | C19: =C18+1 -> 46119 | E19: =Voreingabe!$C$9 -> 9 | F19: =Voreingabe!$E$9 -> 12 | G19: =Voreingabe!$F$9 -> 12.5 | H19: =Voreingabe!$G$9 -> 0 | I19: =Voreingabe!$H$9 -> 0 | J19: =Voreingabe!$D$9 -> 18 | K19: =(G19-F19)+(I19-H19) -> 0.5 | L19: =+IF((J19-E19-K19)>=0,(J19-E19-K19),(J19-(E19-24)-K19)) -> 8.5 | M19: =IF(L19>12,"§9 AZG! ","-") -> - | N19: =IF(L19>6,IF(K19<0.5,"Pause!","-"),"-") -> - | O19: =Voreingabe!$I$9 -> 8.5 | P19: =L19-O19 -> 0 | Q19: =IF(AND((J19-19)>2.99,(J19-E19)>3,J19>19),"JA","-") -> - | Z19: =IF(AB19=0,"Okay","Fehler") -> Okay | AB19: =P19-T19-V19-W19-X19-Y19-R19-U19-S19 -> 0 | AC19: =IF(AND(J19>=0.1,J19<=12),J19+24,IF(J19>=12,J19,0)) -> 18 | AD19: =IF(E19>6.99,"1","2") -> 1 | AE19: =IF(AC19<18.99,"1","2") -> 1 | AF19: =IF(AC19>22,"2","1") -> 1 | AG19: =AD19+AE19+AF19 -> 3 | AI19: =IF(D19="U",1," ") | AJ19: =IF(L19>0.5,1," ") -> 1
B20: Mittwoch | C20: =C19+1 -> 46120 | E20: =Voreingabe!$C$10 -> 9 | F20: =Voreingabe!$E$10 -> 12 | G20: =Voreingabe!$F$10 -> 12.5 | H20: =Voreingabe!$G$10 -> 0 | I20: =Voreingabe!$H$10 -> 0 | J20: =Voreingabe!$D$10 -> 17 | K20: =(G20-F20)+(I20-H20) -> 0.5 | L20: =+IF((J20-E20-K20)>=0,(J20-E20-K20),(J20-(E20-24)-K20)) -> 7.5 | M20: =IF(L20>12,"§9 AZG! ","-") -> - | N20: =IF(L20>6,IF(K20<0.5,"Pause!","-"),"-") -> - | O20: =Voreingabe!$I$10 -> 7.5 | P20: =L20-O20 -> 0 | Q20: =IF(AND((J20-19)>2.99,(J20-E20)>3,J20>19),"JA","-") -> - | Z20: =IF(AB20=0,"Okay","Fehler") -> Okay | AB20: =P20-T20-V20-W20-X20-Y20-R20-U20-S20 -> 0 | AC20: =IF(AND(J20>=0.1,J20<=12),J20+24,IF(J20>=12,J20,0)) -> 17 | AD20: =IF(E20>6.99,"1","2") -> 1 | AE20: =IF(AC20<18.99,"1","2") -> 1 | AF20: =IF(AC20>22,"2","1") -> 1 | AG20: =AD20+AE20+AF20 -> 3 | AI20: =IF(D20="U",1," ") | AJ20: =IF(L20>0.5,1," ") -> 1
B21: Donnerstag | C21: =C20+1 -> 46121 | E21: =Voreingabe!$C$11 -> 9 | F21: =Voreingabe!$E$11 -> 12 | G21: =Voreingabe!$F$11 -> 12.5 | H21: =Voreingabe!$G$11 -> 0 | I21: =Voreingabe!$H$11 -> 0 | J21: =Voreingabe!$D$11 -> 17 | K21: =(G21-F21)+(I21-H21) -> 0.5 | L21: =+IF((J21-E21-K21)>=0,(J21-E21-K21),(J21-(E21-24)-K21)) -> 7.5 | M21: =IF(L21>12,"§9 AZG! ","-") -> - | N21: =IF(L21>6,IF(K21<0.5,"Pause!","-"),"-") -> - | O21: =Voreingabe!$I$11 -> 7.5 | P21: =L21-O21 -> 0 | Q21: =IF(AND((J21-19)>2.99,(J21-E21)>3,J21>19),"JA","-") -> - | Z21: =IF(AB21=0,"Okay","Fehler") -> Okay | AB21: =P21-T21-V21-W21-X21-Y21-R21-U21-S21 -> 0 | AC21: =IF(AND(J21>=0.1,J21<=12),J21+24,IF(J21>=12,J21,0)) -> 17 | AD21: =IF(E21>6.99,"1","2") -> 1 | AE21: =IF(AC21<18.99,"1","2") -> 1 | AF21: =IF(AC21>22,"2","1") -> 1 | AG21: =AD21+AE21+AF21 -> 3 | AI21: =IF(D21="U",1," ") | AJ21: =IF(L21>0.5,1," ") -> 1
B22: Freitag | C22: =C21+1 -> 46122 | E22: =Voreingabe!$C$12 -> 9 | F22: =Voreingabe!$E$12 -> 12 | G22: =Voreingabe!$F$12 -> 12.5 | H22: =Voreingabe!$G$12 -> 0 | I22: =Voreingabe!$H$12 -> 0 | J22: =Voreingabe!$D$12 -> 16 | K22: =(G22-F22)+(I22-H22) -> 0.5 | L22: =+IF((J22-E22-K22)>=0,(J22-E22-K22),(J22-(E22-24)-K22)) -> 6.5 | M22: =IF(L22>12,"§9 AZG! ","-") -> - | N22: =IF(L22>6,IF(K22<0.5,"Pause!","-"),"-") -> - | O22: =Voreingabe!$I$12 -> 6.5 | P22: =L22-O22 -> 0 | Q22: =IF(AND((J22-19)>2.99,(J22-E22)>3,J22>19),"JA","-") -> - | Z22: =IF(AB22=0,"Okay","Fehler") -> Okay | AB22: =P22-T22-V22-W22-X22-Y22-R22-U22-S22 -> 0 | AC22: =IF(AND(J22>=0.1,J22<=12),J22+24,IF(J22>=12,J22,0)) -> 16 | AD22: =IF(E22>6.99,"1","2") -> 1 | AE22: =IF(AC22<18.99,"1","2") -> 1 | AF22: =IF(AC22>22,"2","1") -> 1 | AG22: =AD22+AE22+AF22 -> 3 | AI22: =IF(D22="U",1," ") | AJ22: =IF(L22>0.5,1," ") -> 1
B23: Samstag | C23: =C22+1 -> 46123 | E23: =Voreingabe!$C$13 -> 0 | F23: =Voreingabe!$E$13 -> 0 | G23: =Voreingabe!$F$13 -> 0 | H23: =Voreingabe!$G$13 -> 0 | I23: =Voreingabe!$H$13 -> 0 | J23: =Voreingabe!$D$13 -> 0 | K23: =(G23-F23)+(I23-H23) -> 0 | L23: =+IF((J23-E23-K23)>=0,(J23-E23-K23),(J23-(E23-24)-K23)) -> 0 | M23: =IF(L23>12,"§9 AZG! ","-") -> - | N23: =IF(L23>6,IF(K23<0.5,"Pause!","-"),"-") -> - | O23: =Voreingabe!$I$13 -> 0 | P23: =L23-O23 -> 0 | Q23: =IF(AND((J23-19)>2.99,(J23-E23)>3,J23>19),"JA","-") -> - | Z23: =IF(AB23=0,"Okay","Fehler") -> Okay | AB23: =P23-T23-V23-W23-X23-Y23-R23-U23-S23 -> 0 | AC23: =IF(AND(J23>=0.1,J23<=12),J23+24,IF(J23>=12,J23,0)) -> 0 | AD23: =IF(E23>6.99,"1","2") -> 2 | AE23: =IF(AC23<18.99,"1","2") -> 1 | AF23: =IF(AC23>22,"2","1") -> 1 | AG23: =AD23+AE23+AF23 -> 4 | AI23: =IF(D23="U",1," ") | AJ23: =IF(L23>0.5,1," ")
B24: Sonntag | C24: =C23+1 -> 46124 | E24: =Voreingabe!$C$14 -> 0 | F24: =Voreingabe!$E$14 -> 0 | G24: =Voreingabe!$F$14 -> 0 | H24: =Voreingabe!$G$14 -> 0 | I24: =Voreingabe!$H$14 -> 0 | J24: =Voreingabe!$D$14 -> 0 | K24: =(G24-F24)+(I24-H24) -> 0 | L24: =+IF((J24-E24-K24)>=0,(J24-E24-K24),(J24-(E24-24)-K24)) -> 0 | M24: =IF(L24>12,"§9 AZG! ","-") -> - | N24: =IF(L24>6,IF(K24<0.5,"Pause!","-"),"-") -> - | O24: =Voreingabe!$I$14 -> 0 | P24: =L24-O24 -> 0 | Q24: =IF(AND((J24-19)>2.99,(J24-E24)>3,J24>19),"JA","-") -> - | Z24: =IF(AB24=0,"Okay","Fehler") -> Okay | AB24: =P24-T24-V24-W24-X24-Y24-R24-U24-S24 -> 0 | AC24: =IF(AND(J24>=0.1,J24<=12),J24+24,IF(J24>=12,J24,0)) -> 0 | AD24: =IF(E24>6.99,"1","2") -> 2 | AE24: =IF(AC24<18.99,"1","2") -> 1 | AF24: =IF(AC24>22,"2","1") -> 1 | AG24: =AD24+AE24+AF24 -> 4 | AJ24: =IF(L24>0.5,1," ")
B25: Wochensumme 2 | L25: =SUM(L18:L24) -> 38.5 | M25: =IF(L25>60,"§9 AZG! ","-") -> - | O25: =SUM(O18:O24) -> 38.5 | P25: =L25-O25 -> 0 | R25: =SUM(R18:R24) -> 0 | S25: =SUM(S18:S24) -> 0 | T25: =SUM(T18:T24) -> 0 | U25: =SUM(U18:U24) -> 0 | V25: =SUM(V18:V24) -> 0 | W25: =SUM(W18:W24) -> 0 | X25: =SUM(X18:X24) -> 0 | Y25: =SUM(Y18:Y24) -> 0 | Z25: =SUM(T25:Y25) -> 0
B26: Montag | C26: =C24+1 -> 46125 | E26: =Voreingabe!$C$8 -> 9 | F26: =Voreingabe!$E$8 -> 12 | G26: =Voreingabe!$F$8 -> 12.5 | H26: =Voreingabe!$G$8 -> 0 | I26: =Voreingabe!$H$8 -> 0 | J26: =Voreingabe!$D$8 -> 18 | K26: =(G26-F26)+(I26-H26) -> 0.5 | L26: =+IF((J26-E26-K26)>=0,(J26-E26-K26),(J26-(E26-24)-K26)) -> 8.5 | M26: =IF(L26>12,"§9 AZG! ","-") -> - | N26: =IF(L26>6,IF(K26<0.5,"Pause!","-"),"-") -> - | O26: =Voreingabe!$I$8 -> 8.5 | P26: =L26-O26 -> 0 | Q26: =IF(AND((J26-19)>2.99,(J26-E26)>3,J26>19),"JA","-") -> - | Z26: =IF(AB26=0,"Okay","Fehler") -> Okay | AB26: =P26-T26-V26-W26-X26-Y26-R26-U26-S26 -> 0 | AC26: =IF(AND(J26>=0.1,J26<=12),J26+24,IF(J26>=12,J26,0)) -> 18 | AD26: =IF(E26>6.99,"1","2") -> 1 | AE26: =IF(AC26<18.99,"1","2") -> 1 | AF26: =IF(AC26>22,"2","1") -> 1 | AG26: =AD26+AE26+AF26 -> 3 | AI26: =IF(D26="U",1," ") | AJ26: =IF(L26>0.5,1," ") -> 1
B27: Dienstag | C27: =C26+1 -> 46126 | E27: =Voreingabe!$C$9 -> 9 | F27: =Voreingabe!$E$9 -> 12 | G27: =Voreingabe!$F$9 -> 12.5 | H27: =Voreingabe!$G$9 -> 0 | I27: =Voreingabe!$H$9 -> 0 | J27: =Voreingabe!$D$9 -> 18 | K27: =(G27-F27)+(I27-H27) -> 0.5 | L27: =+IF((J27-E27-K27)>=0,(J27-E27-K27),(J27-(E27-24)-K27)) -> 8.5 | M27: =IF(L27>12,"§9 AZG! ","-") -> - | N27: =IF(L27>6,IF(K27<0.5,"Pause!","-"),"-") -> - | O27: =Voreingabe!$I$9 -> 8.5 | P27: =L27-O27 -> 0 | Q27: =IF(AND((J27-19)>2.99,(J27-E27)>3,J27>19),"JA","-") -> - | Z27: =IF(AB27=0,"Okay","Fehler") -> Okay | AB27: =P27-T27-V27-W27-X27-Y27-R27-U27-S27 -> 0 | AC27: =IF(AND(J27>=0.1,J27<=12),J27+24,IF(J27>=12,J27,0)) -> 18 | AD27: =IF(E27>6.99,"1","2") -> 1 | AE27: =IF(AC27<18.99,"1","2") -> 1 | AF27: =IF(AC27>22,"2","1") -> 1 | AG27: =AD27+AE27+AF27 -> 3 | AI27: =IF(D27="U",1," ") | AJ27: =IF(L27>0.5,1," ") -> 1
B28: Mittwoch | C28: =C27+1 -> 46127 | E28: =Voreingabe!$C$10 -> 9 | F28: =Voreingabe!$E$10 -> 12 | G28: =Voreingabe!$F$10 -> 12.5 | H28: =Voreingabe!$G$10 -> 0 | I28: =Voreingabe!$H$10 -> 0 | J28: =Voreingabe!$D$10 -> 17 | K28: =(G28-F28)+(I28-H28) -> 0.5 | L28: =+IF((J28-E28-K28)>=0,(J28-E28-K28),(J28-(E28-24)-K28)) -> 7.5 | M28: =IF(L28>12,"§9 AZG! ","-") -> - | N28: =IF(L28>6,IF(K28<0.5,"Pause!","-"),"-") -> - | O28: =Voreingabe!$I$10 -> 7.5 | P28: =L28-O28 -> 0 | Q28: =IF(AND((J28-19)>2.99,(J28-E28)>3,J28>19),"JA","-") -> - | Z28: =IF(AB28=0,"Okay","Fehler") -> Okay | AB28: =P28-T28-V28-W28-X28-Y28-R28-U28-S28 -> 0 | AC28: =IF(AND(J28>=0.1,J28<=12),J28+24,IF(J28>=12,J28,0)) -> 17 | AD28: =IF(E28>6.99,"1","2") -> 1 | AE28: =IF(AC28<18.99,"1","2") -> 1 | AF28: =IF(AC28>22,"2","1") -> 1 | AG28: =AD28+AE28+AF28 -> 3 | AI28: =IF(D28="U",1," ") | AJ28: =IF(L28>0.5,1," ") -> 1
B29: Donnerstag | C29: =C28+1 -> 46128 | E29: =Voreingabe!$C$11 -> 9 | F29: =Voreingabe!$E$11 -> 12 | G29: =Voreingabe!$F$11 -> 12.5 | H29: =Voreingabe!$G$11 -> 0 | I29: =Voreingabe!$H$11 -> 0 | J29: =Voreingabe!$D$11 -> 17 | K29: =(G29-F29)+(I29-H29) -> 0.5 | L29: =+IF((J29-E29-K29)>=0,(J29-E29-K29),(J29-(E29-24)-K29)) -> 7.5 | M29: =IF(L29>12,"§9 AZG! ","-") -> - | N29: =IF(L29>6,IF(K29<0.5,"Pause!","-"),"-") -> - | O29: =Voreingabe!$I$11 -> 7.5 | P29: =L29-O29 -> 0 | Q29: =IF(AND((J29-19)>2.99,(J29-E29)>3,J29>19),"JA","-") -> - | Z29: =IF(AB29=0,"Okay","Fehler") -> Okay | AB29: =P29-T29-V29-W29-X29-Y29-R29-U29-S29 -> 0 | AC29: =IF(AND(J29>=0.1,J29<=12),J29+24,IF(J29>=12,J29,0)) -> 17 | AD29: =IF(E29>6.99,"1","2") -> 1 | AE29: =IF(AC29<18.99,"1","2") -> 1 | AF29: =IF(AC29>22,"2","1") -> 1 | AG29: =AD29+AE29+AF29 -> 3 | AI29: =IF(D29="U",1," ") | AJ29: =IF(L29>0.5,1," ") -> 1
B30: Freitag | C30: =C29+1 -> 46129 | E30: =Voreingabe!$C$12 -> 9 | F30: =Voreingabe!$E$12 -> 12 | G30: =Voreingabe!$F$12 -> 12.5 | H30: =Voreingabe!$G$12 -> 0 | I30: =Voreingabe!$H$12 -> 0 | J30: =Voreingabe!$D$12 -> 16 | K30: =(G30-F30)+(I30-H30) -> 0.5 | L30: =+IF((J30-E30-K30)>=0,(J30-E30-K30),(J30-(E30-24)-K30)) -> 6.5 | M30: =IF(L30>12,"§9 AZG! ","-") -> - | N30: =IF(L30>6,IF(K30<0.5,"Pause!","-"),"-") -> - | O30: =Voreingabe!$I$12 -> 6.5 | P30: =L30-O30 -> 0 | Q30: =IF(AND((J30-19)>2.99,(J30-E30)>3,J30>19),"JA","-") -> - | Z30: =IF(AB30=0,"Okay","Fehler") -> Okay | AB30: =P30-T30-V30-W30-X30-Y30-R30-U30-S30 -> 0 | AC30: =IF(AND(J30>=0.1,J30<=12),J30+24,IF(J30>=12,J30,0)) -> 16 | AD30: =IF(E30>6.99,"1","2") -> 1 | AE30: =IF(AC30<18.99,"1","2") -> 1 | AF30: =IF(AC30>22,"2","1") -> 1 | AG30: =AD30+AE30+AF30 -> 3 | AI30: =IF(D30="U",1," ") | AJ30: =IF(L30>0.5,1," ") -> 1
B31: Samstag | C31: =C30+1 -> 46130 | E31: =Voreingabe!$C$13 -> 0 | F31: =Voreingabe!$E$13 -> 0 | G31: =Voreingabe!$F$13 -> 0 | H31: =Voreingabe!$G$13 -> 0 | I31: =Voreingabe!$H$13 -> 0 | J31: =Voreingabe!$D$13 -> 0 | K31: =(G31-F31)+(I31-H31) -> 0 | L31: =+IF((J31-E31-K31)>=0,(J31-E31-K31),(J31-(E31-24)-K31)) -> 0 | M31: =IF(L31>12,"§9 AZG! ","-") -> - | N31: =IF(L31>6,IF(K31<0.5,"Pause!","-"),"-") -> - | O31: =Voreingabe!$I$13 -> 0 | P31: =L31-O31 -> 0 | Q31: =IF(AND((J31-19)>2.99,(J31-E31)>3,J31>19),"JA","-") -> - | Z31: =IF(AB31=0,"Okay","Fehler") -> Okay | AB31: =P31-T31-V31-W31-X31-Y31-R31-U31-S31 -> 0 | AC31: =IF(AND(J31>=0.1,J31<=12),J31+24,IF(J31>=12,J31,0)) -> 0 | AD31: =IF(E31>6.99,"1","2") -> 2 | AE31: =IF(AC31<18.99,"1","2") -> 1 | AF31: =IF(AC31>22,"2","1") -> 1 | AG31: =AD31+AE31+AF31 -> 4 | AI31: =IF(D31="U",1," ") | AJ31: =IF(L31>0.5,1," ")
B32: Sonntag | C32: =C31+1 -> 46131 | E32: =Voreingabe!$C$14 -> 0 | F32: =Voreingabe!$E$14 -> 0 | G32: =Voreingabe!$F$14 -> 0 | H32: =Voreingabe!$G$14 -> 0 | I32: =Voreingabe!$H$14 -> 0 | J32: =Voreingabe!$D$14 -> 0 | K32: =(G32-F32)+(I32-H32) -> 0 | L32: =+IF((J32-E32-K32)>=0,(J32-E32-K32),(J32-(E32-24)-K32)) -> 0 | M32: =IF(L32>12,"§9 AZG! ","-") -> - | N32: =IF(L32>6,IF(K32<0.5,"Pause!","-"),"-") -> - | O32: =Voreingabe!$I$14 -> 0 | P32: =L32-O32 -> 0 | Q32: =IF(AND((J32-19)>2.99,(J32-E32)>3,J32>19),"JA","-") -> - | Z32: =IF(AB32=0,"Okay","Fehler") -> Okay | AB32: =P32-T32-V32-W32-X32-Y32-R32-U32-S32 -> 0 | AC32: =IF(AND(J32>=0.1,J32<=12),J32+24,IF(J32>=12,J32,0)) -> 0 | AD32: =IF(E32>6.99,"1","2") -> 2 | AE32: =IF(AC32<18.99,"1","2") -> 1 | AF32: =IF(AC32>22,"2","1") -> 1 | AG32: =AD32+AE32+AF32 -> 4 | AJ32: =IF(L32>0.5,1," ")
B33: Wochensumme 3 | L33: =SUM(L26:L32) -> 38.5 | M33: =IF(L33>60,"§9 AZG! ","-") -> - | O33: =SUM(O26:O32) -> 38.5 | P33: =L33-O33 -> 0 | R33: =SUM(R26:R32) -> 0 | S33: =SUM(S26:S32) -> 0 | T33: =SUM(T26:T32) -> 0 | U33: =SUM(U26:U32) -> 0 | V33: =SUM(V26:V32) -> 0 | W33: =SUM(W26:W32) -> 0 | X33: =SUM(X26:X32) -> 0 | Y33: =SUM(Y26:Y32) -> 0 | Z33: =SUM(T33:Y33) -> 0
B34: Montag | C34: =C32+1 -> 46132 | E34: =Voreingabe!$C$8 -> 9 | F34: =Voreingabe!$E$8 -> 12 | G34: =Voreingabe!$F$8 -> 12.5 | H34: =Voreingabe!$G$8 -> 0 | I34: =Voreingabe!$H$8 -> 0 | J34: =Voreingabe!$D$8 -> 18 | K34: =(G34-F34)+(I34-H34) -> 0.5 | L34: =+IF((J34-E34-K34)>=0,(J34-E34-K34),(J34-(E34-24)-K34)) -> 8.5 | M34: =IF(L34>12,"§9 AZG! ","-") -> - | N34: =IF(L34>6,IF(K34<0.5,"Pause!","-"),"-") -> - | O34: =Voreingabe!$I$8 -> 8.5 | P34: =L34-O34 -> 0 | Q34: =IF(AND((J34-19)>2.99,(J34-E34)>3,J34>19),"JA","-") -> - | Z34: =IF(AB34=0,"Okay","Fehler") -> Okay | AB34: =P34-T34-V34-W34-X34-Y34-R34-U34-S34 -> 0 | AC34: =IF(AND(J34>=0.1,J34<=12),J34+24,IF(J34>=12,J34,0)) -> 18 | AD34: =IF(E34>6.99,"1","2") -> 1 | AE34: =IF(AC34<18.99,"1","2") -> 1 | AF34: =IF(AC34>22,"2","1") -> 1 | AG34: =AD34+AE34+AF34 -> 3 | AI34: =IF(D34="U",1," ") | AJ34: =IF(L34>0.5,1," ") -> 1
B35: Dienstag | C35: =C34+1 -> 46133 | E35: =Voreingabe!$C$9 -> 9 | F35: =Voreingabe!$E$9 -> 12 | G35: =Voreingabe!$F$9 -> 12.5 | H35: =Voreingabe!$G$9 -> 0 | I35: =Voreingabe!$H$9 -> 0 | J35: =Voreingabe!$D$9 -> 18 | K35: =(G35-F35)+(I35-H35) -> 0.5 | L35: =+IF((J35-E35-K35)>=0,(J35-E35-K35),(J35-(E35-24)-K35)) -> 8.5 | M35: =IF(L35>12,"§9 AZG! ","-") -> - | N35: =IF(L35>6,IF(K35<0.5,"Pause!","-"),"-") -> - | O35: =Voreingabe!$I$9 -> 8.5 | P35: =L35-O35 -> 0 | Q35: =IF(AND((J35-19)>2.99,(J35-E35)>3,J35>19),"JA","-") -> - | Z35: =IF(AB35=0,"Okay","Fehler") -> Okay | AB35: =P35-T35-V35-W35-X35-Y35-R35-U35-S35 -> 0 | AC35: =IF(AND(J35>=0.1,J35<=12),J35+24,IF(J35>=12,J35,0)) -> 18 | AD35: =IF(E35>6.99,"1","2") -> 1 | AE35: =IF(AC35<18.99,"1","2") -> 1 | AF35: =IF(AC35>22,"2","1") -> 1 | AG35: =AD35+AE35+AF35 -> 3 | AI35: =IF(D35="U",1," ") | AJ35: =IF(L35>0.5,1," ") -> 1
B36: Mittwoch | C36: =C35+1 -> 46134 | E36: =Voreingabe!$C$10 -> 9 | F36: =Voreingabe!$E$10 -> 12 | G36: =Voreingabe!$F$10 -> 12.5 | H36: =Voreingabe!$G$10 -> 0 | I36: =Voreingabe!$H$10 -> 0 | J36: =Voreingabe!$D$10 -> 17 | K36: =(G36-F36)+(I36-H36) -> 0.5 | L36: =+IF((J36-E36-K36)>=0,(J36-E36-K36),(J36-(E36-24)-K36)) -> 7.5 | M36: =IF(L36>12,"§9 AZG! ","-") -> - | N36: =IF(L36>6,IF(K36<0.5,"Pause!","-"),"-") -> - | O36: =Voreingabe!$I$10 -> 7.5 | P36: =L36-O36 -> 0 | Q36: =IF(AND((J36-19)>2.99,(J36-E36)>3,J36>19),"JA","-") -> - | Z36: =IF(AB36=0,"Okay","Fehler") -> Okay | AB36: =P36-T36-V36-W36-X36-Y36-R36-U36-S36 -> 0 | AC36: =IF(AND(J36>=0.1,J36<=12),J36+24,IF(J36>=12,J36,0)) -> 17 | AD36: =IF(E36>6.99,"1","2") -> 1 | AE36: =IF(AC36<18.99,"1","2") -> 1 | AF36: =IF(AC36>22,"2","1") -> 1 | AG36: =AD36+AE36+AF36 -> 3 | AI36: =IF(D36="U",1," ") | AJ36: =IF(L36>0.5,1," ") -> 1
B37: Donnerstag | C37: =C36+1 -> 46135 | E37: =Voreingabe!$C$11 -> 9 | F37: =Voreingabe!$E$11 -> 12 | G37: =Voreingabe!$F$11 -> 12.5 | H37: =Voreingabe!$G$11 -> 0 | I37: =Voreingabe!$H$11 -> 0 | J37: =Voreingabe!$D$11 -> 17 | K37: =(G37-F37)+(I37-H37) -> 0.5 | L37: =+IF((J37-E37-K37)>=0,(J37-E37-K37),(J37-(E37-24)-K37)) -> 7.5 | M37: =IF(L37>12,"§9 AZG! ","-") -> - | N37: =IF(L37>6,IF(K37<0.5,"Pause!","-"),"-") -> - | O37: =Voreingabe!$I$11 -> 7.5 | P37: =L37-O37 -> 0 | Q37: =IF(AND((J37-19)>2.99,(J37-E37)>3,J37>19),"JA","-") -> - | Z37: =IF(AB37=0,"Okay","Fehler") -> Okay | AB37: =P37-T37-V37-W37-X37-Y37-R37-U37-S37 -> 0 | AC37: =IF(AND(J37>=0.1,J37<=12),J37+24,IF(J37>=12,J37,0)) -> 17 | AD37: =IF(E37>6.99,"1","2") -> 1 | AE37: =IF(AC37<18.99,"1","2") -> 1 | AF37: =IF(AC37>22,"2","1") -> 1 | AG37: =AD37+AE37+AF37 -> 3 | AI37: =IF(D37="U",1," ") | AJ37: =IF(L37>0.5,1," ") -> 1
B38: Freitag | C38: =C37+1 -> 46136 | E38: =Voreingabe!$C$12 -> 9 | F38: =Voreingabe!$E$12 -> 12 | G38: =Voreingabe!$F$12 -> 12.5 | H38: =Voreingabe!$G$12 -> 0 | I38: =Voreingabe!$H$12 -> 0 | J38: =Voreingabe!$D$12 -> 16 | K38: =(G38-F38)+(I38-H38) -> 0.5 | L38: =+IF((J38-E38-K38)>=0,(J38-E38-K38),(J38-(E38-24)-K38)) -> 6.5 | M38: =IF(L38>12,"§9 AZG! ","-") -> - | N38: =IF(L38>6,IF(K38<0.5,"Pause!","-"),"-") -> - | O38: =Voreingabe!$I$12 -> 6.5 | P38: =L38-O38 -> 0 | Q38: =IF(AND((J38-19)>2.99,(J38-E38)>3,J38>19),"JA","-") -> - | Z38: =IF(AB38=0,"Okay","Fehler") -> Okay | AB38: =P38-T38-V38-W38-X38-Y38-R38-U38-S38 -> 0 | AC38: =IF(AND(J38>=0.1,J38<=12),J38+24,IF(J38>=12,J38,0)) -> 16 | AD38: =IF(E38>6.99,"1","2") -> 1 | AE38: =IF(AC38<18.99,"1","2") -> 1 | AF38: =IF(AC38>22,"2","1") -> 1 | AG38: =AD38+AE38+AF38 -> 3 | AI38: =IF(D38="U",1," ") | AJ38: =IF(L38>0.5,1," ") -> 1
B39: Samstag | C39: =C38+1 -> 46137 | E39: =Voreingabe!$C$13 -> 0 | F39: =Voreingabe!$E$13 -> 0 | G39: =Voreingabe!$F$13 -> 0 | H39: =Voreingabe!$G$13 -> 0 | I39: =Voreingabe!$H$13 -> 0 | J39: =Voreingabe!$D$13 -> 0 | K39: =(G39-F39)+(I39-H39) -> 0 | L39: =+IF((J39-E39-K39)>=0,(J39-E39-K39),(J39-(E39-24)-K39)) -> 0 | M39: =IF(L39>12,"§9 AZG! ","-") -> - | N39: =IF(L39>6,IF(K39<0.5,"Pause!","-"),"-") -> - | O39: =Voreingabe!$I$13 -> 0 | P39: =L39-O39 -> 0 | Q39: =IF(AND((J39-19)>2.99,(J39-E39)>3,J39>19),"JA","-") -> - | Z39: =IF(AB39=0,"Okay","Fehler") -> Okay | AB39: =P39-T39-V39-W39-X39-Y39-R39-U39-S39 -> 0 | AC39: =IF(AND(J39>=0.1,J39<=12),J39+24,IF(J39>=12,J39,0)) -> 0 | AD39: =IF(E39>6.99,"1","2") -> 2 | AE39: =IF(AC39<18.99,"1","2") -> 1 | AF39: =IF(AC39>22,"2","1") -> 1 | AG39: =AD39+AE39+AF39 -> 4 | AI39: =IF(D39="U",1," ") | AJ39: =IF(L39>0.5,1," ")
B40: Sonntag | C40: =C39+1 -> 46138 | E40: =Voreingabe!$C$14 -> 0 | F40: =Voreingabe!$E$14 -> 0 | G40: =Voreingabe!$F$14 -> 0 | H40: =Voreingabe!$G$14 -> 0 | I40: =Voreingabe!$H$14 -> 0 | J40: =Voreingabe!$D$14 -> 0 | K40: =(G40-F40)+(I40-H40) -> 0 | L40: =+IF((J40-E40-K40)>=0,(J40-E40-K40),(J40-(E40-24)-K40)) -> 0 | M40: =IF(L40>12,"§9 AZG! ","-") -> - | N40: =IF(L40>6,IF(K40<0.5,"Pause!","-"),"-") -> - | O40: =Voreingabe!$I$14 -> 0 | P40: =L40-O40 -> 0 | Q40: =IF(AND((J40-19)>2.99,(J40-E40)>3,J40>19),"JA","-") -> - | Z40: =IF(AB40=0,"Okay","Fehler") -> Okay | AB40: =P40-T40-V40-W40-X40-Y40-R40-U40-S40 -> 0 | AC40: =IF(AND(J40>=0.1,J40<=12),J40+24,IF(J40>=12,J40,0)) -> 0 | AD40: =IF(E40>6.99,"1","2") -> 2 | AE40: =IF(AC40<18.99,"1","2") -> 1 | AF40: =IF(AC40>22,"2","1") -> 1 | AG40: =AD40+AE40+AF40 -> 4 | AJ40: =IF(L40>0.5,1," ")
B41: Wochensumme 4 | L41: =SUM(L34:L40) -> 38.5 | M41: =IF(L41>60,"§9 AZG! ","-") -> - | O41: =SUM(O34:O40) -> 38.5 | P41: =L41-O41 -> 0 | R41: =SUM(R34:R40) -> 0 | S41: =SUM(S34:S40) -> 0 | T41: =SUM(T34:T40) -> 0 | U41: =SUM(U34:U40) -> 0 | V41: =SUM(V34:V40) -> 0 | W41: =SUM(W34:W40) -> 0 | X41: =SUM(X34:X40) -> 0 | Y41: =SUM(Y34:Y40) -> 0 | Z41: =SUM(T41:Y41) -> 0
B42: Montag | C42: =C40+1 -> 46139 | E42: =Voreingabe!$C$8 -> 9 | F42: =Voreingabe!$E$8 -> 12 | G42: =Voreingabe!$F$8 -> 12.5 | H42: =Voreingabe!$G$8 -> 0 | I42: =Voreingabe!$H$8 -> 0 | J42: =Voreingabe!$D$8 -> 18 | K42: =(G42-F42)+(I42-H42) -> 0.5 | L42: =+IF((J42-E42-K42)>=0,(J42-E42-K42),(J42-(E42-24)-K42)) -> 8.5 | M42: =IF(L42>12,"§9 AZG! ","-") -> - | N42: =IF(L42>6,IF(K42<0.5,"Pause!","-"),"-") -> - | O42: =Voreingabe!$I$8 -> 8.5 | P42: =L42-O42 -> 0 | Q42: =IF(AND((J42-19)>2.99,(J42-E42)>3,J42>19),"JA","-") -> - | Z42: =IF(AB42=0,"Okay","Fehler") -> Okay | AB42: =P42-T42-V42-W42-X42-Y42-R42-U42-S42 -> 0 | AC42: =IF(AND(J42>=0.1,J42<=12),J42+24,IF(J42>=12,J42,0)) -> 18 | AD42: =IF(E42>6.99,"1","2") -> 1 | AE42: =IF(AC42<18.99,"1","2") -> 1 | AF42: =IF(AC42>22,"2","1") -> 1 | AG42: =AD42+AE42+AF42 -> 3 | AI42: =IF(D42="U",1," ") | AJ42: =IF(L42>0.5,1," ") -> 1
B43: Dienstag | C43: =C42+1 -> 46140 | E43: =Voreingabe!$C$9 -> 9 | F43: =Voreingabe!$E$9 -> 12 | G43: =Voreingabe!$F$9 -> 12.5 | H43: =Voreingabe!$G$9 -> 0 | I43: =Voreingabe!$H$9 -> 0 | J43: =Voreingabe!$D$9 -> 18 | K43: =(G43-F43)+(I43-H43) -> 0.5 | L43: =+IF((J43-E43-K43)>=0,(J43-E43-K43),(J43-(E43-24)-K43)) -> 8.5 | M43: =IF(L43>12,"§9 AZG! ","-") -> - | N43: =IF(L43>6,IF(K43<0.5,"Pause!","-"),"-") -> - | O43: =Voreingabe!$I$9 -> 8.5 | P43: =L43-O43 -> 0 | Q43: =IF(AND((J43-19)>2.99,(J43-E43)>3,J43>19),"JA","-") -> - | Z43: =IF(AB43=0,"Okay","Fehler") -> Okay | AB43: =P43-T43-V43-W43-X43-Y43-R43-U43-S43 -> 0 | AC43: =IF(AND(J43>=0.1,J43<=12),J43+24,IF(J43>=12,J43,0)) -> 18 | AD43: =IF(E43>6.99,"1","2") -> 1 | AE43: =IF(AC43<18.99,"1","2") -> 1 | AF43: =IF(AC43>22,"2","1") -> 1 | AG43: =AD43+AE43+AF43 -> 3 | AI43: =IF(D43="U",1," ") | AJ43: =IF(L43>0.5,1," ") -> 1
B44: Mittwoch | C44: =C43+1 -> 46141 | E44: =Voreingabe!$C$10 -> 9 | F44: =Voreingabe!$E$10 -> 12 | G44: =Voreingabe!$F$10 -> 12.5 | H44: =Voreingabe!$G$10 -> 0 | I44: =Voreingabe!$H$10 -> 0 | J44: =Voreingabe!$D$10 -> 17 | K44: =(G44-F44)+(I44-H44) -> 0.5 | L44: =+IF((J44-E44-K44)>=0,(J44-E44-K44),(J44-(E44-24)-K44)) -> 7.5 | M44: =IF(L44>12,"§9 AZG! ","-") -> - | N44: =IF(L44>6,IF(K44<0.5,"Pause!","-"),"-") -> - | O44: =Voreingabe!$I$10 -> 7.5 | P44: =L44-O44 -> 0 | Z44: =IF(AB44=0,"Okay","Fehler") -> Okay | AB44: =P44-T44-V44-W44-X44-Y44-R44-U44-S44 -> 0 | AC44: =IF(AND(J44>=0.1,J44<=12),J44+24,IF(J44>=12,J44,0)) -> 17 | AD44: =IF(E44>6.99,"1","2") -> 1 | AE44: =IF(AC44<18.99,"1","2") -> 1 | AF44: =IF(AC44>22,"2","1") -> 1 | AG44: =AD44+AE44+AF44 -> 3 | AI44: =IF(D44="U",1," ") | AJ44: =IF(L44>0.5,1," ") -> 1
B45: Donnerstag | C45: =C44+1 -> 46142 | E45: =Voreingabe!$C$11 -> 9 | F45: =Voreingabe!$E$11 -> 12 | G45: =Voreingabe!$F$11 -> 12.5 | H45: =Voreingabe!$G$11 -> 0 | I45: =Voreingabe!$H$11 -> 0 | J45: =Voreingabe!$D$11 -> 17 | K45: =(G45-F45)+(I45-H45) -> 0.5 | L45: =+IF((J45-E45-K45)>=0,(J45-E45-K45),(J45-(E45-24)-K45)) -> 7.5 | M45: =IF(L45>12,"§9 AZG! ","-") -> - | N45: =IF(L45>6,IF(K45<0.5,"Pause!","-"),"-") -> - | O45: =Voreingabe!$I$11 -> 7.5 | P45: =L45-O45 -> 0 | Q45: =IF(AND((J45-19)>2.99,(J45-E45)>3,J45>19),"JA","-") -> - | Z45: =IF(AB45=0,"Okay","Fehler") -> Okay | AB45: =P45-T45-V45-W45-X45-Y45-R45-U45-S45 -> 0 | AC45: =IF(AND(J45>=0.1,J45<=12),J45+24,IF(J45>=12,J45,0)) -> 17 | AD45: =IF(E45>6.99,"1","2") -> 1 | AE45: =IF(AC45<18.99,"1","2") -> 1 | AF45: =IF(AC45>22,"2","1") -> 1 | AG45: =AD45+AE45+AF45 -> 3 | AI45: =IF(D45="U",1," ") | AJ45: =IF(L45>0.5,1," ") -> 1
B46: Freitag | Z46: =IF(AB46=0,"Okay","Fehler") -> Okay | AB46: =P46-T46-V46-W46-X46-Y46-R46-U46-S46 -> 0 | AC46: =IF(AND(J46>=0.1,J46<=12),J46+24,IF(J46>=12,J46,0)) -> 0 | AD46: =IF(E46>6.99,"1","2") -> 2 | AE46: =IF(AC46<18.99,"1","2") -> 1 | AF46: =IF(AC46>22,"2","1") -> 1 | AG46: =AD46+AE46+AF46 -> 4 | AI46: =IF(D46="U",1," ") | AJ46: =IF(L46>0.5,1," ")
B47: Samstag | Z47: =IF(AB47=0,"Okay","Fehler") -> Okay | AB47: =P47-T47-V47-W47-X47-Y47-R47-U47-S47 -> 0 | AC47: =IF(AND(J47>=0.1,J47<=12),J47+24,IF(J47>=12,J47,0)) -> 0 | AD47: =IF(E47>6.99,"1","2") -> 2 | AE47: =IF(AC47<18.99,"1","2") -> 1 | AF47: =IF(AC47>22,"2","1") -> 1 | AG47: =AD47+AE47+AF47 -> 4 | AI47: =IF(D47="U",1," ") | AJ47: =IF(L47>0.5,1," ")
B48: Sonntag | Z48: =IF(AB48=0,"Okay","Fehler") -> Okay | AB48: =P48-T48-V48-W48-X48-Y48-R48-U48-S48 -> 0 | AC48: =IF(AND(J48>=0.1,J48<=12),J48+24,IF(J48>=12,J48,0)) -> 0 | AD48: =IF(E48>6.99,"1","2") -> 2 | AE48: =IF(AC48<18.99,"1","2") -> 1 | AF48: =IF(AC48>22,"2","1") -> 1 | AG48: =AD48+AE48+AF48 -> 4 | AJ48: =IF(L48>0.5,1," ")
B49: Wochensumme 5 | L49: =SUM(L42:L48) -> 32 | O49: =SUM(O42:O48) -> 32 | P49: =L49-O49 -> 0 | R49: =SUM(R42:R48) -> 0 | S49: =SUM(S42:S48) -> 0 | T49: =SUM(T42:T48) -> 0 | U49: =SUM(U42:U48) -> 0 | V49: =SUM(V42:V48) -> 0 | W49: =SUM(W42:W48) -> 0 | X49: =SUM(X42:X48) -> 0 | Y49: =SUM(Y42:Y48) -> 0 | Z49: =SUM(T49:Y49) -> 0
B50: Montag | Z50: =IF(AB50=0,"Okay","Fehler") -> Okay | AB50: =P50-T50-V50-W50-X50-Y50-R50-U50-S50 -> 0 | AC50: =IF(AND(J50>=0.1,J50<=12),J50+24,IF(J50>=12,J50,0)) -> 0 | AD50: =IF(E50>6.99,"1","2") -> 2 | AE50: =IF(AC50<18.99,"1","2") -> 1 | AF50: =IF(AC50>22,"2","1") -> 1 | AG50: =AD50+AE50+AF50 -> 4 | AI50: =IF(D50="U",1," ") | AJ50: =IF(L50>0.5,1," ")
B51: Dienstag | Z51: =IF(AB51=0,"Okay","Fehler") -> Okay | AB51: =P51-T51-V51-W51-X51-Y51-R51-U51-S51 -> 0 | AC51: =IF(AND(J51>=0.1,J51<=12),J51+24,IF(J51>=12,J51,0)) -> 0 | AD51: =IF(E51>6.99,"1","2") -> 2 | AE51: =IF(AC51<18.99,"1","2") -> 1 | AF51: =IF(AC51>22,"2","1") -> 1 | AG51: =AD51+AE51+AF51 -> 4 | AI51: =IF(D51="U",1," ") | AJ51: =IF(L51>0.5,1," ")
B52: Mittwoch | Z52: =IF(AB52=0,"Okay","Fehler") -> Okay | AB52: =P52-T52-V52-W52-X52-Y52-R52-U52-S52 -> 0 | AC52: =IF(AND(J52>=0.1,J52<=12),J52+24,IF(J52>=12,J52,0)) -> 0 | AD52: =IF(E52>6.99,"1","2") -> 2 | AE52: =IF(AC52<18.99,"1","2") -> 1 | AF52: =IF(AC52>22,"2","1") -> 1 | AG52: =AD52+AE52+AF52 -> 4 | AI52: =IF(D52="U",1," ") | AJ52: =IF(L52>0.5,1," ")
B53: Donnerstag | Z53: =IF(AB53=0,"Okay","Fehler") -> Okay | AB53: =P53-T53-V53-W53-X53-Y53-R53-U53-S53 -> 0 | AC53: =IF(AND(J53>=0.1,J53<=12),J53+24,IF(J53>=12,J53,0)) -> 0 | AD53: =IF(E53>6.99,"1","2") -> 2 | AE53: =IF(AC53<18.99,"1","2") -> 1 | AF53: =IF(AC53>22,"2","1") -> 1 | AG53: =AD53+AE53+AF53 -> 4 | AI53: =IF(D53="U",1," ") | AJ53: =IF(L53>0.5,1," ")
B54: Freitag | Z54: =IF(AB54=0,"Okay","Fehler") -> Okay | AB54: =P54-T54-V54-W54-X54-Y54-R54-U54-S54 -> 0 | AC54: =IF(AND(J54>=0.1,J54<=12),J54+24,IF(J54>=12,J54,0)) -> 0 | AD54: =IF(E54>6.99,"1","2") -> 2 | AE54: =IF(AC54<18.99,"1","2") -> 1 | AF54: =IF(AC54>22,"2","1") -> 1 | AG54: =AD54+AE54+AF54 -> 4 | AI54: =IF(D54="U",1," ") | AJ54: =IF(L54>0.5,1," ")
B55: Samstag | Z55: =IF(AB55=0,"Okay","Fehler") -> Okay | AB55: =P55-T55-V55-W55-X55-Y55-R55-U55-S55 -> 0 | AC55: =IF(AND(J55>=0.1,J55<=12),J55+24,IF(J55>=12,J55,0)) -> 0 | AD55: =IF(E55>6.99,"1","2") -> 2 | AE55: =IF(AC55<18.99,"1","2") -> 1 | AF55: =IF(AC55>22,"2","1") -> 1 | AG55: =AD55+AE55+AF55 -> 4 | AI55: =IF(D55="U",1," ") | AJ55: =IF(L55>0.5,1," ")
B56: Sonntag | Z56: =IF(AB56=0,"Okay","Fehler") -> Okay | AB56: =P56-T56-V56-W56-X56-Y56-R56-U56-S56 -> 0 | AC56: =IF(AND(J56>=0.1,J56<=12),J56+24,IF(J56>=12,J56,0)) -> 0 | AD56: =IF(E56>6.99,"1","2") -> 2 | AE56: =IF(AC56<18.99,"1","2") -> 1 | AF56: =IF(AC56>22,"2","1") -> 1 | AG56: =AD56+AE56+AF56 -> 4 | AJ56: =IF(L56>0.5,1," ")
B57: Wochensumme 6 | L57: =SUM(L50:L56) -> 0 | M57: =IF(L57>60,"§9 AZG! ","-") -> - | O57: =SUM(O50:O56) -> 0 | P57: =L57-O57 -> 0 | R57: =SUM(R50:R56) -> 0 | S57: =SUM(S50:S56) -> 0 | T57: =SUM(T50:T56) -> 0 | U57: =SUM(U50:U56) -> 0 | V57: =SUM(V50:V56) -> 0 | W57: =SUM(W50:W56) -> 0 | X57: =SUM(X50:X56) -> 0 | Y57: =SUM(Y50:Y56) -> 0 | Z57: =SUM(T57:Y57) -> 0
B58: Summe Urlaubstage | D58: =+AI58 -> 0 | L58: =L17+L25+L33+L41+L49+L57 -> 169 | M58: =IF((L58/D59)>9.6,"Achtung: WHAZ","") | O58: =O17+O25+O33+O41+O49+O57 -> 169 | P58: =P17+P25+P33+P41+P49+P57 -> 0 | R58: =R17+R25+R33+R41+R49+R57+R9 -> 0 | S58: =S17+S25+S33+S41+S49+S57+S9 -> 0 | T58: =T17+T25+T33+T41+T49+T57+T9 -> 0 | U58: =U17+U25+U33+U41+U49+U57+U9 -> 0 | V58: =V17+V25+V33+V41+V49+V57+V9 -> 0 | W58: =W17+W25+W33+W41+W49+W57+W9 -> 0 | X58: =X17+X25+X33+X41+X49+X57+X9 -> 0 | Y58: =Y17+Y25+Y33+Y41+Y49+Y57+Y9 -> 0 | Z58: =SUM(T58:Y58) -> 0 | AB58: =P58-T58-V58-W58-X58-Y58-R58-U58 -> 0 | AI58: =SUM(AI10:AI57) -> 0 | AJ58: =SUM(AJ10:AJ57) -> 22
B59: Summe Arbeitstage | D59: =+AJ58 -> 22
L60: Umwandlung von Mehr- und Überstunden in | P60: Zeitausgleich: | R60: =(-T60)+(-U60*1.25)+(-V60*1.5)+(-W60*2) -> 0
B62: Ich bestätige die Richtigkeit | O62: davon auszubezahlen:
B63: meiner Angaben: | P63: ÜBERTRAG: | R63: =R58+R60-R62 -> 0 | S63: =S58+S60-S62 -> 0 | T63: =T58+T60-T62 -> 0 | U63: =U58+U60-U62 -> 0 | V63: =V58+V60-V62 -> 0 | W63: =W58+W60-W62 -> 0 | X63: =X58+X60-X62 -> 0 | Y63: =Y58+Y60-Y62 -> 0
B65: kontrolliert von:
B67: Info: | C67: FE= Feiertag, U = Urlaub, K = Krank, BEZ = bezahlte Fehlzeiten | L67: WHAZ = Wochenhöchstarbeitszeit; AZG = Arbeitszeitgesetz

Sheet Mai
B1: ZEITERFASSUNG
B4: NAME: | C4: =Voreingabe!C3 -> Musterfrau | K4: FUNKTION: | M4: =Voreingabe!F3 -> Buchhalterin | V4: MA-Nummer: | X4: =Voreingabe!I3 -> 5
B6: MONAT: | C6: Mai | K6: JAHR: | M6: 2026
B8: Tag | C8: Datum | D8: INFO | E8: Arbeits- beginn | F8: Pausen-beginn | G8: Pausen-ende | H8: Pausen-beginn | I8: Pausen-ende | J8: Arbeits- ende | K8: Pausen-dauer | L8: tatsächl. geleistete Std. | M8: Info Arbeitszeit | N8: Info Pause | O8: Stunden Soll | P8: Stunden differenz | Q8: Nacht- stunden | R8: Zeit-ausgleich | S8: Durchrechnung | T8: Mehr- stunden | U8: Mehr- stunden 25% | V8: 50%- Überstd. | W8: 100%- Überstd. | X8: Sonn- u. Feiertag | Y8: Nacht-zuschlag | Z8: Kontrolle | AI8: Summe UT | AJ8: Summe AT
B9: ÜBETRAG | R9: =April!R63 -> 0 | S9: =April!S63 -> 0 | T9: =April!T63 -> 0 | U9: =April!U63 -> 0 | V9: =April!V63 -> 0 | W9: =April!W63 -> 0 | X9: =April!X63 -> 0 | Y9: =April!Y63 -> 0
B10: Montag | Z10: =IF(AB10=0,"Okay","Fehler") -> Okay | AB10: =P10-T10-V10-W10-X10-Y10-R10-U10-S10 -> 0 | AC10: =IF(AND(J10>=0.1,J10<=12),J10+24,IF(J10>=12,J10,0)) -> 0 | AD10: =IF(E10>6.99,"1","2") -> 2 | AE10: =IF(AC10<18.99,"1","2") -> 1 | AF10: =IF(AC10>22,"2","1") -> 1 | AG10: =AD10+AE10+AF10 -> 4 | AI10: =IF(D10="U",1," ") | AJ10: =IF(L10>0.5,1," ")
B11: Dienstag | Z11: =IF(AB11=0,"Okay","Fehler") -> Okay | AB11: =P11-T11-V11-W11-X11-Y11-R11-U11-S11 -> 0 | AC11: =IF(AND(J11>=0.1,J11<=12),J11+24,IF(J11>=12,J11,0)) -> 0 | AD11: =IF(E11>6.99,"1","2") -> 2 | AE11: =IF(AC11<18.99,"1","2") -> 1 | AF11: =IF(AC11>22,"2","1") -> 1 | AG11: =AD11+AE11+AF11 -> 4 | AI11: =IF(D11="U",1," ") | AJ11: =IF(L11>0.5,1," ")
B12: Mittwoch | Z12: =IF(AB12=0,"Okay","Fehler") -> Okay | AB12: =P12-T12-V12-W12-X12-Y12-R12-U12-S12 -> 0 | AC12: =IF(AND(J12>=0.1,J12<=12),J12+24,IF(J12>=12,J12,0)) -> 0 | AD12: =IF(E12>6.99,"1","2") -> 2 | AE12: =IF(AC12<18.99,"1","2") -> 1 | AF12: =IF(AC12>22,"2","1") -> 1 | AG12: =AD12+AE12+AF12 -> 4 | AI12: =IF(D12="U",1," ") | AJ12: =IF(L12>0.5,1," ")
B13: Donnerstag | Z13: =IF(AB13=0,"Okay","Fehler") -> Okay | AB13: =P13-T13-V13-W13-X13-Y13-R13-U13-S13 -> 0 | AC13: =IF(AND(J13>=0.1,J13<=12),J13+24,IF(J13>=12,J13,0)) -> 0 | AD13: =IF(E13>6.99,"1","2") -> 2 | AE13: =IF(AC13<18.99,"1","2") -> 1 | AF13: =IF(AC13>22,"2","1") -> 1 | AG13: =AD13+AE13+AF13 -> 4 | AI13: =IF(D13="U",1," ") | AJ13: =IF(L13>0.5,1," ")
B14: Freitag | C14: 46143 | D14: FE | E14: =Voreingabe!$C$12 -> 9 | F14: =Voreingabe!$E$12 -> 12 | G14: =Voreingabe!$F$12 -> 12.5 | H14: =Voreingabe!$G$12 -> 0 | I14: =Voreingabe!$H$12 -> 0 | J14: =Voreingabe!$D$12 -> 16 | K14: =(G14-F14)+(I14-H14) -> 0.5 | L14: =+IF((J14-E14-K14)>=0,(J14-E14-K14),(J14-(E14-24)-K14)) -> 6.5 | M14: =IF(L14>12,"§9 AZG! ","-") -> - | N14: =IF(L14>6,IF(K14<0.5,"Pause!","-"),"-") -> - | O14: =Voreingabe!$I$12 -> 6.5 | P14: =L14-O14 -> 0 | Z14: =IF(AB14=0,"Okay","Fehler") -> Okay | AB14: =P14-T14-V14-W14-X14-Y14-R14-U14-S14 -> 0 | AC14: =IF(AND(J14>=0.1,J14<=12),J14+24,IF(J14>=12,J14,0)) -> 16 | AD14: =IF(E14>6.99,"1","2") -> 1 | AE14: =IF(AC14<18.99,"1","2") -> 1 | AF14: =IF(AC14>22,"2","1") -> 1 | AG14: =AD14+AE14+AF14 -> 3 | AI14: =IF(D14="U",1," ") | AJ14: =IF(L14>0.5,1," ") -> 1
B15: Samstag | C15: =C14+1 -> 46144 | E15: =Voreingabe!$C$13 -> 0 | F15: =Voreingabe!$E$13 -> 0 | G15: =Voreingabe!$F$13 -> 0 | H15: =Voreingabe!$G$13 -> 0 | I15: =Voreingabe!$H$13 -> 0 | J15: =Voreingabe!$D$13 -> 0 | K15: =(G15-F15)+(I15-H15) -> 0 | L15: =+IF((J15-E15-K15)>=0,(J15-E15-K15),(J15-(E15-24)-K15)) -> 0 | M15: =IF(L15>12,"§9 AZG! ","-") -> - | N15: =IF(L15>6,IF(K15<0.5,"Pause!","-"),"-") -> - | O15: =Voreingabe!$I$13 -> 0 | P15: =L15-O15 -> 0 | Z15: =IF(AB15=0,"Okay","Fehler") -> Okay | AB15: =P15-T15-V15-W15-X15-Y15-R15-U15-S15 -> 0 | AC15: =IF(AND(J15>=0.1,J15<=12),J15+24,IF(J15>=12,J15,0)) -> 0 | AD15: =IF(E15>6.99,"1","2") -> 2 | AE15: =IF(AC15<18.99,"1","2") -> 1 | AF15: =IF(AC15>22,"2","1") -> 1 | AG15: =AD15+AE15+AF15 -> 4 | AI15: =IF(D15="U",1," ") | AJ15: =IF(L15>0.5,1," ")
B16: Sonntag | C16: =C15+1 -> 46145 | E16: =Voreingabe!$C$14 -> 0 | F16: =Voreingabe!$E$14 -> 0 | G16: =Voreingabe!$F$14 -> 0 | H16: =Voreingabe!$G$14 -> 0 | I16: =Voreingabe!$H$14 -> 0 | J16: =Voreingabe!$D$14 -> 0 | K16: =(G16-F16)+(I16-H16) -> 0 | L16: =+IF((J16-E16-K16)>=0,(J16-E16-K16),(J16-(E16-24)-K16)) -> 0 | M16: =IF(L16>12,"§9 AZG! ","-") -> - | N16: =IF(L16>6,IF(K16<0.5,"Pause!","-"),"-") -> - | O16: =Voreingabe!$I$14 -> 0 | P16: =L16-O16 -> 0 | Z16: =IF(AB16=0,"Okay","Fehler") -> Okay | AB16: =P16-T16-V16-W16-X16-Y16-R16-U16-S16 -> 0 | AC16: =IF(AND(J16>=0.1,J16<=12),J16+24,IF(J16>=12,J16,0)) -> 0 | AD16: =IF(E16>6.99,"1","2") -> 2 | AE16: =IF(AC16<18.99,"1","2") -> 1 | AF16: =IF(AC16>22,"2","1") -> 1 | AG16: =AD16+AE16+AF16 -> 4 | AJ16: =IF(L16>0.5,1," ")
B17: Wochensumme 1 | L17: =SUM(L10:L16) -> 6.5 | M17: =IF(L17>60,"§9 AZG! ","-") -> - | O17: =SUM(O10:O16) -> 6.5 | P17: =L17-O17 -> 0 | R17: =SUM(R10:R16) -> 0 | S17: =SUM(S10:S16) -> 0 | T17: =SUM(T10:T16) -> 0 | U17: =SUM(U10:U16) -> 0 | V17: =SUM(V10:V16) -> 0 | W17: =SUM(W10:W16) -> 0 | X17: =SUM(X10:X16) -> 0 | Y17: =SUM(Y10:Y16) -> 0 | Z17: =SUM(T17:Y17) -> 0
B18: Montag | C18: =C16+1 -> 46146 | E18: =Voreingabe!$C$8 -> 9 | F18: =Voreingabe!$E$8 -> 12 | G18: =Voreingabe!$F$8 -> 12.5 | H18: =Voreingabe!$G$8 -> 0 | I18: =Voreingabe!$H$8 -> 0 | J18: =Voreingabe!$D$8 -> 18 | K18: =(G18-F18)+(I18-H18) -> 0.5 | L18: =+IF((J18-E18-K18)>=0,(J18-E18-K18),(J18-(E18-24)-K18)) -> 8.5 | M18: =IF(L18>12,"§9 AZG! ","-") -> - | N18: =IF(L18>6,IF(K18<0.5,"Pause!","-"),"-") -> - | O18: =Voreingabe!$I$8 -> 8.5 | P18: =L18-O18 -> 0 | Q18: =IF(AND((J18-19)>2.99,(J18-E18)>3,J18>19),"JA","-") -> - | Z18: =IF(AB18=0,"Okay","Fehler") -> Okay | AB18: =P18-T18-V18-W18-X18-Y18-R18-U18-S18 -> 0 | AC18: =IF(AND(J18>=0.1,J18<=12),J18+24,IF(J18>=12,J18,0)) -> 18 | AD18: =IF(E18>6.99,"1","2") -> 1 | AE18: =IF(AC18<18.99,"1","2") -> 1 | AF18: =IF(AC18>22,"2","1") -> 1 | AG18: =AD18+AE18+AF18 -> 3 | AI18: =IF(D18="U",1," ") | AJ18: =IF(L18>0.5,1," ") -> 1
B19: Dienstag | C19: =C18+1 -> 46147 | E19: =Voreingabe!$C$9 -> 9 | F19: =Voreingabe!$E$9 -> 12 | G19: =Voreingabe!$F$9 -> 12.5 | H19: =Voreingabe!$G$9 -> 0 | I19: =Voreingabe!$H$9 -> 0 | J19: =Voreingabe!$D$9 -> 18 | K19: =(G19-F19)+(I19-H19) -> 0.5 | L19: =+IF((J19-E19-K19)>=0,(J19-E19-K19),(J19-(E19-24)-K19)) -> 8.5 | M19: =IF(L19>12,"§9 AZG! ","-") -> - | N19: =IF(L19>6,IF(K19<0.5,"Pause!","-"),"-") -> - | O19: =Voreingabe!$I$9 -> 8.5 | P19: =L19-O19 -> 0 | Q19: =IF(AND((J19-19)>2.99,(J19-E19)>3,J19>19),"JA","-") -> - | Z19: =IF(AB19=0,"Okay","Fehler") -> Okay | AB19: =P19-T19-V19-W19-X19-Y19-R19-U19-S19 -> 0 | AC19: =IF(AND(J19>=0.1,J19<=12),J19+24,IF(J19>=12,J19,0)) -> 18 | AD19: =IF(E19>6.99,"1","2") -> 1 | AE19: =IF(AC19<18.99,"1","2") -> 1 | AF19: =IF(AC19>22,"2","1") -> 1 | AG19: =AD19+AE19+AF19 -> 3 | AI19: =IF(D19="U",1," ") | AJ19: =IF(L19>0.5,1," ") -> 1
B20: Mittwoch | C20: =C19+1 -> 46148 | E20: =Voreingabe!$C$10 -> 9 | F20: =Voreingabe!$E$10 -> 12 | G20: =Voreingabe!$F$10 -> 12.5 | H20: =Voreingabe!$G$10 -> 0 | I20: =Voreingabe!$H$10 -> 0 | J20: =Voreingabe!$D$10 -> 17 | K20: =(G20-F20)+(I20-H20) -> 0.5 | L20: =+IF((J20-E20-K20)>=0,(J20-E20-K20),(J20-(E20-24)-K20)) -> 7.5 | M20: =IF(L20>12,"§9 AZG! ","-") -> - | N20: =IF(L20>6,IF(K20<0.5,"Pause!","-"),"-") -> - | O20: =Voreingabe!$I$10 -> 7.5 | P20: =L20-O20 -> 0 | Q20: =IF(AND((J20-19)>2.99,(J20-E20)>3,J20>19),"JA","-") -> - | Z20: =IF(AB20=0,"Okay","Fehler") -> Okay | AB20: =P20-T20-V20-W20-X20-Y20-R20-U20-S20 -> 0 | AC20: =IF(AND(J20>=0.1,J20<=12),J20+24,IF(J20>=12,J20,0)) -> 17 | AD20: =IF(E20>6.99,"1","2") -> 1 | AE20: =IF(AC20<18.99,"1","2") -> 1 | AF20: =IF(AC20>22,"2","1") -> 1 | AG20: =AD20+AE20+AF20 -> 3 | AI20: =IF(D20="U",1," ") | AJ20: =IF(L20>0.5,1," ") -> 1
B21: Donnerstag | C21: =C20+1 -> 46149 | E21: =Voreingabe!$C$11 -> 9 | F21: =Voreingabe!$E$11 -> 12 | G21: =Voreingabe!$F$11 -> 12.5 | H21: =Voreingabe!$G$11 -> 0 | I21: =Voreingabe!$H$11 -> 0 | J21: =Voreingabe!$D$11 -> 17 | K21: =(G21-F21)+(I21-H21) -> 0.5 | L21: =+IF((J21-E21-K21)>=0,(J21-E21-K21),(J21-(E21-24)-K21)) -> 7.5 | M21: =IF(L21>12,"§9 AZG! ","-") -> - | N21: =IF(L21>6,IF(K21<0.5,"Pause!","-"),"-") -> - | O21: =Voreingabe!$I$11 -> 7.5 | P21: =L21-O21 -> 0 | Q21: =IF(AND((J21-19)>2.99,(J21-E21)>3,J21>19),"JA","-") -> - | Z21: =IF(AB21=0,"Okay","Fehler") -> Okay | AB21: =P21-T21-V21-W21-X21-Y21-R21-U21-S21 -> 0 | AC21: =IF(AND(J21>=0.1,J21<=12),J21+24,IF(J21>=12,J21,0)) -> 17 | AD21: =IF(E21>6.99,"1","2") -> 1 | AE21: =IF(AC21<18.99,"1","2") -> 1 | AF21: =IF(AC21>22,"2","1") -> 1 | AG21: =AD21+AE21+AF21 -> 3 | AI21: =IF(D21="U",1," ") | AJ21: =IF(L21>0.5,1," ") -> 1
B22: Freitag | C22: =C21+1 -> 46150 | E22: =Voreingabe!$C$12 -> 9 | F22: =Voreingabe!$E$12 -> 12 | G22: =Voreingabe!$F$12 -> 12.5 | H22: =Voreingabe!$G$12 -> 0 | I22: =Voreingabe!$H$12 -> 0 | J22: =Voreingabe!$D$12 -> 16 | K22: =(G22-F22)+(I22-H22) -> 0.5 | L22: =+IF((J22-E22-K22)>=0,(J22-E22-K22),(J22-(E22-24)-K22)) -> 6.5 | M22: =IF(L22>12,"§9 AZG! ","-") -> - | N22: =IF(L22>6,IF(K22<0.5,"Pause!","-"),"-") -> - | O22: =Voreingabe!$I$12 -> 6.5 | P22: =L22-O22 -> 0 | Q22: =IF(AND((J22-19)>2.99,(J22-E22)>3,J22>19),"JA","-") -> - | Z22: =IF(AB22=0,"Okay","Fehler") -> Okay | AB22: =P22-T22-V22-W22-X22-Y22-R22-U22-S22 -> 0 | AC22: =IF(AND(J22>=0.1,J22<=12),J22+24,IF(J22>=12,J22,0)) -> 16 | AD22: =IF(E22>6.99,"1","2") -> 1 | AE22: =IF(AC22<18.99,"1","2") -> 1 | AF22: =IF(AC22>22,"2","1") -> 1 | AG22: =AD22+AE22+AF22 -> 3 | AI22: =IF(D22="U",1," ") | AJ22: =IF(L22>0.5,1," ") -> 1
B23: Samstag | C23: =C22+1 -> 46151 | E23: =Voreingabe!$C$13 -> 0 | F23: =Voreingabe!$E$13 -> 0 | G23: =Voreingabe!$F$13 -> 0 | H23: =Voreingabe!$G$13 -> 0 | I23: =Voreingabe!$H$13 -> 0 | J23: =Voreingabe!$D$13 -> 0 | K23: =(G23-F23)+(I23-H23) -> 0 | L23: =+IF((J23-E23-K23)>=0,(J23-E23-K23),(J23-(E23-24)-K23)) -> 0 | M23: =IF(L23>12,"§9 AZG! ","-") -> - | N23: =IF(L23>6,IF(K23<0.5,"Pause!","-"),"-") -> - | O23: =Voreingabe!$I$13 -> 0 | P23: =L23-O23 -> 0 | Q23: =IF(AND((J23-19)>2.99,(J23-E23)>3,J23>19),"JA","-") -> - | Z23: =IF(AB23=0,"Okay","Fehler") -> Okay | AB23: =P23-T23-V23-W23-X23-Y23-R23-U23-S23 -> 0 | AC23: =IF(AND(J23>=0.1,J23<=12),J23+24,IF(J23>=12,J23,0)) -> 0 | AD23: =IF(E23>6.99,"1","2") -> 2 | AE23: =IF(AC23<18.99,"1","2") -> 1 | AF23: =IF(AC23>22,"2","1") -> 1 | AG23: =AD23+AE23+AF23 -> 4 | AI23: =IF(D23="U",1," ") | AJ23: =IF(L23>0.5,1," ")
B24: Sonntag | C24: =C23+1 -> 46152 | E24: =Voreingabe!$C$14 -> 0 | F24: =Voreingabe!$E$14 -> 0 | G24: =Voreingabe!$F$14 -> 0 | H24: =Voreingabe!$G$14 -> 0 | I24: =Voreingabe!$H$14 -> 0 | J24: =Voreingabe!$D$14 -> 0 | K24: =(G24-F24)+(I24-H24) -> 0 | L24: =+IF((J24-E24-K24)>=0,(J24-E24-K24),(J24-(E24-24)-K24)) -> 0 | M24: =IF(L24>12,"§9 AZG! ","-") -> - | N24: =IF(L24>6,IF(K24<0.5,"Pause!","-"),"-") -> - | O24: =Voreingabe!$I$14 -> 0 | P24: =L24-O24 -> 0 | Q24: =IF(AND((J24-19)>2.99,(J24-E24)>3,J24>19),"JA","-") -> - | Z24: =IF(AB24=0,"Okay","Fehler") -> Okay | AB24: =P24-T24-V24-W24-X24-Y24-R24-U24-S24 -> 0 | AC24: =IF(AND(J24>=0.1,J24<=12),J24+24,IF(J24>=12,J24,0)) -> 0 | AD24: =IF(E24>6.99,"1","2") -> 2 | AE24: =IF(AC24<18.99,"1","2") -> 1 | AF24: =IF(AC24>22,"2","1") -> 1 | AG24: =AD24+AE24+AF24 -> 4 | AJ24: =IF(L24>0.5,1," ")
B25: Wochensumme 2 | L25: =SUM(L18:L24) -> 38.5 | M25: =IF(L25>60,"§9 AZG! ","-") -> - | O25: =SUM(O18:O24) -> 38.5 | P25: =L25-O25 -> 0 | R25: =SUM(R18:R24) -> 0 | S25: =SUM(S18:S24) -> 0 | T25: =SUM(T18:T24) -> 0 | U25: =SUM(U18:U24) -> 0 | V25: =SUM(V18:V24) -> 0 | W25: =SUM(W18:W24) -> 0 | X25: =SUM(X18:X24) -> 0 | Y25: =SUM(Y18:Y24) -> 0 | Z25: =SUM(T25:Y25) -> 0
B26: Montag | C26: =C24+1 -> 46153 | E26: =Voreingabe!$C$8 -> 9 | F26: =Voreingabe!$E$8 -> 12 | G26: =Voreingabe!$F$8 -> 12.5 | H26: =Voreingabe!$G$8 -> 0 | I26: =Voreingabe!$H$8 -> 0 | J26: =Voreingabe!$D$8 -> 18 | K26: =(G26-F26)+(I26-H26) -> 0.5 | L26: =+IF((J26-E26-K26)>=0,(J26-E26-K26),(J26-(E26-24)-K26)) -> 8.5 | M26: =IF(L26>12,"§9 AZG! ","-") -> - | N26: =IF(L26>6,IF(K26<0.5,"Pause!","-"),"-") -> - | O26: =Voreingabe!$I$8 -> 8.5 | P26: =L26-O26 -> 0 | Q26: =IF(AND((J26-19)>2.99,(J26-E26)>3,J26>19),"JA","-") -> - | Z26: =IF(AB26=0,"Okay","Fehler") -> Okay | AB26: =P26-T26-V26-W26-X26-Y26-R26-U26-S26 -> 0 | AC26: =IF(AND(J26>=0.1,J26<=12),J26+24,IF(J26>=12,J26,0)) -> 18 | AD26: =IF(E26>6.99,"1","2") -> 1 | AE26: =IF(AC26<18.99,"1","2") -> 1 | AF26: =IF(AC26>22,"2","1") -> 1 | AG26: =AD26+AE26+AF26 -> 3 | AI26: =IF(D26="U",1," ") | AJ26: =IF(L26>0.5,1," ") -> 1
B27: Dienstag | C27: =C26+1 -> 46154 | E27: =Voreingabe!$C$9 -> 9 | F27: =Voreingabe!$E$9 -> 12 | G27: =Voreingabe!$F$9 -> 12.5 | H27: =Voreingabe!$G$9 -> 0 | I27: =Voreingabe!$H$9 -> 0 | J27: =Voreingabe!$D$9 -> 18 | K27: =(G27-F27)+(I27-H27) -> 0.5 | L27: =+IF((J27-E27-K27)>=0,(J27-E27-K27),(J27-(E27-24)-K27)) -> 8.5 | M27: =IF(L27>12,"§9 AZG! ","-") -> - | N27: =IF(L27>6,IF(K27<0.5,"Pause!","-"),"-") -> - | O27: =Voreingabe!$I$9 -> 8.5 | P27: =L27-O27 -> 0 | Q27: =IF(AND((J27-19)>2.99,(J27-E27)>3,J27>19),"JA","-") -> - | Z27: =IF(AB27=0,"Okay","Fehler") -> Okay | AB27: =P27-T27-V27-W27-X27-Y27-R27-U27-S27 -> 0 | AC27: =IF(AND(J27>=0.1,J27<=12),J27+24,IF(J27>=12,J27,0)) -> 18 | AD27: =IF(E27>6.99,"1","2") -> 1 | AE27: =IF(AC27<18.99,"1","2") -> 1 | AF27: =IF(AC27>22,"2","1") -> 1 | AG27: =AD27+AE27+AF27 -> 3 | AI27: =IF(D27="U",1," ") | AJ27: =IF(L27>0.5,1," ") -> 1
B28: Mittwoch | C28: =C27+1 -> 46155 | E28: =Voreingabe!$C$10 -> 9 | F28: =Voreingabe!$E$10 -> 12 | G28: =Voreingabe!$F$10 -> 12.5 | H28: =Voreingabe!$G$10 -> 0 | I28: =Voreingabe!$H$10 -> 0 | J28: =Voreingabe!$D$10 -> 17 | K28: =(G28-F28)+(I28-H28) -> 0.5 | L28: =+IF((J28-E28-K28)>=0,(J28-E28-K28),(J28-(E28-24)-K28)) -> 7.5 | M28: =IF(L28>12,"§9 AZG! ","-") -> - | N28: =IF(L28>6,IF(K28<0.5,"Pause!","-"),"-") -> - | O28: =Voreingabe!$I$10 -> 7.5 | P28: =L28-O28 -> 0 | Q28: =IF(AND((J28-19)>2.99,(J28-E28)>3,J28>19),"JA","-") -> - | Z28: =IF(AB28=0,"Okay","Fehler") -> Okay | AB28: =P28-T28-V28-W28-X28-Y28-R28-U28-S28 -> 0 | AC28: =IF(AND(J28>=0.1,J28<=12),J28+24,IF(J28>=12,J28,0)) -> 17 | AD28: =IF(E28>6.99,"1","2") -> 1 | AE28: =IF(AC28<18.99,"1","2") -> 1 | AF28: =IF(AC28>22,"2","1") -> 1 | AG28: =AD28+AE28+AF28 -> 3 | AI28: =IF(D28="U",1," ") | AJ28: =IF(L28>0.5,1," ") -> 1
B29: Donnerstag | C29: =C28+1 -> 46156 | D29: FE | E29: =Voreingabe!$C$11 -> 9 | F29: =Voreingabe!$E$11 -> 12 | G29: =Voreingabe!$F$11 -> 12.5 | H29: =Voreingabe!$G$11 -> 0 | I29: =Voreingabe!$H$11 -> 0 | J29: =Voreingabe!$D$11 -> 17 | K29: =(G29-F29)+(I29-H29) -> 0.5 | L29: =+IF((J29-E29-K29)>=0,(J29-E29-K29),(J29-(E29-24)-K29)) -> 7.5 | M29: =IF(L29>12,"§9 AZG! ","-") -> - | N29: =IF(L29>6,IF(K29<0.5,"Pause!","-"),"-") -> - | O29: =Voreingabe!$I$11 -> 7.5 | P29: =L29-O29 -> 0 | Q29: =IF(AND((J29-19)>2.99,(J29-E29)>3,J29>19),"JA","-") -> - | Z29: =IF(AB29=0,"Okay","Fehler") -> Okay | AB29: =P29-T29-V29-W29-X29-Y29-R29-U29-S29 -> 0 | AC29: =IF(AND(J29>=0.1,J29<=12),J29+24,IF(J29>=12,J29,0)) -> 17 | AD29: =IF(E29>6.99,"1","2") -> 1 | AE29: =IF(AC29<18.99,"1","2") -> 1 | AF29: =IF(AC29>22,"2","1") -> 1 | AG29: =AD29+AE29+AF29 -> 3 | AI29: =IF(D29="U",1," ") | AJ29: =IF(L29>0.5,1," ") -> 1
B30: Freitag | C30: =C29+1 -> 46157 | E30: =Voreingabe!$C$12 -> 9 | F30: =Voreingabe!$E$12 -> 12 | G30: =Voreingabe!$F$12 -> 12.5 | H30: =Voreingabe!$G$12 -> 0 | I30: =Voreingabe!$H$12 -> 0 | J30: =Voreingabe!$D$12 -> 16 | K30: =(G30-F30)+(I30-H30) -> 0.5 | L30: =+IF((J30-E30-K30)>=0,(J30-E30-K30),(J30-(E30-24)-K30)) -> 6.5 | M30: =IF(L30>12,"§9 AZG! ","-") -> - | N30: =IF(L30>6,IF(K30<0.5,"Pause!","-"),"-") -> - | O30: =Voreingabe!$I$12 -> 6.5 | P30: =L30-O30 -> 0 | Q30: =IF(AND((J30-19)>2.99,(J30-E30)>3,J30>19),"JA","-") -> - | Z30: =IF(AB30=0,"Okay","Fehler") -> Okay | AB30: =P30-T30-V30-W30-X30-Y30-R30-U30-S30 -> 0 | AC30: =IF(AND(J30>=0.1,J30<=12),J30+24,IF(J30>=12,J30,0)) -> 16 | AD30: =IF(E30>6.99,"1","2") -> 1 | AE30: =IF(AC30<18.99,"1","2") -> 1 | AF30: =IF(AC30>22,"2","1") -> 1 | AG30: =AD30+AE30+AF30 -> 3 | AI30: =IF(D30="U",1," ") | AJ30: =IF(L30>0.5,1," ") -> 1
B31: Samstag | C31: =C30+1 -> 46158 | E31: =Voreingabe!$C$13 -> 0 | F31: =Voreingabe!$E$13 -> 0 | G31: =Voreingabe!$F$13 -> 0 | H31: =Voreingabe!$G$13 -> 0 | I31: =Voreingabe!$H$13 -> 0 | J31: =Voreingabe!$D$13 -> 0 | K31: =(G31-F31)+(I31-H31) -> 0 | L31: =+IF((J31-E31-K31)>=0,(J31-E31-K31),(J31-(E31-24)-K31)) -> 0 | M31: =IF(L31>12,"§9 AZG! ","-") -> - | N31: =IF(L31>6,IF(K31<0.5,"Pause!","-"),"-") -> - | O31: =Voreingabe!$I$13 -> 0 | P31: =L31-O31 -> 0 | Q31: =IF(AND((J31-19)>2.99,(J31-E31)>3,J31>19),"JA","-") -> - | Z31: =IF(AB31=0,"Okay","Fehler") -> Okay | AB31: =P31-T31-V31-W31-X31-Y31-R31-U31-S31 -> 0 | AC31: =IF(AND(J31>=0.1,J31<=12),J31+24,IF(J31>=12,J31,0)) -> 0 | AD31: =IF(E31>6.99,"1","2") -> 2 | AE31: =IF(AC31<18.99,"1","2") -> 1 | AF31: =IF(AC31>22,"2","1") -> 1 | AG31: =AD31+AE31+AF31 -> 4 | AI31: =IF(D31="U",1," ") | AJ31: =IF(L31>0.5,1," ")
B32: Sonntag | C32: =C31+1 -> 46159 | E32: =Voreingabe!$C$14 -> 0 | F32: =Voreingabe!$E$14 -> 0 | G32: =Voreingabe!$F$14 -> 0 | H32: =Voreingabe!$G$14 -> 0 | I32: =Voreingabe!$H$14 -> 0 | J32: =Voreingabe!$D$14 -> 0 | K32: =(G32-F32)+(I32-H32) -> 0 | L32: =+IF((J32-E32-K32)>=0,(J32-E32-K32),(J32-(E32-24)-K32)) -> 0 | M32: =IF(L32>12,"§9 AZG! ","-") -> - | N32: =IF(L32>6,IF(K32<0.5,"Pause!","-"),"-") -> - | O32: =Voreingabe!$I$14 -> 0 | P32: =L32-O32 -> 0 | Q32: =IF(AND((J32-19)>2.99,(J32-E32)>3,J32>19),"JA","-") -> - | Z32: =IF(AB32=0,"Okay","Fehler") -> Okay | AB32: =P32-T32-V32-W32-X32-Y32-R32-U32-S32 -> 0 | AC32: =IF(AND(J32>=0.1,J32<=12),J32+24,IF(J32>=12,J32,0)) -> 0 | AD32: =IF(E32>6.99,"1","2") -> 2 | AE32: =IF(AC32<18.99,"1","2") -> 1 | AF32: =IF(AC32>22,"2","1") -> 1 | AG32: =AD32+AE32+AF32 -> 4 | AJ32: =IF(L32>0.5,1," ")
B33: Wochensumme 3 | L33: =SUM(L26:L32) -> 38.5 | M33: =IF(L33>60,"§9 AZG! ","-") -> - | O33: =SUM(O26:O32) -> 38.5 | P33: =L33-O33 -> 0 | R33: =SUM(R26:R32) -> 0 | S33: =SUM(S26:S32) -> 0 | T33: =SUM(T26:T32) -> 0 | U33: =SUM(U26:U32) -> 0 | V33: =SUM(V26:V32) -> 0 | W33: =SUM(W26:W32) -> 0 | X33: =SUM(X26:X32) -> 0 | Y33: =SUM(Y26:Y32) -> 0 | Z33: =SUM(T33:Y33) -> 0
B34: Montag | C34: =C32+1 -> 46160 | E34: =Voreingabe!$C$8 -> 9 | F34: =Voreingabe!$E$8 -> 12 | G34: =Voreingabe!$F$8 -> 12.5 | H34: =Voreingabe!$G$8 -> 0 | I34: =Voreingabe!$H$8 -> 0 | J34: =Voreingabe!$D$8 -> 18 | K34: =(G34-F34)+(I34-H34) -> 0.5 | L34: =+IF((J34-E34-K34)>=0,(J34-E34-K34),(J34-(E34-24)-K34)) -> 8.5 | M34: =IF(L34>12,"§9 AZG! ","-") -> - | N34: =IF(L34>6,IF(K34<0.5,"Pause!","-"),"-") -> - | O34: =Voreingabe!$I$8 -> 8.5 | P34: =L34-O34 -> 0 | Q34: =IF(AND((J34-19)>2.99,(J34-E34)>3,J34>19),"JA","-") -> - | Z34: =IF(AB34=0,"Okay","Fehler") -> Okay | AB34: =P34-T34-V34-W34-X34-Y34-R34-U34-S34 -> 0 | AC34: =IF(AND(J34>=0.1,J34<=12),J34+24,IF(J34>=12,J34,0)) -> 18 | AD34: =IF(E34>6.99,"1","2") -> 1 | AE34: =IF(AC34<18.99,"1","2") -> 1 | AF34: =IF(AC34>22,"2","1") -> 1 | AG34: =AD34+AE34+AF34 -> 3 | AI34: =IF(D34="U",1," ") | AJ34: =IF(L34>0.5,1," ") -> 1
B35: Dienstag | C35: =C34+1 -> 46161 | E35: =Voreingabe!$C$9 -> 9 | F35: =Voreingabe!$E$9 -> 12 | G35: =Voreingabe!$F$9 -> 12.5 | H35: =Voreingabe!$G$9 -> 0 | I35: =Voreingabe!$H$9 -> 0 | J35: =Voreingabe!$D$9 -> 18 | K35: =(G35-F35)+(I35-H35) -> 0.5 | L35: =+IF((J35-E35-K35)>=0,(J35-E35-K35),(J35-(E35-24)-K35)) -> 8.5 | M35: =IF(L35>12,"§9 AZG! ","-") -> - | N35: =IF(L35>6,IF(K35<0.5,"Pause!","-"),"-") -> - | O35: =Voreingabe!$I$9 -> 8.5 | P35: =L35-O35 -> 0 | Q35: =IF(AND((J35-19)>2.99,(J35-E35)>3,J35>19),"JA","-") -> - | Z35: =IF(AB35=0,"Okay","Fehler") -> Okay | AB35: =P35-T35-V35-W35-X35-Y35-R35-U35-S35 -> 0 | AC35: =IF(AND(J35>=0.1,J35<=12),J35+24,IF(J35>=12,J35,0)) -> 18 | AD35: =IF(E35>6.99,"1","2") -> 1 | AE35: =IF(AC35<18.99,"1","2") -> 1 | AF35: =IF(AC35>22,"2","1") -> 1 | AG35: =AD35+AE35+AF35 -> 3 | AI35: =IF(D35="U",1," ") | AJ35: =IF(L35>0.5,1," ") -> 1
B36: Mittwoch | C36: =C35+1 -> 46162 | E36: =Voreingabe!$C$10 -> 9 | F36: =Voreingabe!$E$10 -> 12 | G36: =Voreingabe!$F$10 -> 12.5 | H36: =Voreingabe!$G$10 -> 0 | I36: =Voreingabe!$H$10 -> 0 | J36: =Voreingabe!$D$10 -> 17 | K36: =(G36-F36)+(I36-H36) -> 0.5 | L36: =+IF((J36-E36-K36)>=0,(J36-E36-K36),(J36-(E36-24)-K36)) -> 7.5 | M36: =IF(L36>12,"§9 AZG! ","-") -> - | N36: =IF(L36>6,IF(K36<0.5,"Pause!","-"),"-") -> - | O36: =Voreingabe!$I$10 -> 7.5 | P36: =L36-O36 -> 0 | Q36: =IF(AND((J36-19)>2.99,(J36-E36)>3,J36>19),"JA","-") -> - | Z36: =IF(AB36=0,"Okay","Fehler") -> Okay | AB36: =P36-T36-V36-W36-X36-Y36-R36-U36-S36 -> 0 | AC36: =IF(AND(J36>=0.1,J36<=12),J36+24,IF(J36>=12,J36,0)) -> 17 | AD36: =IF(E36>6.99,"1","2") -> 1 | AE36: =IF(AC36<18.99,"1","2") -> 1 | AF36: =IF(AC36>22,"2","1") -> 1 | AG36: =AD36+AE36+AF36 -> 3 | AI36: =IF(D36="U",1," ") | AJ36: =IF(L36>0.5,1," ") -> 1
B37: Donnerstag | C37: =C36+1 -> 46163 | E37: =Voreingabe!$C$11 -> 9 | F37: =Voreingabe!$E$11 -> 12 | G37: =Voreingabe!$F$11 -> 12.5 | H37: =Voreingabe!$G$11 -> 0 | I37: =Voreingabe!$H$11 -> 0 | J37: =Voreingabe!$D$11 -> 17 | K37: =(G37-F37)+(I37-H37) -> 0.5 | L37: =+IF((J37-E37-K37)>=0,(J37-E37-K37),(J37-(E37-24)-K37)) -> 7.5 | M37: =IF(L37>12,"§9 AZG! ","-") -> - | N37: =IF(L37>6,IF(K37<0.5,"Pause!","-"),"-") -> - | O37: =Voreingabe!$I$11 -> 7.5 | P37: =L37-O37 -> 0 | Q37: =IF(AND((J37-19)>2.99,(J37-E37)>3,J37>19),"JA","-") -> - | Z37: =IF(AB37=0,"Okay","Fehler") -> Okay | AB37: =P37-T37-V37-W37-X37-Y37-R37-U37-S37 -> 0 | AC37: =IF(AND(J37>=0.1,J37<=12),J37+24,IF(J37>=12,J37,0)) -> 17 | AD37: =IF(E37>6.99,"1","2") -> 1 | AE37: =IF(AC37<18.99,"1","2") -> 1 | AF37: =IF(AC37>22,"2","1") -> 1 | AG37: =AD37+AE37+AF37 -> 3 | AI37: =IF(D37="U",1," ") | AJ37: =IF(L37>0.5,1," ") -> 1
B38: Freitag | C38: =C37+1 -> 46164 | E38: =Voreingabe!$C$12 -> 9 | F38: =Voreingabe!$E$12 -> 12 | G38: =Voreingabe!$F$12 -> 12.5 | H38: =Voreingabe!$G$12 -> 0 | I38: =Voreingabe!$H$12 -> 0 | J38: =Voreingabe!$D$12 -> 16 | K38: =(G38-F38)+(I38-H38) -> 0.5 | L38: =+IF((J38-E38-K38)>=0,(J38-E38-K38),(J38-(E38-24)-K38)) -> 6.5 | M38: =IF(L38>12,"§9 AZG! ","-") -> - | N38: =IF(L38>6,IF(K38<0.5,"Pause!","-"),"-") -> - | O38: =Voreingabe!$I$12 -> 6.5 | P38: =L38-O38 -> 0 | Q38: =IF(AND((J38-19)>2.99,(J38-E38)>3,J38>19),"JA","-") -> - | Z38: =IF(AB38=0,"Okay","Fehler") -> Okay | AB38: =P38-T38-V38-W38-X38-Y38-R38-U38-S38 -> 0 | AC38: =IF(AND(J38>=0.1,J38<=12),J38+24,IF(J38>=12,J38,0)) -> 16 | AD38: =IF(E38>6.99,"1","2") -> 1 | AE38: =IF(AC38<18.99,"1","2") -> 1 | AF38: =IF(AC38>22,"2","1") -> 1 | AG38: =AD38+AE38+AF38 -> 3 | AI38: =IF(D38="U",1," ") | AJ38: =IF(L38>0.5,1," ") -> 1
B39: Samstag | C39: =C38+1 -> 46165 | E39: =Voreingabe!$C$13 -> 0 | F39: =Voreingabe!$E$13 -> 0 | G39: =Voreingabe!$F$13 -> 0 | H39: =Voreingabe!$G$13 -> 0 | I39: =Voreingabe!$H$13 -> 0 | J39: =Voreingabe!$D$13 -> 0 | K39: =(G39-F39)+(I39-H39) -> 0 | L39: =+IF((J39-E39-K39)>=0,(J39-E39-K39),(J39-(E39-24)-K39)) -> 0 | M39: =IF(L39>12,"§9 AZG! ","-") -> - | N39: =IF(L39>6,IF(K39<0.5,"Pause!","-"),"-") -> - | O39: =Voreingabe!$I$13 -> 0 | P39: =L39-O39 -> 0 | Q39: =IF(AND((J39-19)>2.99,(J39-E39)>3,J39>19),"JA","-") -> - | Z39: =IF(AB39=0,"Okay","Fehler") -> Okay | AB39: =P39-T39-V39-W39-X39-Y39-R39-U39-S39 -> 0 | AC39: =IF(AND(J39>=0.1,J39<=12),J39+24,IF(J39>=12,J39,0)) -> 0 | AD39: =IF(E39>6.99,"1","2") -> 2 | AE39: =IF(AC39<18.99,"1","2") -> 1 | AF39: =IF(AC39>22,"2","1") -> 1 | AG39: =AD39+AE39+AF39 -> 4 | AI39: =IF(D39="U",1," ") | AJ39: =IF(L39>0.5,1," ")
B40: Sonntag | C40: =C39+1 -> 46166 | E40: =Voreingabe!$C$14 -> 0 | F40: =Voreingabe!$E$14 -> 0 | G40: =Voreingabe!$F$14 -> 0 | H40: =Voreingabe!$G$14 -> 0 | I40: =Voreingabe!$H$14 -> 0 | J40: =Voreingabe!$D$14 -> 0 | K40: =(G40-F40)+(I40-H40) -> 0 | L40: =+IF((J40-E40-K40)>=0,(J40-E40-K40),(J40-(E40-24)-K40)) -> 0 | M40: =IF(L40>12,"§9 AZG! ","-") -> - | N40: =IF(L40>6,IF(K40<0.5,"Pause!","-"),"-") -> - | O40: =Voreingabe!$I$14 -> 0 | P40: =L40-O40 -> 0 | Q40: =IF(AND((J40-19)>2.99,(J40-E40)>3,J40>19),"JA","-") -> - | Z40: =IF(AB40=0,"Okay","Fehler") -> Okay | AB40: =P40-T40-V40-W40-X40-Y40-R40-U40-S40 -> 0 | AC40: =IF(AND(J40>=0.1,J40<=12),J40+24,IF(J40>=12,J40,0)) -> 0 | AD40: =IF(E40>6.99,"1","2") -> 2 | AE40: =IF(AC40<18.99,"1","2") -> 1 | AF40: =IF(AC40>22,"2","1") -> 1 | AG40: =AD40+AE40+AF40 -> 4 | AJ40: =IF(L40>0.5,1," ")
B41: Wochensumme 4 | L41: =SUM(L34:L40) -> 38.5 | M41: =IF(L41>60,"§9 AZG! ","-") -> - | O41: =SUM(O34:O40) -> 38.5 | P41: =L41-O41 -> 0 | R41: =SUM(R34:R40) -> 0 | S41: =SUM(S34:S40) -> 0 | T41: =SUM(T34:T40) -> 0 | U41: =SUM(U34:U40) -> 0 | V41: =SUM(V34:V40) -> 0 | W41: =SUM(W34:W40) -> 0 | X41: =SUM(X34:X40) -> 0 | Y41: =SUM(Y34:Y40) -> 0 | Z41: =SUM(T41:Y41) -> 0
B42: Montag | C42: =C40+1 -> 46167 | D42: FE | E42: =Voreingabe!$C$8 -> 9 | F42: =Voreingabe!$E$8 -> 12 | G42: =Voreingabe!$F$8 -> 12.5 | H42: =Voreingabe!$G$8 -> 0 | I42: =Voreingabe!$H$8 -> 0 | J42: =Voreingabe!$D$8 -> 18 | K42: =(G42-F42)+(I42-H42) -> 0.5 | L42: =+IF((J42-E42-K42)>=0,(J42-E42-K42),(J42-(E42-24)-K42)) -> 8.5 | M42: =IF(L42>12,"§9 AZG! ","-") -> - | N42: =IF(L42>6,IF(K42<0.5,"Pause!","-"),"-") -> - | O42: =Voreingabe!$I$8 -> 8.5 | P42: =L42-O42 -> 0 | Q42: =IF(AND((J42-19)>2.99,(J42-E42)>3,J42>19),"JA","-") -> - | Z42: =IF(AB42=0,"Okay","Fehler") -> Okay | AB42: =P42-T42-V42-W42-X42-Y42-R42-U42-S42 -> 0 | AC42: =IF(AND(J42>=0.1,J42<=12),J42+24,IF(J42>=12,J42,0)) -> 18 | AD42: =IF(E42>6.99,"1","2") -> 1 | AE42: =IF(AC42<18.99,"1","2") -> 1 | AF42: =IF(AC42>22,"2","1") -> 1 | AG42: =AD42+AE42+AF42 -> 3 | AI42: =IF(D42="U",1," ") | AJ42: =IF(L42>0.5,1," ") -> 1
B43: Dienstag | C43: =C42+1 -> 46168 | E43: =Voreingabe!$C$9 -> 9 | F43: =Voreingabe!$E$9 -> 12 | G43: =Voreingabe!$F$9 -> 12.5 | H43: =Voreingabe!$G$9 -> 0 | I43: =Voreingabe!$H$9 -> 0 | J43: =Voreingabe!$D$9 -> 18 | K43: =(G43-F43)+(I43-H43) -> 0.5 | L43: =+IF((J43-E43-K43)>=0,(J43-E43-K43),(J43-(E43-24)-K43)) -> 8.5 | M43: =IF(L43>12,"§9 AZG! ","-") -> - | N43: =IF(L43>6,IF(K43<0.5,"Pause!","-"),"-") -> - | O43: =Voreingabe!$I$9 -> 8.5 | P43: =L43-O43 -> 0 | Q43: =IF(AND((J43-19)>2.99,(J43-E43)>3,J43>19),"JA","-") -> - | Z43: =IF(AB43=0,"Okay","Fehler") -> Okay | AB43: =P43-T43-V43-W43-X43-Y43-R43-U43-S43 -> 0 | AC43: =IF(AND(J43>=0.1,J43<=12),J43+24,IF(J43>=12,J43,0)) -> 18 | AD43: =IF(E43>6.99,"1","2") -> 1 | AE43: =IF(AC43<18.99,"1","2") -> 1 | AF43: =IF(AC43>22,"2","1") -> 1 | AG43: =AD43+AE43+AF43 -> 3 | AI43: =IF(D43="U",1," ") | AJ43: =IF(L43>0.5,1," ") -> 1
B44: Mittwoch | C44: =C43+1 -> 46169 | E44: =Voreingabe!$C$10 -> 9 | F44: =Voreingabe!$E$10 -> 12 | G44: =Voreingabe!$F$10 -> 12.5 | H44: =Voreingabe!$G$10 -> 0 | I44: =Voreingabe!$H$10 -> 0 | J44: =Voreingabe!$D$10 -> 17 | K44: =(G44-F44)+(I44-H44) -> 0.5 | L44: =+IF((J44-E44-K44)>=0,(J44-E44-K44),(J44-(E44-24)-K44)) -> 7.5 | M44: =IF(L44>12,"§9 AZG! ","-") -> - | N44: =IF(L44>6,IF(K44<0.5,"Pause!","-"),"-") -> - | O44: =Voreingabe!$I$10 -> 7.5 | P44: =L44-O44 -> 0 | Q44: =IF(AND((J44-19)>2.99,(J44-E44)>3,J44>19),"JA","-") -> - | Z44: =IF(AB44=0,"Okay","Fehler") -> Okay | AB44: =P44-T44-V44-W44-X44-Y44-R44-U44-S44 -> 0 | AC44: =IF(AND(J44>=0.1,J44<=12),J44+24,IF(J44>=12,J44,0)) -> 17 | AD44: =IF(E44>6.99,"1","2") -> 1 | AE44: =IF(AC44<18.99,"1","2") -> 1 | AF44: =IF(AC44>22,"2","1") -> 1 | AG44: =AD44+AE44+AF44 -> 3 | AI44: =IF(D44="U",1," ") | AJ44: =IF(L44>0.5,1," ") -> 1
B45: Donnerstag | C45: =C44+1 -> 46170 | E45: =Voreingabe!$C$11 -> 9 | F45: =Voreingabe!$E$11 -> 12 | G45: =Voreingabe!$F$11 -> 12.5 | H45: =Voreingabe!$G$11 -> 0 | I45: =Voreingabe!$H$11 -> 0 | J45: =Voreingabe!$D$11 -> 17 | K45: =(G45-F45)+(I45-H45) -> 0.5 | L45: =+IF((J45-E45-K45)>=0,(J45-E45-K45),(J45-(E45-24)-K45)) -> 7.5 | M45: =IF(L45>12,"§9 AZG! ","-") -> - | N45: =IF(L45>6,IF(K45<0.5,"Pause!","-"),"-") -> - | O45: =Voreingabe!$I$11 -> 7.5 | P45: =L45-O45 -> 0 | Q45: =IF(AND((J45-19)>2.99,(J45-E45)>3,J45>19),"JA","-") -> - | Z45: =IF(AB45=0,"Okay","Fehler") -> Okay | AB45: =P45-T45-V45-W45-X45-Y45-R45-U45-S45 -> 0 | AC45: =IF(AND(J45>=0.1,J45<=12),J45+24,IF(J45>=12,J45,0)) -> 17 | AD45: =IF(E45>6.99,"1","2") -> 1 | AE45: =IF(AC45<18.99,"1","2") -> 1 | AF45: =IF(AC45>22,"2","1") -> 1 | AG45: =AD45+AE45+AF45 -> 3 | AI45: =IF(D45="U",1," ") | AJ45: =IF(L45>0.5,1," ") -> 1
B46: Freitag | C46: =C45+1 -> 46171 | E46: =Voreingabe!$C$12 -> 9 | F46: =Voreingabe!$E$12 -> 12 | G46: =Voreingabe!$F$12 -> 12.5 | H46: =Voreingabe!$G$12 -> 0 | I46: =Voreingabe!$H$12 -> 0 | J46: =Voreingabe!$D$12 -> 16 | K46: =(G46-F46)+(I46-H46) -> 0.5 | L46: =+IF((J46-E46-K46)>=0,(J46-E46-K46),(J46-(E46-24)-K46)) -> 6.5 | M46: =IF(L46>12,"§9 AZG! ","-") -> - | N46: =IF(L46>6,IF(K46<0.5,"Pause!","-"),"-") -> - | O46: =Voreingabe!$I$12 -> 6.5 | P46: =L46-O46 -> 0 | Q46: =IF(AND((J46-19)>2.99,(J46-E46)>3,J46>19),"JA","-") -> - | Z46: =IF(AB46=0,"Okay","Fehler") -> Okay | AB46: =P46-T46-V46-W46-X46-Y46-R46-U46-S46 -> 0 | AC46: =IF(AND(J46>=0.1,J46<=12),J46+24,IF(J46>=12,J46,0)) -> 16 | AD46: =IF(E46>6.99,"1","2") -> 1 | AE46: =IF(AC46<18.99,"1","2") -> 1 | AF46: =IF(AC46>22,"2","1") -> 1 | AG46: =AD46+AE46+AF46 -> 3 | AI46: =IF(D46="U",1," ") | AJ46: =IF(L46>0.5,1," ") -> 1
B47: Samstag | C47: =C46+1 -> 46172 | E47: =Voreingabe!$C$13 -> 0 | F47: =Voreingabe!$E$13 -> 0 | G47: =Voreingabe!$F$13 -> 0 | H47: =Voreingabe!$G$13 -> 0 | I47: =Voreingabe!$H$13 -> 0 | J47: =Voreingabe!$D$13 -> 0 | K47: =(G47-F47)+(I47-H47) -> 0 | L47: =+IF((J47-E47-K47)>=0,(J47-E47-K47),(J47-(E47-24)-K47)) -> 0 | M47: =IF(L47>12,"§9 AZG! ","-") -> - | N47: =IF(L47>6,IF(K47<0.5,"Pause!","-"),"-") -> - | O47: =Voreingabe!$I$13 -> 0 | P47: =L47-O47 -> 0 | Z47: =IF(AB47=0,"Okay","Fehler") -> Okay | AB47: =P47-T47-V47-W47-X47-Y47-R47-U47-S47 -> 0 | AC47: =IF(AND(J47>=0.1,J47<=12),J47+24,IF(J47>=12,J47,0)) -> 0 | AD47: =IF(E47>6.99,"1","2") -> 2 | AE47: =IF(AC47<18.99,"1","2") -> 1 | AF47: =IF(AC47>22,"2","1") -> 1 | AG47: =AD47+AE47+AF47 -> 4 | AI47: =IF(D47="U",1," ") | AJ47: =IF(L47>0.5,1," ")
B48: Sonntag | C48: =C47+1 -> 46173 | E48: =Voreingabe!$C$14 -> 0 | F48: =Voreingabe!$E$14 -> 0 | G48: =Voreingabe!$F$14 -> 0 | H48: =Voreingabe!$G$14 -> 0 | I48: =Voreingabe!$H$14 -> 0 | J48: =Voreingabe!$D$14 -> 0 | K48: =(G48-F48)+(I48-H48) -> 0 | L48: =+IF((J48-E48-K48)>=0,(J48-E48-K48),(J48-(E48-24)-K48)) -> 0 | M48: =IF(L48>12,"§9 AZG! ","-") -> - | N48: =IF(L48>6,IF(K48<0.5,"Pause!","-"),"-") -> - | O48: =Voreingabe!$I$14 -> 0 | P48: =L48-O48 -> 0 | Q48: =IF(AND((J48-19)>2.99,(J48-E48)>3,J48>19),"JA","-") -> - | Z48: =IF(AB48=0,"Okay","Fehler") -> Okay | AB48: =P48-T48-V48-W48-X48-Y48-R48-U48-S48 -> 0 | AC48: =IF(AND(J48>=0.1,J48<=12),J48+24,IF(J48>=12,J48,0)) -> 0 | AD48: =IF(E48>6.99,"1","2") -> 2 | AE48: =IF(AC48<18.99,"1","2") -> 1 | AF48: =IF(AC48>22,"2","1") -> 1 | AG48: =AD48+AE48+AF48 -> 4 | AJ48: =IF(L48>0.5,1," ")
B49: Wochensumme 5 | L49: =SUM(L42:L48) -> 38.5 | M49: =IF(L49>60,"§9 AZG! ","-") -> - | O49: =SUM(O42:O48) -> 38.5 | P49: =L49-O49 -> 0 | R49: =SUM(R42:R48) -> 0 | S49: =SUM(S42:S48) -> 0 | T49: =SUM(T42:T48) -> 0 | U49: =SUM(U42:U48) -> 0 | V49: =SUM(V42:V48) -> 0 | W49: =SUM(W42:W48) -> 0 | X49: =SUM(X42:X48) -> 0 | Y49: =SUM(Y42:Y48) -> 0 | Z49: =SUM(T49:Y49) -> 0
B50: Montag | Q50: =IF(AND((J50-19)>2.99,(J50-E50)>3,J50>19),"JA","-") -> - | Z50: =IF(AB50=0,"Okay","Fehler") -> Okay | AB50: =P50-T50-V50-W50-X50-Y50-R50-U50-S50 -> 0 | AC50: =IF(AND(J50>=0.1,J50<=12),J50+24,IF(J50>=12,J50,0)) -> 0 | AD50: =IF(E50>6.99,"1","2") -> 2 | AE50: =IF(AC50<18.99,"1","2") -> 1 | AF50: =IF(AC50>22,"2","1") -> 1 | AG50: =AD50+AE50+AF50 -> 4 | AI50: =IF(D50="U",1," ") | AJ50: =IF(L50>0.5,1," ")
B51: Dienstag | Z51: =IF(AB51=0,"Okay","Fehler") -> Okay | AB51: =P51-T51-V51-W51-X51-Y51-R51-U51-S51 -> 0 | AC51: =IF(AND(J51>=0.1,J51<=12),J51+24,IF(J51>=12,J51,0)) -> 0 | AD51: =IF(E51>6.99,"1","2") -> 2 | AE51: =IF(AC51<18.99,"1","2") -> 1 | AF51: =IF(AC51>22,"2","1") -> 1 | AG51: =AD51+AE51+AF51 -> 4 | AI51: =IF(D51="U",1," ") | AJ51: =IF(L51>0.5,1," ")
B52: Mittwoch | Q52: =IF(AND((J52-19)>2.99,(J52-E52)>3,J52>19),"JA","-") -> - | Z52: =IF(AB52=0,"Okay","Fehler") -> Okay | AB52: =P52-T52-V52-W52-X52-Y52-R52-U52-S52 -> 0 | AC52: =IF(AND(J52>=0.1,J52<=12),J52+24,IF(J52>=12,J52,0)) -> 0 | AD52: =IF(E52>6.99,"1","2") -> 2 | AE52: =IF(AC52<18.99,"1","2") -> 1 | AF52: =IF(AC52>22,"2","1") -> 1 | AG52: =AD52+AE52+AF52 -> 4 | AI52: =IF(D52="U",1," ") | AJ52: =IF(L52>0.5,1," ")
B53: Donnerstag | Z53: =IF(AB53=0,"Okay","Fehler") -> Okay | AB53: =P53-T53-V53-W53-X53-Y53-R53-U53-S53 -> 0 | AC53: =IF(AND(J53>=0.1,J53<=12),J53+24,IF(J53>=12,J53,0)) -> 0 | AD53: =IF(E53>6.99,"1","2") -> 2 | AE53: =IF(AC53<18.99,"1","2") -> 1 | AF53: =IF(AC53>22,"2","1") -> 1 | AG53: =AD53+AE53+AF53 -> 4 | AI53: =IF(D53="U",1," ") | AJ53: =IF(L53>0.5,1," ")
B54: Freitag | Z54: =IF(AB54=0,"Okay","Fehler") -> Okay | AB54: =P54-T54-V54-W54-X54-Y54-R54-U54-S54 -> 0 | AC54: =IF(AND(J54>=0.1,J54<=12),J54+24,IF(J54>=12,J54,0)) -> 0 | AD54: =IF(E54>6.99,"1","2") -> 2 | AE54: =IF(AC54<18.99,"1","2") -> 1 | AF54: =IF(AC54>22,"2","1") -> 1 | AG54: =AD54+AE54+AF54 -> 4 | AI54: =IF(D54="U",1," ") | AJ54: =IF(L54>0.5,1," ")
B55: Samstag | Z55: =IF(AB55=0,"Okay","Fehler") -> Okay | AB55: =P55-T55-V55-W55-X55-Y55-R55-U55-S55 -> 0 | AC55: =IF(AND(J55>=0.1,J55<=12),J55+24,IF(J55>=12,J55,0)) -> 0 | AD55: =IF(E55>6.99,"1","2") -> 2 | AE55: =IF(AC55<18.99,"1","2") -> 1 | AF55: =IF(AC55>22,"2","1") -> 1 | AG55: =AD55+AE55+AF55 -> 4 | AI55: =IF(D55="U",1," ") | AJ55: =IF(L55>0.5,1," ")
B56: Sonntag | Z56: =IF(AB56=0,"Okay","Fehler") -> Okay | AB56: =P56-T56-V56-W56-X56-Y56-R56-U56-S56 -> 0 | AC56: =IF(AND(J56>=0.1,J56<=12),J56+24,IF(J56>=12,J56,0)) -> 0 | AD56: =IF(E56>6.99,"1","2") -> 2 | AE56: =IF(AC56<18.99,"1","2") -> 1 | AF56: =IF(AC56>22,"2","1") -> 1 | AG56: =AD56+AE56+AF56 -> 4 | AJ56: =IF(L56>0.5,1," ")
B57: Wochensumme 6 | L57: =SUM(L50:L56) -> 0 | M57: =IF(L57>60,"§9 AZG! ","-") -> - | O57: =SUM(O50:O56) -> 0 | P57: =L57-O57 -> 0 | R57: =SUM(R50:R56) -> 0 | S57: =SUM(S50:S56) -> 0 | T57: =SUM(T50:T56) -> 0 | U57: =SUM(U50:U56) -> 0 | V57: =SUM(V50:V56) -> 0 | W57: =SUM(W50:W56) -> 0 | X57: =SUM(X50:X56) -> 0 | Y57: =SUM(Y50:Y56) -> 0 | Z57: =SUM(T57:Y57) -> 0
B58: Summe Urlaubstage | D58: =+AI58 -> 0 | L58: =L17+L25+L33+L41+L49+L57 -> 160.5 | M58: =IF((L58/D59)>9.6,"Achtung: WHAZ","") | O58: =O17+O25+O33+O41+O49+O57 -> 160.5 | P58: =P17+P25+P33+P41+P49+P57 -> 0 | R58: =R17+R25+R33+R41+R49+R57+R9 -> 0 | S58: =S17+S25+S33+S41+S49+S57+S9 -> 0 | T58: =T17+T25+T33+T41+T49+T57+T9 -> 0 | U58: =U17+U25+U33+U41+U49+U57+U9 -> 0 | V58: =V17+V25+V33+V41+V49+V57+V9 -> 0 | W58: =W17+W25+W33+W41+W49+W57+W9 -> 0 | X58: =X17+X25+X33+X41+X49+X57+X9 -> 0 | Y58: =Y17+Y25+Y33+Y41+Y49+Y57+Y9 -> 0 | Z58: =SUM(T58:Y58) -> 0 | AB58: =P58-T58-V58-W58-X58-Y58-R58-U58 -> 0 | AI58: =SUM(AI10:AI57) -> 0 | AJ58: =SUM(AJ10:AJ57) -> 21
B59: Summe Arbeitstage | D59: =+AJ58 -> 21
L60: Umwandlung von Mehr- und Überstunden in | P60: Zeitausgleich: | R60: =(-T60)+(-U60*1.25)+(-V60*1.5)+(-W60*2) -> 0
B62: Ich bestätige die Richtigkeit | O62: davon auszubezahlen:
B63: meiner Angaben: | P63: ÜBERTRAG: | R63: =R58+R60-R62 -> 0 | S63: =S58+S60-S62 -> 0 | T63: =T58+T60-T62 -> 0 | U63: =U58+U60-U62 -> 0 | V63: =V58+V60-V62 -> 0 | W63: =W58+W60-W62 -> 0 | X63: =X58+X60-X62 -> 0 | Y63: =Y58+Y60-Y62 -> 0
B65: kontrolliert von:
B67: Info: | C67: FE= Feiertag, U = Urlaub, K = Krank, BEZ = bezahlte Fehlzeiten | L67: WHAZ = Wochenhöchstarbeitszeit; AZG = Arbeitszeitgesetz

Sheet Juni
B1: ZEITERFASSUNG
B4: NAME: | C4: =Voreingabe!C3 -> Musterfrau | K4: FUNKTION: | M4: =Voreingabe!F3 -> Buchhalterin | V4: MA-Nummer: | X4: =Voreingabe!I3 -> 5
B6: MONAT: | C6: Juni | K6: JAHR: | M6: 2026
B8: Tag | C8: Datum | D8: INFO | E8: Arbeits- beginn | F8: Pausen-beginn | G8: Pausen-ende | H8: Pausen-beginn | I8: Pausen-ende | J8: Arbeits- ende | K8: Pausen-dauer | L8: tatsächl. geleistete Std. | M8: Info Arbeitszeit | N8: Info Pause | O8: Stunden Soll | P8: Stunden differenz | Q8: Nacht- stunden | R8: Zeit-ausgleich | S8: Durchrechnung | T8: Mehr- stunden | U8: Mehr- stunden 25% | V8: 50%- Überstd. | W8: 100%- Überstd. | X8: Sonn- u. Feiertag | Y8: Nacht-zuschlag | Z8: Kontrolle | AI8: Summe UT | AJ8: Summe AT
B9: ÜBETRAG | R9: =Mai!R63 -> 0 | S9: =Mai!S63 -> 0 | T9: =Mai!T63 -> 0 | U9: =Mai!U63 -> 0 | V9: =Mai!V63 -> 0 | W9: =Mai!W63 -> 0 | X9: =Mai!X63 -> 0 | Y9: =Mai!Y63 -> 0
B10: Montag | C10: 46174 | E10: =Voreingabe!$C$8 -> 9 | F10: =Voreingabe!$E$8 -> 12 | G10: =Voreingabe!$F$8 -> 12.5 | H10: =Voreingabe!$G$8 -> 0 | I10: =Voreingabe!$H$8 -> 0 | J10: =Voreingabe!$D$8 -> 18 | K10: =(G10-F10)+(I10-H10) -> 0.5 | L10: =+IF((J10-E10-K10)>=0,(J10-E10-K10),(J10-(E10-24)-K10)) -> 8.5 | M10: =IF(L10>12,"§9 AZG! ","-") -> - | N10: =IF(L10>6,IF(K10<0.5,"Pause!","-"),"-") -> - | O10: =Voreingabe!$I$8 -> 8.5 | P10: =L10-O10 -> 0 | Q10: =IF(AND((J10-19)>2.99,(J10-E10)>3,J10>19),"JA","-") -> - | Z10: =IF(AB10=0,"Okay","Fehler") -> Okay | AB10: =P10-T10-V10-W10-X10-Y10-R10-U10-S10 -> 0 | AC10: =IF(AND(J10>=0.1,J10<=12),J10+24,IF(J10>=12,J10,0)) -> 18 | AD10: =IF(E10>6.99,"1","2") -> 1 | AE10: =IF(AC10<18.99,"1","2") -> 1 | AF10: =IF(AC10>22,"2","1") -> 1 | AG10: =AD10+AE10+AF10 -> 3 | AI10: =IF(D10="U",1," ") | AJ10: =IF(L10>0.5,1," ") -> 1
B11: Dienstag | C11: =C10+1 -> 46175 | E11: =Voreingabe!$C$9 -> 9 | F11: =Voreingabe!$E$9 -> 12 | G11: =Voreingabe!$F$9 -> 12.5 | H11: =Voreingabe!$G$9 -> 0 | I11: =Voreingabe!$H$9 -> 0 | J11: =Voreingabe!$D$9 -> 18 | K11: =(G11-F11)+(I11-H11) -> 0.5 | L11: =+IF((J11-E11-K11)>=0,(J11-E11-K11),(J11-(E11-24)-K11)) -> 8.5 | M11: =IF(L11>12,"§9 AZG! ","-") -> - | N11: =IF(L11>6,IF(K11<0.5,"Pause!","-"),"-") -> - | O11: =Voreingabe!$I$9 -> 8.5 | P11: =L11-O11 -> 0 | Q11: =IF(AND((J11-19)>2.99,(J11-E11)>3,J11>19),"JA","-") -> - | Z11: =IF(AB11=0,"Okay","Fehler") -> Okay | AB11: =P11-T11-V11-W11-X11-Y11-R11-U11-S11 -> 0 | AC11: =IF(AND(J11>=0.1,J11<=12),J11+24,IF(J11>=12,J11,0)) -> 18 | AD11: =IF(E11>6.99,"1","2") -> 1 | AE11: =IF(AC11<18.99,"1","2") -> 1 | AF11: =IF(AC11>22,"2","1") -> 1 | AG11: =AD11+AE11+AF11 -> 3 | AI11: =IF(D11="U",1," ") | AJ11: =IF(L11>0.5,1," ") -> 1
B12: Mittwoch | C12: =C11+1 -> 46176 | E12: =Voreingabe!$C$10 -> 9 | F12: =Voreingabe!$E$10 -> 12 | G12: =Voreingabe!$F$10 -> 12.5 | H12: =Voreingabe!$G$10 -> 0 | I12: =Voreingabe!$H$10 -> 0 | J12: =Voreingabe!$D$10 -> 17 | K12: =(G12-F12)+(I12-H12) -> 0.5 | L12: =+IF((J12-E12-K12)>=0,(J12-E12-K12),(J12-(E12-24)-K12)) -> 7.5 | M12: =IF(L12>12,"§9 AZG! ","-") -> - | N12: =IF(L12>6,IF(K12<0.5,"Pause!","-"),"-") -> - | O12: =Voreingabe!$I$10 -> 7.5 | P12: =L12-O12 -> 0 | Q12: =IF(AND((J12-19)>2.99,(J12-E12)>3,J12>19),"JA","-") -> - | Z12: =IF(AB12=0,"Okay","Fehler") -> Okay | AB12: =P12-T12-V12-W12-X12-Y12-R12-U12-S12 -> 0 | AC12: =IF(AND(J12>=0.1,J12<=12),J12+24,IF(J12>=12,J12,0)) -> 17 | AD12: =IF(E12>6.99,"1","2") -> 1 | AE12: =IF(AC12<18.99,"1","2") -> 1 | AF12: =IF(AC12>22,"2","1") -> 1 | AG12: =AD12+AE12+AF12 -> 3 | AI12: =IF(D12="U",1," ") | AJ12: =IF(L12>0.5,1," ") -> 1
B13: Donnerstag | C13: =C12+1 -> 46177 | D13: FE | E13: =Voreingabe!$C$11 -> 9 | F13: =Voreingabe!$E$11 -> 12 | G13: =Voreingabe!$F$11 -> 12.5 | H13: =Voreingabe!$G$11 -> 0 | I13: =Voreingabe!$H$11 -> 0 | J13: =Voreingabe!$D$11 -> 17 | K13: =(G13-F13)+(I13-H13) -> 0.5 | L13: =+IF((J13-E13-K13)>=0,(J13-E13-K13),(J13-(E13-24)-K13)) -> 7.5 | M13: =IF(L13>12,"§9 AZG! ","-") -> - | N13: =IF(L13>6,IF(K13<0.5,"Pause!","-"),"-") -> - | O13: =Voreingabe!$I$11 -> 7.5 | P13: =L13-O13 -> 0 | Q13: =IF(AND((J13-19)>2.99,(J13-E13)>3,J13>19),"JA","-") -> - | Z13: =IF(AB13=0,"Okay","Fehler") -> Okay | AB13: =P13-T13-V13-W13-X13-Y13-R13-U13-S13 -> 0 | AC13: =IF(AND(J13>=0.1,J13<=12),J13+24,IF(J13>=12,J13,0)) -> 17 | AD13: =IF(E13>6.99,"1","2") -> 1 | AE13: =IF(AC13<18.99,"1","2") -> 1 | AF13: =IF(AC13>22,"2","1") -> 1 | AG13: =AD13+AE13+AF13 -> 3 | AI13: =IF(D13="U",1," ") | AJ13: =IF(L13>0.5,1," ") -> 1
B14: Freitag | C14: =C13+1 -> 46178 | E14: =Voreingabe!$C$12 -> 9 | F14: =Voreingabe!$E$12 -> 12 | G14: =Voreingabe!$F$12 -> 12.5 | H14: =Voreingabe!$G$12 -> 0 | I14: =Voreingabe!$H$12 -> 0 | J14: =Voreingabe!$D$12 -> 16 | K14: =(G14-F14)+(I14-H14) -> 0.5 | L14: =+IF((J14-E14-K14)>=0,(J14-E14-K14),(J14-(E14-24)-K14)) -> 6.5 | M14: =IF(L14>12,"§9 AZG! ","-") -> - | N14: =IF(L14>6,IF(K14<0.5,"Pause!","-"),"-") -> - | O14: =Voreingabe!$I$12 -> 6.5 | P14: =L14-O14 -> 0 | Q14: =IF(AND((J14-19)>2.99,(J14-E14)>3,J14>19),"JA","-") -> - | Z14: =IF(AB14=0,"Okay","Fehler") -> Okay | AB14: =P14-T14-V14-W14-X14-Y14-R14-U14-S14 -> 0 | AC14: =IF(AND(J14>=0.1,J14<=12),J14+24,IF(J14>=12,J14,0)) -> 16 | AD14: =IF(E14>6.99,"1","2") -> 1 | AE14: =IF(AC14<18.99,"1","2") -> 1 | AF14: =IF(AC14>22,"2","1") -> 1 | AG14: =AD14+AE14+AF14 -> 3 | AI14: =IF(D14="U",1," ") | AJ14: =IF(L14>0.5,1," ") -> 1
B15: Samstag | C15: =C14+1 -> 46179 | E15: =Voreingabe!$C$13 -> 0 | F15: =Voreingabe!$E$13 -> 0 | G15: =Voreingabe!$F$13 -> 0 | H15: =Voreingabe!$G$13 -> 0 | I15: =Voreingabe!$H$13 -> 0 | J15: =Voreingabe!$D$13 -> 0 | K15: =(G15-F15)+(I15-H15) -> 0 | L15: =+IF((J15-E15-K15)>=0,(J15-E15-K15),(J15-(E15-24)-K15)) -> 0 | M15: =IF(L15>12,"§9 AZG! ","-") -> - | N15: =IF(L15>6,IF(K15<0.5,"Pause!","-"),"-") -> - | O15: =Voreingabe!$I$13 -> 0 | P15: =L15-O15 -> 0 | Q15: =IF(AND((J15-19)>2.99,(J15-E15)>3,J15>19),"JA","-") -> - | Z15: =IF(AB15=0,"Okay","Fehler") -> Okay | AB15: =P15-T15-V15-W15-X15-Y15-R15-U15-S15 -> 0 | AC15: =IF(AND(J15>=0.1,J15<=12),J15+24,IF(J15>=12,J15,0)) -> 0 | AD15: =IF(E15>6.99,"1","2") -> 2 | AE15: =IF(AC15<18.99,"1","2") -> 1 | AF15: =IF(AC15>22,"2","1") -> 1 | AG15: =AD15+AE15+AF15 -> 4 | AI15: =IF(D15="U",1," ") | AJ15: =IF(L15>0.5,1," ")
B16: Sonntag | C16: =C15+1 -> 46180 | E16: =Voreingabe!$C$14 -> 0 | F16: =Voreingabe!$E$14 -> 0 | G16: =Voreingabe!$F$14 -> 0 | H16: =Voreingabe!$G$14 -> 0 | I16: =Voreingabe!$H$14 -> 0 | J16: =Voreingabe!$D$14 -> 0 | K16: =(G16-F16)+(I16-H16) -> 0 | L16: =+IF((J16-E16-K16)>=0,(J16-E16-K16),(J16-(E16-24)-K16)) -> 0 | M16: =IF(L16>12,"§9 AZG! ","-") -> - | N16: =IF(L16>6,IF(K16<0.5,"Pause!","-"),"-") -> - | O16: =Voreingabe!$I$14 -> 0 | P16: =L16-O16 -> 0 | Q16: =IF(AND((J16-19)>2.99,(J16-E16)>3,J16>19),"JA","-") -> - | Z16: =IF(AB16=0,"Okay","Fehler") -> Okay | AB16: =P16-T16-V16-W16-X16-Y16-R16-U16-S16 -> 0 | AC16: =IF(AND(J16>=0.1,J16<=12),J16+24,IF(J16>=12,J16,0)) -> 0 | AD16: =IF(E16>6.99,"1","2") -> 2 | AE16: =IF(AC16<18.99,"1","2") -> 1 | AF16: =IF(AC16>22,"2","1") -> 1 | AG16: =AD16+AE16+AF16 -> 4 | AJ16: =IF(L16>0.5,1," ")
B17: Wochensumme 1 | L17: =SUM(L10:L16) -> 38.5 | M17: =IF(L17>60,"§9 AZG! ","-") -> - | O17: =SUM(O10:O16) -> 38.5 | P17: =L17-O17 -> 0 | R17: =SUM(R10:R16) -> 0 | S17: =SUM(S10:S16) -> 0 | T17: =SUM(T10:T16) -> 0 | U17: =SUM(U10:U16) -> 0 | V17: =SUM(V10:V16) -> 0 | W17: =SUM(W10:W16) -> 0 | X17: =SUM(X10:X16) -> 0 | Y17: =SUM(Y10:Y16) -> 0 | Z17: =SUM(T17:Y17) -> 0
B18: Montag | C18: =C16+1 -> 46181 | E18: =Voreingabe!$C$8 -> 9 | F18: =Voreingabe!$E$8 -> 12 | G18: =Voreingabe!$F$8 -> 12.5 | H18: =Voreingabe!$G$8 -> 0 | I18: =Voreingabe!$H$8 -> 0 | J18: =Voreingabe!$D$8 -> 18 | K18: =(G18-F18)+(I18-H18) -> 0.5 | L18: =+IF((J18-E18-K18)>=0,(J18-E18-K18),(J18-(E18-24)-K18)) -> 8.5 | M18: =IF(L18>12,"§9 AZG! ","-") -> - | N18: =IF(L18>6,IF(K18<0.5,"Pause!","-"),"-") -> - | O18: =Voreingabe!$I$8 -> 8.5 | P18: =L18-O18 -> 0 | Q18: =IF(AND((J18-19)>2.99,(J18-E18)>3,J18>19),"JA","-") -> - | Z18: =IF(AB18=0,"Okay","Fehler") -> Okay | AB18: =P18-T18-V18-W18-X18-Y18-R18-U18-S18 -> 0 | AC18: =IF(AND(J18>=0.1,J18<=12),J18+24,IF(J18>=12,J18,0)) -> 18 | AD18: =IF(E18>6.99,"1","2") -> 1 | AE18: =IF(AC18<18.99,"1","2") -> 1 | AF18: =IF(AC18>22,"2","1") -> 1 | AG18: =AD18+AE18+AF18 -> 3 | AI18: =IF(D18="U",1," ") | AJ18: =IF(L18>0.5,1," ") -> 1
B19: Dienstag | C19: =C18+1 -> 46182 | E19: =Voreingabe!$C$9 -> 9 | F19: =Voreingabe!$E$9 -> 12 | G19: =Voreingabe!$F$9 -> 12.5 | H19: =Voreingabe!$G$9 -> 0 | I19: =Voreingabe!$H$9 -> 0 | J19: =Voreingabe!$D$9 -> 18 | K19: =(G19-F19)+(I19-H19) -> 0.5 | L19: =+IF((J19-E19-K19)>=0,(J19-E19-K19),(J19-(E19-24)-K19)) -> 8.5 | M19: =IF(L19>12,"§9 AZG! ","-") -> - | N19: =IF(L19>6,IF(K19<0.5,"Pause!","-"),"-") -> - | O19: =Voreingabe!$I$9 -> 8.5 | P19: =L19-O19 -> 0 | Q19: =IF(AND((J19-19)>2.99,(J19-E19)>3,J19>19),"JA","-") -> - | Z19: =IF(AB19=0,"Okay","Fehler") -> Okay | AB19: =P19-T19-V19-W19-X19-Y19-R19-U19-S19 -> 0 | AC19: =IF(AND(J19>=0.1,J19<=12),J19+24,IF(J19>=12,J19,0)) -> 18 | AD19: =IF(E19>6.99,"1","2") -> 1 | AE19: =IF(AC19<18.99,"1","2") -> 1 | AF19: =IF(AC19>22,"2","1") -> 1 | AG19: =AD19+AE19+AF19 -> 3 | AI19: =IF(D19="U",1," ") | AJ19: =IF(L19>0.5,1," ") -> 1
B20: Mittwoch | C20: =C19+1 -> 46183 | E20: =Voreingabe!$C$10 -> 9 | F20: =Voreingabe!$E$10 -> 12 | G20: =Voreingabe!$F$10 -> 12.5 | H20: =Voreingabe!$G$10 -> 0 | I20: =Voreingabe!$H$10 -> 0 | J20: =Voreingabe!$D$10 -> 17 | K20: =(G20-F20)+(I20-H20) -> 0.5 | L20: =+IF((J20-E20-K20)>=0,(J20-E20-K20),(J20-(E20-24)-K20)) -> 7.5 | M20: =IF(L20>12,"§9 AZG! ","-") -> - | N20: =IF(L20>6,IF(K20<0.5,"Pause!","-"),"-") -> - | O20: =Voreingabe!$I$10 -> 7.5 | P20: =L20-O20 -> 0 | Q20: =IF(AND((J20-19)>2.99,(J20-E20)>3,J20>19),"JA","-") -> - | Z20: =IF(AB20=0,"Okay","Fehler") -> Okay | AB20: =P20-T20-V20-W20-X20-Y20-R20-U20-S20 -> 0 | AC20: =IF(AND(J20>=0.1,J20<=12),J20+24,IF(J20>=12,J20,0)) -> 17 | AD20: =IF(E20>6.99,"1","2") -> 1 | AE20: =IF(AC20<18.99,"1","2") -> 1 | AF20: =IF(AC20>22,"2","1") -> 1 | AG20: =AD20+AE20+AF20 -> 3 | AI20: =IF(D20="U",1," ") | AJ20: =IF(L20>0.5,1," ") -> 1
B21: Donnerstag | C21: =C20+1 -> 46184 | E21: =Voreingabe!$C$11 -> 9 | F21: =Voreingabe!$E$11 -> 12 | G21: =Voreingabe!$F$11 -> 12.5 | H21: =Voreingabe!$G$11 -> 0 | I21: =Voreingabe!$H$11 -> 0 | J21: =Voreingabe!$D$11 -> 17 | K21: =(G21-F21)+(I21-H21) -> 0.5 | L21: =+IF((J21-E21-K21)>=0,(J21-E21-K21),(J21-(E21-24)-K21)) -> 7.5 | M21: =IF(L21>12,"§9 AZG! ","-") -> - | N21: =IF(L21>6,IF(K21<0.5,"Pause!","-"),"-") -> - | O21: =Voreingabe!$I$11 -> 7.5 | P21: =L21-O21 -> 0 | Q21: =IF(AND((J21-19)>2.99,(J21-E21)>3,J21>19),"JA","-") -> - | Z21: =IF(AB21=0,"Okay","Fehler") -> Okay | AB21: =P21-T21-V21-W21-X21-Y21-R21-U21-S21 -> 0 | AC21: =IF(AND(J21>=0.1,J21<=12),J21+24,IF(J21>=12,J21,0)) -> 17 | AD21: =IF(E21>6.99,"1","2") -> 1 | AE21: =IF(AC21<18.99,"1","2") -> 1 | AF21: =IF(AC21>22,"2","1") -> 1 | AG21: =AD21+AE21+AF21 -> 3 | AI21: =IF(D21="U",1," ") | AJ21: =IF(L21>0.5,1," ") -> 1
B22: Freitag | C22: =C21+1 -> 46185 | E22: =Voreingabe!$C$12 -> 9 | F22: =Voreingabe!$E$12 -> 12 | G22: =Voreingabe!$F$12 -> 12.5 | H22: =Voreingabe!$G$12 -> 0 | I22: =Voreingabe!$H$12 -> 0 | J22: =Voreingabe!$D$12 -> 16 | K22: =(G22-F22)+(I22-H22) -> 0.5 | L22: =+IF((J22-E22-K22)>=0,(J22-E22-K22),(J22-(E22-24)-K22)) -> 6.5 | M22: =IF(L22>12,"§9 AZG! ","-") -> - | N22: =IF(L22>6,IF(K22<0.5,"Pause!","-"),"-") -> - | O22: =Voreingabe!$I$12 -> 6.5 | P22: =L22-O22 -> 0 | Q22: =IF(AND((J22-19)>2.99,(J22-E22)>3,J22>19),"JA","-") -> - | Z22: =IF(AB22=0,"Okay","Fehler") -> Okay | AB22: =P22-T22-V22-W22-X22-Y22-R22-U22-S22 -> 0 | AC22: =IF(AND(J22>=0.1,J22<=12),J22+24,IF(J22>=12,J22,0)) -> 16 | AD22: =IF(E22>6.99,"1","2") -> 1 | AE22: =IF(AC22<18.99,"1","2") -> 1 | AF22: =IF(AC22>22,"2","1") -> 1 | AG22: =AD22+AE22+AF22 -> 3 | AI22: =IF(D22="U",1," ") | AJ22: =IF(L22>0.5,1," ") -> 1
B23: Samstag | C23: =C22+1 -> 46186 | E23: =Voreingabe!$C$13 -> 0 | F23: =Voreingabe!$E$13 -> 0 | G23: =Voreingabe!$F$13 -> 0 | H23: =Voreingabe!$G$13 -> 0 | I23: =Voreingabe!$H$13 -> 0 | J23: =Voreingabe!$D$13 -> 0 | K23: =(G23-F23)+(I23-H23) -> 0 | L23: =+IF((J23-E23-K23)>=0,(J23-E23-K23),(J23-(E23-24)-K23)) -> 0 | M23: =IF(L23>12,"§9 AZG! ","-") -> - | N23: =IF(L23>6,IF(K23<0.5,"Pause!","-"),"-") -> - | O23: =Voreingabe!$I$13 -> 0 | P23: =L23-O23 -> 0 | Q23: =IF(AND((J23-19)>2.99,(J23-E23)>3,J23>19),"JA","-") -> - | Z23: =IF(AB23=0,"Okay","Fehler") -> Okay | AB23: =P23-T23-V23-W23-X23-Y23-R23-U23-S23 -> 0 | AC23: =IF(AND(J23>=0.1,J23<=12),J23+24,IF(J23>=12,J23,0)) -> 0 | AD23: =IF(E23>6.99,"1","2") -> 2 | AE23: =IF(AC23<18.99,"1","2") -> 1 | AF23: =IF(AC23>22,"2","1") -> 1 | AG23: =AD23+AE23+AF23 -> 4 | AI23: =IF(D23="U",1," ") | AJ23: =IF(L23>0.5,1," ")
B24: Sonntag | C24: =C23+1 -> 46187 | E24: =Voreingabe!$C$14 -> 0 | F24: =Voreingabe!$E$14 -> 0 | G24: =Voreingabe!$F$14 -> 0 | H24: =Voreingabe!$G$14 -> 0 | I24: =Voreingabe!$H$14 -> 0 | J24: =Voreingabe!$D$14 -> 0 | K24: =(G24-F24)+(I24-H24) -> 0 | L24: =+IF((J24-E24-K24)>=0,(J24-E24-K24),(J24-(E24-24)-K24)) -> 0 | M24: =IF(L24>12,"§9 AZG! ","-") -> - | N24: =IF(L24>6,IF(K24<0.5,"Pause!","-"),"-") -> - | O24: =Voreingabe!$I$14 -> 0 | P24: =L24-O24 -> 0 | Q24: =IF(AND((J24-19)>2.99,(J24-E24)>3,J24>19),"JA","-") -> - | Z24: =IF(AB24=0,"Okay","Fehler") -> Okay | AB24: =P24-T24-V24-W24-X24-Y24-R24-U24-S24 -> 0 | AC24: =IF(AND(J24>=0.1,J24<=12),J24+24,IF(J24>=12,J24,0)) -> 0 | AD24: =IF(E24>6.99,"1","2") -> 2 | AE24: =IF(AC24<18.99,"1","2") -> 1 | AF24: =IF(AC24>22,"2","1") -> 1 | AG24: =AD24+AE24+AF24 -> 4 | AJ24: =IF(L24>0.5,1," ")
B25: Wochensumme 2 | L25: =SUM(L18:L24) -> 38.5 | M25: =IF(L25>60,"§9 AZG! ","-") -> - | O25: =SUM(O18:O24) -> 38.5 | P25: =L25-O25 -> 0 | R25: =SUM(R18:R24) -> 0 | S25: =SUM(S18:S24) -> 0 | T25: =SUM(T18:T24) -> 0 | U25: =SUM(U18:U24) -> 0 | V25: =SUM(V18:V24) -> 0 | W25: =SUM(W18:W24) -> 0 | X25: =SUM(X18:X24) -> 0 | Y25: =SUM(Y18:Y24) -> 0 | Z25: =SUM(T25:Y25) -> 0
B26: Montag | C26: =C24+1 -> 46188 | E26: =Voreingabe!$C$8 -> 9 | F26: =Voreingabe!$E$8 -> 12 | G26: =Voreingabe!$F$8 -> 12.5 | H26: =Voreingabe!$G$8 -> 0 | I26: =Voreingabe!$H$8 -> 0 | J26: =Voreingabe!$D$8 -> 18 | K26: =(G26-F26)+(I26-H26) -> 0.5 | L26: =+IF((J26-E26-K26)>=0,(J26-E26-K26),(J26-(E26-24)-K26)) -> 8.5 | M26: =IF(L26>12,"§9 AZG! ","-") -> - | N26: =IF(L26>6,IF(K26<0.5,"Pause!","-"),"-") -> - | O26: =Voreingabe!$I$8 -> 8.5 | P26: =L26-O26 -> 0 | Q26: =IF(AND((J26-19)>2.99,(J26-E26)>3,J26>19),"JA","-") -> - | Z26: =IF(AB26=0,"Okay","Fehler") -> Okay | AB26: =P26-T26-V26-W26-X26-Y26-R26-U26-S26 -> 0 | AC26: =IF(AND(J26>=0.1,J26<=12),J26+24,IF(J26>=12,J26,0)) -> 18 | AD26: =IF(E26>6.99,"1","2") -> 1 | AE26: =IF(AC26<18.99,"1","2") -> 1 | AF26: =IF(AC26>22,"2","1") -> 1 | AG26: =AD26+AE26+AF26 -> 3 | AI26: =IF(D26="U",1," ") | AJ26: =IF(L26>0.5,1," ") -> 1
B27: Dienstag | C27: =C26+1 -> 46189 | E27: =Voreingabe!$C$9 -> 9 | F27: =Voreingabe!$E$9 -> 12 | G27: =Voreingabe!$F$9 -> 12.5 | H27: =Voreingabe!$G$9 -> 0 | I27: =Voreingabe!$H$9 -> 0 | J27: =Voreingabe!$D$9 -> 18 | K27: =(G27-F27)+(I27-H27) -> 0.5 | L27: =+IF((J27-E27-K27)>=0,(J27-E27-K27),(J27-(E27-24)-K27)) -> 8.5 | M27: =IF(L27>12,"§9 AZG! ","-") -> - | N27: =IF(L27>6,IF(K27<0.5,"Pause!","-"),"-") -> - | O27: =Voreingabe!$I$9 -> 8.5 | P27: =L27-O27 -> 0 | Q27: =IF(AND((J27-19)>2.99,(J27-E27)>3,J27>19),"JA","-") -> - | Z27: =IF(AB27=0,"Okay","Fehler") -> Okay | AB27: =P27-T27-V27-W27-X27-Y27-R27-U27-S27 -> 0 | AC27: =IF(AND(J27>=0.1,J27<=12),J27+24,IF(J27>=12,J27,0)) -> 18 | AD27: =IF(E27>6.99,"1","2") -> 1 | AE27: =IF(AC27<18.99,"1","2") -> 1 | AF27: =IF(AC27>22,"2","1") -> 1 | AG27: =AD27+AE27+AF27 -> 3 | AI27: =IF(D27="U",1," ") | AJ27: =IF(L27>0.5,1," ") -> 1
B28: Mittwoch | C28: =C27+1 -> 46190 | E28: =Voreingabe!$C$10 -> 9 | F28: =Voreingabe!$E$10 -> 12 | G28: =Voreingabe!$F$10 -> 12.5 | H28: =Voreingabe!$G$10 -> 0 | I28: =Voreingabe!$H$10 -> 0 | J28: =Voreingabe!$D$10 -> 17 | K28: =(G28-F28)+(I28-H28) -> 0.5 | L28: =+IF((J28-E28-K28)>=0,(J28-E28-K28),(J28-(E28-24)-K28)) -> 7.5 | M28: =IF(L28>12,"§9 AZG! ","-") -> - | N28: =IF(L28>6,IF(K28<0.5,"Pause!","-"),"-") -> - | O28: =Voreingabe!$I$10 -> 7.5 | P28: =L28-O28 -> 0 | Q28: =IF(AND((J28-19)>2.99,(J28-E28)>3,J28>19),"JA","-") -> - | Z28: =IF(AB28=0,"Okay","Fehler") -> Okay | AB28: =P28-T28-V28-W28-X28-Y28-R28-U28-S28 -> 0 | AC28: =IF(AND(J28>=0.1,J28<=12),J28+24,IF(J28>=12,J28,0)) -> 17 | AD28: =IF(E28>6.99,"1","2") -> 1 | AE28: =IF(AC28<18.99,"1","2") -> 1 | AF28: =IF(AC28>22,"2","1") -> 1 | AG28: =AD28+AE28+AF28 -> 3 | AI28: =IF(D28="U",1," ") | AJ28: =IF(L28>0.5,1," ") -> 1
B29: Donnerstag | C29: =C28+1 -> 46191 | E29: =Voreingabe!$C$11 -> 9 | F29: =Voreingabe!$E$11 -> 12 | G29: =Voreingabe!$F$11 -> 12.5 | H29: =Voreingabe!$G$11 -> 0 | I29: =Voreingabe!$H$11 -> 0 | J29: =Voreingabe!$D$11 -> 17 | K29: =(G29-F29)+(I29-H29) -> 0.5 | L29: =+IF((J29-E29-K29)>=0,(J29-E29-K29),(J29-(E29-24)-K29)) -> 7.5 | M29: =IF(L29>12,"§9 AZG! ","-") -> - | N29: =IF(L29>6,IF(K29<0.5,"Pause!","-"),"-") -> - | O29: =Voreingabe!$I$11 -> 7.5 | P29: =L29-O29 -> 0 | Q29: =IF(AND((J29-19)>2.99,(J29-E29)>3,J29>19),"JA","-") -> - | Z29: =IF(AB29=0,"Okay","Fehler") -> Okay | AB29: =P29-T29-V29-W29-X29-Y29-R29-U29-S29 -> 0 | AC29: =IF(AND(J29>=0.1,J29<=12),J29+24,IF(J29>=12,J29,0)) -> 17 | AD29: =IF(E29>6.99,"1","2") -> 1 | AE29: =IF(AC29<18.99,"1","2") -> 1 | AF29: =IF(AC29>22,"2","1") -> 1 | AG29: =AD29+AE29+AF29 -> 3 | AI29: =IF(D29="U",1," ") | AJ29: =IF(L29>0.5,1," ") -> 1
B30: Freitag | C30: =C29+1 -> 46192 | E30: =Voreingabe!$C$12 -> 9 | F30: =Voreingabe!$E$12 -> 12 | G30: =Voreingabe!$F$12 -> 12.5 | H30: =Voreingabe!$G$12 -> 0 | I30: =Voreingabe!$H$12 -> 0 | J30: =Voreingabe!$D$12 -> 16 | K30: =(G30-F30)+(I30-H30) -> 0.5 | L30: =+IF((J30-E30-K30)>=0,(J30-E30-K30),(J30-(E30-24)-K30)) -> 6.5 | M30: =IF(L30>12,"§9 AZG! ","-") -> - | N30: =IF(L30>6,IF(K30<0.5,"Pause!","-"),"-") -> - | O30: =Voreingabe!$I$12 -> 6.5 | P30: =L30-O30 -> 0 | Q30: =IF(AND((J30-19)>2.99,(J30-E30)>3,J30>19),"JA","-") -> - | Z30: =IF(AB30=0,"Okay","Fehler") -> Okay | AB30: =P30-T30-V30-W30-X30-Y30-R30-U30-S30 -> 0 | AC30: =IF(AND(J30>=0.1,J30<=12),J30+24,IF(J30>=12,J30,0)) -> 16 | AD30: =IF(E30>6.99,"1","2") -> 1 | AE30: =IF(AC30<18.99,"1","2") -> 1 | AF30: =IF(AC30>22,"2","1") -> 1 | AG30: =AD30+AE30+AF30 -> 3 | AI30: =IF(D30="U",1," ") | AJ30: =IF(L30>0.5,1," ") -> 1
