Workbook

Sheet Anleitung
B1: Das vorliegende Stundenaufzeichnungstool geht davon aus, dass jeder Dienstnehmer
B2: eine fixe Arbeitszeiteinteilung hat. Diese wird unter Voreingabe eingetragen.
B3: Diese Grundeinstellung wird für das ganze Jahr automatisch übernommen.
B4: Um die Arbeitzeitaufzeichnung zu individualisieren wird der Namen, die Funktion und die MitarbeiterNr.
B5: eingetragen und das Excelsheet mit einem eigenen Namen abgespeichert (AZG 2026#Name).
B6: Die tatsächlichen Arbeitszeiten, Fehlzeiten, Urlaubstage werden dann bei den
B7: jeweiligen Arbeitstagen eingetragen.
B8: Fertig eingetragene Monate können fixiert werden, sodass die Formelverbindungen zur
B9: Voreingabe unterbunden werden (kopieren des Bereichs des jeweiligen Monats von E9 bis H 56;
B10: dann in das Feld E9 stellen, linke Maustaste Inhalte Einfügen, und danach Werte einfügen auswählen)
B12: Der Unterschied zwischen der Sollarbeitszeit und der Istarbeitszeit wird berechnet
B13: und muss dann noch individuell auf die Bereiche Zeitausgleich, Durchrechnung, Mehrstunden,
... B42: Stand des Urlaubsanspruchs.

Sheet Voreingabe
B1: Grundeingabe | I1: 2026
B3: Mitarbeiter: | C3: Musterfrau | E3: Funktion: | F3: Buchhalterin | H3: MitarbeiterNr.: | I3: 5
C6: Arbeitszeit | E6: 1. Pause | G6: 2. Pause
C7: von | D7: bis | E7: von | F7: bis | G7: von | H7: bis | I7: Arbeitszeit
B8: Mo | C8: 9 | D8: 18 | E8: 12 | F8: 12.5 | I8: =(D8-C8)-(F8-E8)-(H8-G8) -> 8.5
B9: Di | C9: 9 | D9: 18 | E9: 12 | F9: 12.5 | I9: =(D9-C9)-(F9-E9)-(H9-G9) -> 8.5
B10: Mi | C10: 9 | D10: 17 | E10: 12 | F10: 12.5 | I10: =(D10-C10)-(F10-E10)-(H10-G10) -> 7.5
B11: Do | C11: 9 | D11: 17 | E11: 12 | F11: 12.5 | I11: =(D11-C11)-(F11-E11)-(H11-G11) -> 7.5
B12: Fr | C12: 9 | D12: 16 | E12: 12 | F12: 12.5 | I12: =(D12-C12)-(F12-E12)-(H12-G12) -> 6.5
B13: Sa | E13: 0 | F13: 0 | I13: =(D13-C13)-(F13-E13)-(H13-G13) -> 0
B14: So | E14: 0 | F14: 0 | I14: =(D14-C14)-(F14-E14)-(H14-G14) -> 0
B16: Wochenarbeitszeit | I16: =SUM(I8:I14) -> 38.5
B18: Zeiteingaben:
B19: Viertelstunde: | D19: 0.25
B20: Halbestunde | D20: 0.5
B21: Dreiviertelstunde | D21: 0.75
B22: Ganze Stunde | D22: 0

Sheet URLAUB
B1: Urlaubsaufzeichnung 2026
B3: Grundeingabe
B5: Mitarbeiter: | C5: =Voreingabe!C3 -> Musterfrau | E5: Funktion: | F5: =Voreingabe!F3 -> Buchhalterin | H5: MitarbeiterNr.: | I5: =Voreingabe!I3 -> 5
B7: Eintritt: | C7: 46023 | D7: 46387
B8: Urlaubsjahr in Tagen: | C8: =DAYS360(C7,D7) -> 360
B10: Anspruch in Wochen: | C10: 5 | D10: Wochen
B11: Arbeitstage pro Woche | C11: 5 | D11: Tage
C12: =C10*C11 -> 25 | D12: Urlaubstage
B14: Vortrag aus Vorjahr | D14: bitte eintragen | G14: Infos zur Urlaubstageverwaltung
G15: Der Dienstnehmer hat Anspruch auf 5 Wochen Urlaub. Nach 25 Dienstjahren
B16: Anspruch 2026 | C16: =ROUND(C12/360*C8,0) -> 25 | G16: erhöht sich dieser Anspruch auf 6 Wochen.
B17: Verbrauch 2026 | C17: =C38 -> 0 | G17: Die Wochen werden in Arbeitstage/Woche umgerechnet. Arbeitet der
B18: Saldo 31.12.2026 | C18: =+C14+C16-C17 -> 25 | G18: Dienstnehmer an 5 Werktagen, hat er 25 Arbeitstage Urlaubsanspruch,
G19: arbeitet er an 6 Werktagen, dann hat er 30 Tage Anspruch.
G22: Tritt der DN während des Jahres ein. So errechnet sich der Urlaubsanspruch
G23: für das erste Jahr automatisch, wenn im Feld "C5" das Eintrittsdatum
G24: eingetragen wird.
B25: Verbrauch Urlaubstage | E25: Arbeitstage | G25: Ein Urlaubstag kann nur dann verbraucht werden, wenn der Dienstnehmer
B26: Jänner | C26: =+Jänner!D58 -> 0 | E26: =Jänner!D59 -> 22 | G26: an diesem Tag gearbeitet hätte. Daher gibt es zB keinen Urlaubsverbrauch
B27: Februar | C27: =+Februar!D58 -> 0 | E27: =+Februar!D59 -> 20 | G27: an einem Feiertag oder Samstag bei einer 5-Tage-Woche.
B28: März | C28: =+März!D58 -> 0 | E28: =+März!D59 -> 22 | G28: Bitte die Urlaubstage in der entsprechenden Spalte mit "U" eintragen.
B29: April | C29: =+April!D58 -> 0 | E29: =+April!D59 -> 22 | G29: Der Urlaubsverbrauch wird dann auf dieser Seite zusammengefaßt
B30: Mai | C30: =+Mai!D58 -> 0 | E30: =+Mai!D59 -> 21 | G30: und auf dieser Seite eingetragen.
B31: Juni | C31: =+Juni!D50 -> 0 | E31: =+Juni!D51 -> 22 | G31: In diesem Feld wird noch der Urlaubsanspruch aus dem Vorjahr eingetragen,
B32: Juli | C32: =+Juli!D58 -> 0 | E32: =+Juli!D59 -> 23 | G32: damit kann der Urlaub transparent und nachvollziehbar verwaltet
B33: August | C33: =+Aug.!D58 -> 0 | E33: =+Aug.!D59 -> 21 | G33: werden.
B34: September | C34: =+Sept.!D58 -> 0 | E34: =+Sept.!D59 -> 22 | G34: Falls sich die Arbeitszeiten während des Jahres ändert kann man an Hand
B35: Oktober | C35: =+Okt.!D58 -> 0 | E35: =+Okt.!D59 -> 22 | G35: der jeweils geleisteten Arbeitstage eine genaue Berechnung des Urlaubs-
B36: November | C36: =+Nov.!D58 -> 0 | E36: =+Nov.!D59 -> 21 | G36: anspruchs vornehmen.
B37: Dezember | C37: =+Dez.!D58 -> 0 | E37: =+Dez.!D59 -> 23
B38: Summe Verbrauch | C38: =SUM(C26:C37) -> 0

Sheet Infoblatt
B1: Zeitguthaben durch Umwandlung von Mehr- und Überstunden
B3: Aktuelles Zeitguthaben | E3: =Dez.!R63 -> 0 | F3: Stunden
B7: Durchrechnungsvereinbarung
B9: Mit der MitarbeiterIn wurde eine Durchrechnungs- und Gleitzeitvereinbarung
B10: vom | C10: 46023
B11: bis | C11: 46387
B12: abgeschlossen.
C13: ja | D13: nein
C14: X
B16: Es ergeben sich aus dieser Vereinbarung folgende Zeitguthaben
B17: (andere Verteilung der Normalarbeitszeit)
C19: Vortrag: | E19: =Jänner!S9 -> 0
B20: Jänner | E20: =F20-E19 -> 0 | F20: =+Jänner!S63 -> 0
B21: Februar | E21: =F21-F20 -> 0 | F21: =+Februar!S63 -> 0
B22: März | E22: =F22-F21 -> 0 | F22: =+März!S63 -> 0
B23: April | E23: =F23-F22 -> 0 | F23: =+April!S63 -> 0
B24: Mai | E24: =F24-F23 -> 0 | F24: =+Mai!S63 -> 0
B25: Juni | E25: =F25-F24 -> 0 | F25: =+Juni!S55 -> 0
B26: Juli | E26: =F26-F25 -> 0 | F26: =+Juli!S63 -> 0
B27: August | E27: =F27-F26 -> 0 | F27: =+Aug.!S63 -> 0
B28: September | E28: =F28-F27 -> 0 | F28: =+Sept.!S63 -> 0
B29: Oktober | E29: =F29-F28 -> 0 | F29: =+Okt.!S63 -> 0
B30: November | E30: =F30-F29 -> 0 | F30: =+Nov.!S63 -> 0
B31: Dezember | E31: =F31-F30 -> 0 | F31: =+Dez.!S63 -> 0
B32: Gutstunden/Minusstunden | E32: =Dez.!S63 -> 0

Sheet Jänner
B1: ZEITERFASSUNG
B4: NAME: | C4: =Voreingabe!C3 -> Musterfrau | K4: FUNKTION: | M4: =Voreingabe!F3 -> Buchhalterin | V4: MA-Nummer: | X4: =Voreingabe!I3 -> 5
B6: MONAT: | C6: Jänner | K6: JAHR: | M6: 2026
B8: Tag | C8: Datum | D8: INFO | E8: Arbeits- beginn | F8: Pausen-beginn | G8: Pausen-ende | H8: Pausen-beginn | I8: Pausen-ende | J8: Arbeits- ende | K8: Pausen-dauer | L8: tatsächl. geleistete Std. | M8: Info Arbeitszeit | N8: Info Pause | O8: Stunden Soll | P8: Stunden differenz | Q8: Nacht- stunden | R8: Zeit-ausgleich | S8: Durchrechnung | T8: Mehr- stunden | U8: Mehr- stunden 25% | V8: 50%- Überstd. | W8: 100%- Überstd. | X8: Sonn- u. Feiertag | Y8: Nacht-zuschlag | Z8: Kontrolle | AI8: Summe UT | AJ8: Summe AT
C9: ÜBERTRAG AUS DEM VORJAHR
B10: Montag | AB10: =P10-T10-V10-W10-X10-Y10-R10-U10-S10 -> 0 | AC10: =IF(AND(J10>=0.1,J10<6),J10+24,IF(J10>12,J10,0)) -> 0 | AD10: =IF(E10>6.99,"1","2") -> 2 | AE10: =IF(AC10<18.99,"1","2") -> 1 | AF10: =IF(AC10>=22,"2","1") -> 1 | AG10: =AD10+AE10+AF10 -> 4 | AI10: =IF(D10="U",1," ") | AJ10: =IF(L10>0.5,1," ")
B11: Dienstag | AB11: =P11-T11-V11-W11-X11-Y11-R11-U11-S11 -> 0 | AC11: =IF(AND(J11>=0.1,J11<6),J11+24,IF(J11>12,J11,0)) -> 0 | AD11: =IF(E11>6.99,"1","2") -> 2 | AE11: =IF(AC11<18.99,"1","2") -> 1 | AF11: =IF(AC11>=22,"2","1") -> 1 | AG11: =AD11+AE11+AF11 -> 4 | AI11: =IF(D11="U",1," ") | AJ11: =IF(L11>0.5,1," ")
B12: Mittwoch | M12: =IF(L12>12,"§9 AZG! ","-") -> - | N12: =IF(L12>6,IF(K12<0.5,"Pause!","-"),"-") -> - | Z12: =IF(AB12=0,"Okay","Fehler") -> Okay | AB12: =P12-T12-V12-W12-X12-Y12-R12-U12-S12 -> 0 | AC12: =IF(AND(J12>=0.1,J12<6),J12+24,IF(J12>12,J12,0)) -> 0 | AD12: =IF(E12>6.99,"1","2") -> 2 | AE12: =IF(AC12<18.99,"1","2") -> 1 | AF12: =IF(AC12>=22,"2","1") -> 1 | AG12: =AD12+AE12+AF12 -> 4 | AI12: =IF(D12="U",1," ") | AJ12: =IF(L12>0.5,1," ")
B13: Donnerstag | C13: 46023 | D13: FE | E13: =Voreingabe!$C$11 -> 9 | F13: =Voreingabe!$E$11 -> 12 | G13: =Voreingabe!$F$11 -> 12.5 | H13: =Voreingabe!$G$11 -> 0 | I13: =Voreingabe!$H$11 -> 0 | J13: =Voreingabe!$D$11 -> 17 | K13: =(G13-F13)+(I13-H13) -> 0.5 | L13: =+IF((J13-E13-K13)>=0,(J13-E13-K13),(J13-(E13-24)-K13)) -> 7.5 | M13: =IF(L13>12,"§9 AZG! ","-") -> - | N13: =IF(L13>6,IF(K13<0.5,"Pause!","-"),"-") -> - | O13: =Voreingabe!$I$11 -> 7.5 | P13: =L13-O13 -> 0 | Z13: =IF(AB13=0,"Okay","Fehler") -> Okay | AB13: =P13-T13-V13-W13-X13-Y13-R13-U13-S13 -> 0 | AC13: =IF(AND(J13>=0.1,J13<6),J13+24,IF(J13>12,J13,0)) -> 17 | AD13: =IF(E13>6.99,"1","2") -> 1 | AE13: =IF(AC13<18.99,"1","2") -> 1 | AF13: =IF(AC13>=22,"2","1") -> 1 | AG13: =AD13+AE13+AF13 -> 3 | AI13: =IF(D13="U",1," ") | AJ13: =IF(L13>0.5,1," ") -> 1
B14: Freitag | C14: =C13+1 -> 46024 | E14: =Voreingabe!$C$12 -> 9 | F14: =Voreingabe!$E$12 -> 12 | G14: =Voreingabe!$F$12 -> 12.5 | H14: =Voreingabe!$G$12 -> 0 | I14: =Voreingabe!$H$12 -> 0 | J14: =Voreingabe!$D$12 -> 16 | K14: =(G14-F14)+(I14-H14) -> 0.5 | L14: =+IF((J14-E14-K14)>=0,(J14-E14-K14),(J14-(E14-24)-K14)) -> 6.5 | M14: =IF(L14>12,"§9 AZG! ","-") -> - | N14: =IF(L14>6,IF(K14<0.5,"Pause!","-"),"-") -> - | O14: =Voreingabe!$I$12 -> 6.5 | P14: =L14-O14 -> 0 | Z14: =IF(AB14=0,"Okay","Fehler") -> Okay | AB14: =P14-T14-V14-W14-X14-Y14-R14-U14-S14 -> 0 | AC14: =IF(AND(J14>=0.1,J14<6),J14+24,IF(J14>12,J14,0)) -> 16 | AD14: =IF(E14>6.99,"1","2") -> 1 | AE14: =IF(AC14<18.99,"1","2") -> 1 | AF14: =IF(AC14>=22,"2","1") -> 1 | AG14: =AD14+AE14+AF14 -> 3 | AI14: =IF(D14="U",1," ") | AJ14: =IF(L14>0.5,1," ") -> 1
B15: Samstag | C15: =C14+1 -> 46025 | E15: =Voreingabe!$C$13 -> 0 | F15: =Voreingabe!$E$13 -> 0 | G15: =Voreingabe!$F$13 -> 0 | H15: =Voreingabe!$G$13 -> 0 | I15: =Voreingabe!$H$13 -> 0 | J15: =Voreingabe!$D$13 -> 0 | K15: =(G15-F15)+(I15-H15) -> 0 | L15: =+IF((J15-E15-K15)>=0,(J15-E15-K15),(J15-(E15-24)-K15)) -> 0 | M15: =IF(L15>12,"§9 AZG! ","-") -> - | N15: =IF(L15>6,IF(K15<0.5,"Pause!","-"),"-") -> - | O15: =Voreingabe!$I$13 -> 0 | P15: =L15-O15 -> 0 | Z15: =IF(AB15=0,"Okay","Fehler") -> Okay | AB15: =P15-T15-V15-W15-X15-Y15-R15-U15-S15 -> 0 | AC15: =IF(AND(J15>=0.1,J15<6),J15+24,IF(J15>12,J15,0)) -> 0 | AD15: =IF(E15>6.99,"1","2") -> 2 | AE15: =IF(AC15<18.99,"1","2") -> 1 | AF15: =IF(AC15>=22,"2","1") -> 1 | AG15: =AD15+AE15+AF15 -> 4 | AI15: =IF(D15="U",1," ") | AJ15: =IF(L15>0.5,1," ")
B16: Sonntag | C16: =C15+1 -> 46026 | E16: =Voreingabe!$C$14 -> 0 | F16: =Voreingabe!$E$14 -> 0 | G16: =Voreingabe!$F$14 -> 0 | H16: =Voreingabe!$G$14 -> 0 | I16: =Voreingabe!$H$14 -> 0 | J16: =Voreingabe!$D$14 -> 0 | K16: =(G16-F16)+(I16-H16) -> 0 | L16: =+IF((J16-E16-K16)>=0,(J16-E16-K16),(J16-(E16-24)-K16)) -> 0 | M16: =IF(L16>12,"§9 AZG! ","-") -> - | N16: =IF(L16>6,IF(K16<0.5,"Pause!","-"),"-") -> - | O16: =Voreingabe!$I$14 -> 0 | P16: =L16-O16 -> 0 | Q16: =IF(AND((J16-19)>2.99,(J16-E16)>3,J16>19),"JA","-") -> - | Z16: =IF(AB16=0,"Okay","Fehler") -> Okay | AB16: =P16-T16-V16-W16-X16-Y16-R16-U16-S16 -> 0 | AC16: =IF(AND(J16>=0.1,J16<6),J16+24,IF(J16>12,J16,0)) -> 0 | AD16: =IF(E16>6.99,"1","2") -> 2 | AE16: =IF(AC16<18.99,"1","2") -> 1 | AF16: =IF(AC16>=22,"2","1") -> 1 | AG16: =AD16+AE16+AF16 -> 4 | AJ16: =IF(L16>0.5,1," ")
B17: Wochensumme 1 | L17: =SUM(L10:L16) -> 14 | M17: =IF(L17>60,"§9 AZG! ","-") -> - | O17: =SUM(O10:O16) -> 14 | P17: =L17-O17 -> 0 | R17: =SUM(R10:R16) -> 0 | S17: =SUM(S10:S16) -> 0 | T17: =SUM(T10:T16) -> 0 | U17: =SUM(U10:U16) -> 0 | V17: =SUM(V10:V16) -> 0 | W17: =SUM(W10:W16) -> 0 | X17: =SUM(X10:X16) -> 0 | Y17: =SUM(Y10:Y16) -> 0 | Z17: =SUM(T17:Y17) -> 0
B18: Montag | C18: =C16+1 -> 46027 | E18: =Voreingabe!$C$8 -> 9 | F18: =Voreingabe!$E$8 -> 12 | G18: =Voreingabe!$F$8 -> 12.5 | H18: =Voreingabe!$G$8 -> 0 | I18: =Voreingabe!$H$8 -> 0 | J18: =Voreingabe!$D$8 -> 18 | K18: =(G18-F18)+(I18-H18) -> 0.5 | L18: =+IF((J18-E18-K18)>=0,(J18-E18-K18),(J18-(E18-24)-K18)) -> 8.5 | M18: =IF(L18>12,"§9 AZG! ","-") -> - | N18: =IF(L18>6,IF(K18<0.5,"Pause!","-"),"-") -> - | O18: =Voreingabe!$I$8 -> 8.5 | P18: =L18-O18 -> 0 | Q18: =IF(AND((J18-19)>2.99,(J18-E18)>3,J18>19),"JA","-") -> - | Z18: =IF(AB18=0,"Okay","Fehler") -> Okay | AB18: =P18-T18-V18-W18-X18-Y18-R18-U18-S18 -> 0 | AC18: =IF(AND(J18>=0.1,J18<6),J18+24,IF(J18>12,J18,0)) -> 18 | AD18: =IF(E18>6.99,"1","2") -> 1 | AE18: =IF(AC18<18.99,"1","2") -> 1 | AF18: =IF(AC18>=22,"2","1") -> 1 | AG18: =AD18+AE18+AF18 -> 3 | AI18: =IF(D18="U",1," ") | AJ18: =IF(L18>0.5,1," ") -> 1
B19: Dienstag | C19: =C18+1 -> 46028 | D19: FE | E19: =Voreingabe!$C$9 -> 9 | F19: =Voreingabe!$E$9 -> 12 | G19: =Voreingabe!$F$9 -> 12.5 | H19: =Voreingabe!$G$9 -> 0 | I19: =Voreingabe!$H$9 -> 0 | J19: =Voreingabe!$D$9 -> 18 | K19: =(G19-F19)+(I19-H19) -> 0.5 | L19: =+IF((J19-E19-K19)>=0,(J19-E19-K19),(J19-(E19-24)-K19)) -> 8.5 | M19: =IF(L19>12,"§9 AZG! ","-") -> - | N19: =IF(L19>6,IF(K19<0.5,"Pause!","-"),"-") -> - | O19: =Voreingabe!$I$9 -> 8.5 | P19: =L19-O19 -> 0 | Q19: =IF(AND((J19-19)>2.99,(J19-E19)>3,J19>19),"JA","-") -> - | Z19: =IF(AB19=0,"Okay","Fehler") -> Okay | AB19: =P19-T19-V19-W19-X19-Y19-R19-U19-S19 -> 0 | AC19: =IF(AND(J19>=0.1,J19<6),J19+24,IF(J19>12,J19,0)) -> 18 | AD19: =IF(E19>6.99,"1","2") -> 1 | AE19: =IF(AC19<18.99,"1","2") -> 1 | AF19: =IF(AC19>=22,"2","1") -> 1 | AG19: =AD19+AE19+AF19 -> 3 | AI19: =IF(D19="U",1," ") | AJ19: =IF(L19>0.5,1," ") -> 1
B20: Mittwoch | C20: =C19+1 -> 46029 | E20: =Voreingabe!$C$10 -> 9 | F20: =Voreingabe!$E$10 -> 12 | G20: =Voreingabe!$F$10 -> 12.5 | H20: =Voreingabe!$G$10 -> 0 | I20: =Voreingabe!$H$10 -> 0 | J20: =Voreingabe!$D$10 -> 17 | K20: =(G20-F20)+(I20-H20) -> 0.5 | L20: =+IF((J20-E20-K20)>=0,(J20-E20-K20),(J20-(E20-24)-K20)) -> 7.5 | M20: =IF(L20>12,"§9 AZG! ","-") -> - | N20: =IF(L20>6,IF(K20<0.5,"Pause!","-"),"-") -> - | O20: =Voreingabe!$I$10 -> 7.5 | P20: =L20-O20 -> 0 | Q20: =IF(AND((J20-19)>2.99,(J20-E20)>3,J20>19),"JA","-") -> - | Z20: =IF(AB20=0,"Okay","Fehler") -> Okay | AB20: =P20-T20-V20-W20-X20-Y20-R20-U20-S20 -> 0 | AC20: =IF(AND(J20>=0.1,J20<6),J20+24,IF(J20>12,J20,0)) -> 17 | AD20: =IF(E20>6.99,"1","2") -> 1 | AE20: =IF(AC20<18.99,"1","2") -> 1 | AF20: =IF(AC20>=22,"2","1") -> 1 | AG20: =AD20+AE20+AF20 -> 3 | AI20: =IF(D20="U",1," ") | AJ20: =IF(L20>0.5,1," ") -> 1
B21: Donnerstag | C21: =C20+1 -> 46030 | E21: =Voreingabe!$C$11 -> 9 | F21: =Voreingabe!$E$11 -> 12 | G21: =Voreingabe!$F$11 -> 12.5 | H21: =Voreingabe!$G$11 -> 0 | I21: =Voreingabe!$H$11 -> 0 | J21: =Voreingabe!$D$11 -> 17 | K21: =(G21-F21)+(I21-H21) -> 0.5 | L21: =+IF((J21-E21-K21)>=0,(J21-E21-K21),(J21-(E21-24)-K21)) -> 7.5 | M21: =IF(L21>12,"§9 AZG! ","-") -> - | N21: =IF(L21>6,IF(K21<0.5,"Pause!","-"),"-") -> - | O21: =Voreingabe!$I$11 -> 7.5 | P21: =L21-O21 -> 0 | Q21: =IF(AND((J21-19)>2.99,(J21-E21)>3,J21>19),"JA","-") -> - | Z21: =IF(AB21=0,"Okay","Fehler") -> Okay | AB21: =P21-T21-V21-W21-X21-Y21-R21-U21-S21 -> 0 | AC21: =IF(AND(J21>=0.1,J21<6),J21+24,IF(J21>12,J21,0)) -> 17 | AD21: =IF(E21>6.99,"1","2") -> 1 | AE21: =IF(AC21<18.99,"1","2") -> 1 | AF21: =IF(AC21>=22,"2","1") -> 1 | AG21: =AD21+AE21+AF21 -> 3 | AI21: =IF(D21="U",1," ") | AJ21: =IF(L21>0.5,1," ") -> 1
B22: Freitag | C22: =C21+1 -> 46031 | E22: =Voreingabe!$C$12 -> 9 | F22: =Voreingabe!$E$12 -> 12 | G22: =Voreingabe!$F$12 -> 12.5 | H22: =Voreingabe!$G$12 -> 0 | I22: =Voreingabe!$H$12 -> 0 | J22: =Voreingabe!$D$12 -> 16 | K22: =(G22-F22)+(I22-H22) -> 0.5 | L22: =+IF((J22-E22-K22)>=0,(J22-E22-K22),(J22-(E22-24)-K22)) -> 6.5 | M22: =IF(L22>12,"§9 AZG! ","-") -> - | N22: =IF(L22>6,IF(K22<0.5,"Pause!","-"),"-") -> - | O22: =Voreingabe!$I$12 -> 6.5 | P22: =L22-O22 -> 0 | Q22: =IF(AND((J22-19)>2.99,(J22-E22)>3,J22>19),"JA","-") -> - | Z22: =IF(AB22=0,"Okay","Fehler") -> Okay | AB22: =P22-T22-V22-W22-X22-Y22-R22-U22-S22 -> 0 | AC22: =IF(AND(J22>=0.1,J22<6),J22+24,IF(J22>12,J22,0)) -> 16 | AD22: =IF(E22>6.99,"1","2") -> 1 | AE22: =IF(AC22<18.99,"1","2") -> 1 | AF22: =IF(AC22>=22,"2","1") -> 1 | AG22: =AD22+AE22+AF22 -> 3 | AI22: =IF(D22="U",1," ") | AJ22: =IF(L22>0.5,1," ") -> 1
B23: Samstag | C23: =C22+1 -> 46032 | E23: =Voreingabe!$C$13 -> 0 | F23: =Voreingabe!$E$13 -> 0 | G23: =Voreingabe!$F$13 -> 0 | H23: =Voreingabe!$G$13 -> 0 | I23: =Voreingabe!$H$13 -> 0 | J23: =Voreingabe!$D$13 -> 0 | K23: =(G23-F23)+(I23-H23) -> 0 | L23: =+IF((J23-E23-K23)>=0,(J23-E23-K23),(J23-(E23-24)-K23)) -> 0 | M23: =IF(L23>12,"§9 AZG! ","-") -> - | N23: =IF(L23>6,IF(K23<0.5,"Pause!","-"),"-") -> - | O23: =Voreingabe!$I$13 -> 0 | P23: =L23-O23 -> 0 | Q23: =IF(AND((J23-19)>2.99,(J23-E23)>3,J23>19),"JA","-") -> - | Z23: =IF(AB23=0,"Okay","Fehler") -> Okay | AB23: =P23-T23-V23-W23-X23-Y23-R23-U23-S23 -> 0 | AC23: =IF(AND(J23>=0.1,J23<6),J23+24,IF(J23>12,J23,0)) -> 0 | AD23: =IF(E23>6.99,"1","2") -> 2 | AE23: =IF(AC23<18.99,"1","2") -> 1 | AF23: =IF(AC23>=22,"2","1") -> 1 | AG23: =AD23+AE23+AF23 -> 4 | AI23: =IF(D23="U",1," ") | AJ23: =IF(L23>0.5,1," ")
B24: Sonntag | C24: =C23+1 -> 46033 | E24: =Voreingabe!$C$14 -> 0 | F24: =Voreingabe!$E$14 -> 0 | G24: =Voreingabe!$F$14 -> 0 | H24: =Voreingabe!$G$14 -> 0 | I24: =Voreingabe!$H$14 -> 0 | J24: =Voreingabe!$D$14 -> 0 | K24: =(G24-F24)+(I24-H24) -> 0 | L24: =+IF((J24-E24-K24)>=0,(J24-E24-K24),(J24-(E24-24)-K24)) -> 0 | M24: =IF(L24>12,"§9 AZG! ","-") -> - | N24: =IF(L24>6,IF(K24<0.5,"Pause!","-"),"-") -> - | O24: =Voreingabe!$I$14 -> 0 | P24: =L24-O24 -> 0 | Q24: =IF(AND((J24-19)>2.99,(J24-E24)>3,J24>19),"JA","-") -> - | Z24: =IF(AB24=0,"Okay","Fehler") -> Okay | AB24: =P24-T24-V24-W24-X24-Y24-R24-U24-S24 -> 0 | AC24: =IF(AND(J24>=0.1,J24<6),J24+24,IF(J24>12,J24,0)) -> 0 | AD24: =IF(E24>6.99,"1","2") -> 2 | AE24: =IF(AC24<18.99,"1","2") -> 1 | AF24: =IF(AC24>=22,"2","1") -> 1 | AG24: =AD24+AE24+AF24 -> 4 | AJ24: =IF(L24>0.5,1," ")
B25: Wochensumme 2 | L25: =SUM(L18:L24) -> 38.5 | M25: =IF(L25>60,"§9 AZG! ","-") -> - | O25: =SUM(O18:O24) -> 38.5 | P25: =L25-O25 -> 0 | R25: =SUM(R18:R24) -> 0 | S25: =SUM(S18:S24) -> 0 | T25: =SUM(T18:T24) -> 0 | U25: =SUM(U18:U24) -> 0 | V25: =SUM(V18:V24) -> 0 | W25: =SUM(W18:W24) -> 0 | X25: =SUM(X18:X24) -> 0 | Y25: =SUM(Y18:Y24) -> 0 | Z25: =SUM(T25:Y25) -> 0
B26: Montag | C26: =C24+1 -> 46034 | E26: =Voreingabe!$C$8 -> 9 | F26: =Voreingabe!$E$8 -> 12 | G26: =Voreingabe!$F$8 -> 12.5 | H26: =Voreingabe!$G$8 -> 0 | I26: =Voreingabe!$H$8 -> 0 | J26: =Voreingabe!$D$8 -> 18 | K26: =(G26-F26)+(I26-H26) -> 0.5 | L26: =+IF((J26-E26-K26)>=0,(J26-E26-K26),(J26-(E26-24)-K26)) -> 8.5 | M26: =IF(L26>12,"§9 AZG! ","-") -> - | N26: =IF(L26>6,IF(K26<0.5,"Pause!","-"),"-") -> - | O26: =Voreingabe!$I$8 -> 8.5 | P26: =L26-O26 -> 0 | Q26: =IF(AND((J26-19)>2.99,(J26-E26)>3,J26>19),"JA","-") -> - | Z26: =IF(AB26=0,"Okay","Fehler") -> Okay | AB26: =P26-T26-V26-W26-X26-Y26-R26-U26-S26 -> 0 | AC26: =IF(AND(J26>=0.1,J26<6),J26+24,IF(J26>12,J26,0)) -> 18 | AD26: =IF(E26>6.99,"1","2") -> 1 | AE26: =IF(AC26<18.99,"1","2") -> 1 | AF26: =IF(AC26>=22,"2","1") -> 1 | AG26: =AD26+AE26+AF26 -> 3 | AI26: =IF(D26="U",1," ") | AJ26: =IF(L26>0.5,1," ") -> 1
B27: Dienstag | C27: =C26+1 -> 46035 | E27: =Voreingabe!$C$9 -> 9 | F27: =Voreingabe!$E$9 -> 12 | G27: =Voreingabe!$F$9 -> 12.5 | H27: =Voreingabe!$G$9 -> 0 | I27: =Voreingabe!$H$9 -> 0 | J27: =Voreingabe!$D$9 -> 18 | K27: =(G27-F27)+(I27-H27) -> 0.5 | L27: =+IF((J27-E27-K27)>=0,(J27-E27-K27),(J27-(E27-24)-K27)) -> 8.5 | M27: =IF(L27>12,"§9 AZG! ","-") -> - | N27: =IF(L27>6,IF(K27<0.5,"Pause!","-"),"-") -> - | O27: =Voreingabe!$I$9 -> 8.5 | P27: =L27-O27 -> 0 | Q27: =IF(AND((J27-19)>2.99,(J27-E27)>3,J27>19),"JA","-") -> - | Z27: =IF(AB27=0,"Okay","Fehler") -> Okay | AB27: =P27-T27-V27-W27-X27-Y27-R27-U27-S27 -> 0 | AC27: =IF(AND(J27>=0.1,J27<6),J27+24,IF(J27>12,J27,0)) -> 18 | AD27: =IF(E27>6.99,"1","2") -> 1 | AE27: =IF(AC27<18.99,"1","2") -> 1 | AF27: =IF(AC27>=22,"2","1") -> 1 | AG27: =AD27+AE27+AF27 -> 3 | AI27: =IF(D27="U",1," ") | AJ27: =IF(L27>0.5,1," ") -> 1
B28: Mittwoch | C28: =C27+1 -> 46036 | E28: =Voreingabe!$C$10 -> 9 | F28: =Voreingabe!$E$10 -> 12 | G28: =Voreingabe!$F$10 -> 12.5 | H28: =Voreingabe!$G$10 -> 0 | I28: =Voreingabe!$H$10 -> 0 | J28: =Voreingabe!$D$10 -> 17 | K28: =(G28-F28)+(I28-H28) -> 0.5 | L28: =+IF((J28-E28-K28)>=0,(J28-E28-K28),(J28-(E28-24)-K28)) -> 7.5 | M28: =IF(L28>12,"§9 AZG! ","-") -> - | N28: =IF(L28>6,IF(K28<0.5,"Pause!","-"),"-") -> - | O28: =Voreingabe!$I$10 -> 7.5 | P28: =L28-O28 -> 0 | Q28: =IF(AND((J28-19)>2.99,(J28-E28)>3,J28>19),"JA","-") -> - | Z28: =IF(AB28=0,"Okay","Fehler") -> Okay | AB28: =P28-T28-V28-W28-X28-Y28-R28-U28-S28 -> 0 | AC28: =IF(AND(J28>=0.1,J28<6),J28+24,IF(J28>12,J28,0)) -> 17 | AD28: =IF(E28>6.99,"1","2") -> 1 | AE28: =IF(AC28<18.99,"1","2") -> 1 | AF28: =IF(AC28>=22,"2","1") -> 1 | AG28: =AD28+AE28+AF28 -> 3 | AI28: =IF(D28="U",1," ") | AJ28: =IF(L28>0.5,1," ") -> 1
B29: Donnerstag | C29: =C28+1 -> 46037 | E29: =Voreingabe!$C$11 -> 9 | F29: =Voreingabe!$E$11 -> 12 | G29: =Voreingabe!$F$11 -> 12.5 | H29: =Voreingabe!$G$11 -> 0 | I29: =Voreingabe!$H$11 -> 0 | J29: =Voreingabe!$D$11 -> 17 | K29: =(G29-F29)+(I29-H29) -> 0.5 | L29: =+IF((J29-E29-K29)>=0,(J29-E29-K29),(J29-(E29-24)-K29)) -> 7.5 | M29: =IF(L29>12,"§9 AZG! ","-") -> - | N29: =IF(L29>6,IF(K29<0.5,"Pause!","-"),"-") -> - | O29: =Voreingabe!$I$11 -> 7.5 | P29: =L29-O29 -> 0 | Q29: =IF(AND((J29-19)>2.99,(J29-E29)>3,J29>19),"JA","-") -> - | Z29: =IF(AB29=0,"Okay","Fehler") -> Okay | AB29: =P29-T29-V29-W29-X29-Y29-R29-U29-S29 -> 0 | AC29: =IF(AND(J29>=0.1,J29<6),J29+24,IF(J29>12,J29,0)) -> 17 | AD29: =IF(E29>6.99,"1","2") -> 1 | AE29: =IF(AC29<18.99,"1","2") -> 1 | AF29: =IF(AC29>=22,"2","1") -> 1 | AG29: =AD29+AE29+AF29 -> 3 | AI29: =IF(D29="U",1," ") | AJ29: =IF(L29>0.5,1," ") -> 1
B30: Freitag | C30: =C29+1 -> 46038 | E30: =Voreingabe!$C$12 -> 9 | F30: =Voreingabe!$E$12 -> 12 | G30: =Voreingabe!$F$12 -> 12.5 | H30: =Voreingabe!$G$12 -> 0 | I30: =Voreingabe!$H$12 -> 0 | J30: =Voreingabe!$D$12 -> 16 | K30: =(G30-F30)+(I30-H30) -> 0.5 | L30: =+IF((J30-E30-K30)>=0,(J30-E30-K30),(J30-(E30-24)-K30)) -> 6.5 | M30: =IF(L30>12,"§9 AZG! ","-") -> - | N30: =IF(L30>6,IF(K30<0.5,"Pause!","-"),"-") -> - | O30: =Voreingabe!$I$12 -> 6.5 | P30: =L30-O30 -> 0 | Q30: =IF(AND((J30-19)>2.99,(J30-E30)>3,J30>19),"JA","-") -> - | Z30: =IF(AB30=0,"Okay","Fehler") -> Okay | AB30: =P30-T30-V30-W30-X30-Y30-R30-U30-S30 -> 0 | AC30: =IF(AND(J30>=0.1,J30<6),J30+24,IF(J30>12,J30,0)) -> 16 | AD30: =IF(E30>6.99,"1","2") -> 1 | AE30: =IF(AC30<18.99,"1","2") -> 1 | AF30: =IF(AC30>=22,"2","1") -> 1 | AG30: =AD30+AE30+AF30 -> 3 | AI30: =IF(D30="U",1," ") | AJ30: =IF(L30>0.5,1," ") -> 1
B31: Samstag | C31: =C30+1 -> 46039 | E31: =Voreingabe!$C$13 -> 0 | F31: =Voreingabe!$E$13 -> 0 | G31: =Voreingabe!$F$13 -> 0 | H31: =Voreingabe!$G$13 -> 0 | I31: =Voreingabe!$H$13 -> 0 | J31: =Voreingabe!$D$13 -> 0 | K31: =(G31-F31)+(I31-H31) -> 0 | L31: =+IF((J31-E31-K31)>=0,(J31-E31-K31),(J31-(E31-24)-K31)) -> 0 | M31: =IF(L31>12,"§9 AZG! ","-") -> - | N31: =IF(L31>6,IF(K31<0.5,"Pause!","-"),"-") -> - | O31: =Voreingabe!$I$13 -> 0 | P31: =L31-O31 -> 0 | Q31: =IF(AND((J31-19)>2.99,(J31-E31)>3,J31>19),"JA","-") -> - | Z31: =IF(AB31=0,"Okay","Fehler") -> Okay | AB31: =P31-T31-V31-W31-X31-Y31-R31-U31-S31 -> 0 | AC31: =IF(AND(J31>=0.1,J31<6),J31+24,IF(J31>12,J31,0)) -> 0 | AD31: =IF(E31>6.99,"1","2") -> 2 | AE31: =IF(AC31<18.99,"1","2") -> 1 | AF31: =IF(AC31>=22,"2","1") -> 1 | AG31: =AD31+AE31+AF31 -> 4 | AI31: =IF(D31="U",1," ") | AJ31: =IF(L31>0.5,1," ")
B32: Sonntag | C32: =C31+1 -> 46040 | E32: =Voreingabe!$C$14 -> 0 | F32: =Voreingabe!$E$14 -> 0 | G32: =Voreingabe!$F$14 -> 0 | H32: =Voreingabe!$G$14 -> 0 | I32: =Voreingabe!$H$14 -> 0 | J32: =Voreingabe!$D$14 -> 0 | K32: =(G32-F32)+(I32-H32) -> 0 | L32: =+IF((J32-E32-K32)>=0,(J32-E32-K32),(J32-(E32-24)-K32)) -> 0 | M32: =IF(L32>12,"§9 AZG! ","-") -> - | N32: =IF(L32>6,IF(K32<0.5,"Pause!","-"),"-") -> - | O32: =Voreingabe!$I$14 -> 0 | P32: =L32-O32 -> 0 | Q32: =IF(AND((J32-19)>2.99,(J32-E32)>3,J32>19),"JA","-") -> - | Z32: =IF(AB32=0,"Okay","Fehler") -> Okay | AB32: =P32-T32-V32-W32-X32-Y32-R32-U32-S32 -> 0 | AC32: =IF(AND(J32>=0.1,J32<6),J32+24,IF(J32>12,J32,0)) -> 0 | AD32: =IF(E32>6.99,"1","2") -> 2 | AE32: =IF(AC32<18.99,"1","2") -> 1 | AF32: =IF(AC32>=22,"2","1") -> 1 | AG32: =AD32+AE32+AF32 -> 4 | AJ32: =IF(L32>0.5,1," ")
B33: Wochensumme 3 | L33: =SUM(L26:L32) -> 38.5 | M33: =IF(L33>60,"§9 AZG! ","-") -> - | O33: =SUM(O26:O32) -> 38.5 | P33: =L33-O33 -> 0 | R33: =SUM(R26:R32) -> 0 | S33: =SUM(S26:S32) -> 0 | T33: =SUM(T26:T32) -> 0 | U33: =SUM(U26:U32) -> 0 | V33: =SUM(V26:V32) -> 0 | W33: =SUM(W26:W32) -> 0 | X33: =SUM(X26:X32) -> 0 | Y33: =SUM(Y26:Y32) -> 0 | Z33: =SUM(T33:Y33) -> 0
B34: Montag | C34: =C32+1 -> 46041 | E34: =Voreingabe!$C$8 -> 9 | F34: =Voreingabe!$E$8 -> 12 | G34: =Voreingabe!$F$8 -> 12.5 | H34: =Voreingabe!$G$8 -> 0 | I34: =Voreingabe!$H$8 -> 0 | J34: =Voreingabe!$D$8 -> 18 | K34: =(G34-F34)+(I34-H34) -> 0.5 | L34: =+IF((J34-E34-K34)>=0,(J34-E34-K34),(J34-(E34-24)-K34)) -> 8.5 | M34: =IF(L34>12,"§9 AZG! ","-") -> - | N34: =IF(L34>6,IF(K34<0.5,"Pause!","-"),"-") -> - | O34: =Voreingabe!$I$8 -> 8.5 | P34: =L34-O34 -> 0 | Q34: =IF(AND((J34-19)>2.99,(J34-E34)>3,J34>19),"JA","-") -> - | Z34: =IF(AB34=0,"Okay","Fehler") -> Okay | AB34: =P34-T34-V34-W34-X34-Y34-R34-U34-S34 -> 0 | AC34: =IF(AND(J34>=0.1,J34<6),J34+24,IF(J34>12,J34,0)) -> 18 | AD34: =IF(E34>6.99,"1","2") -> 1 | AE34: =IF(AC34<18.99,"1","2") -> 1 | AF34: =IF(AC34>=22,"2","1") -> 1 | AG34: =AD34+AE34+AF34 -> 3 | AI34: =IF(D34="U",1," ") | AJ34: =IF(L34>0.5,1," ") -> 1
B35: Dienstag | C35: =C34+1 -> 46042 | E35: =Voreingabe!$C$9 -> 9 | F35: =Voreingabe!$E$9 -> 12 | G35: =Voreingabe!$F$9 -> 12.5 | H35: =Voreingabe!$G$9 -> 0 | I35: =Voreingabe!$H$9 -> 0 | J35: =Voreingabe!$D$9 -> 18 | K35: =(G35-F35)+(I35-H35) -> 0.5 | L35: =+IF((J35-E35-K35)>=0,(J35-E35-K35),(J35-(E35-24)-K35)) -> 8.5 | M35: =IF(L35>12,"§9 AZG! ","-") -> - | N35: =IF(L35>6,IF(K35<0.5,"Pause!","-"),"-") -> - | O35: =Voreingabe!$I$9 -> 8.5 | P35: =L35-O35 -> 0 | Q35: =IF(AND((J35-19)>2.99,(J35-E35)>3,J35>19),"JA","-") -> - | Z35: =IF(AB35=0,"Okay","Fehler") -> Okay | AB35: =P35-T35-V35-W35-X35-Y35-R35-U35-S35 -> 0 | AC35: =IF(AND(J35>=0.1,J35<6),J35+24,IF(J35>12,J35,0)) -> 18 | AD35: =IF(E35>6.99,"1","2") -> 1 | AE35: =IF(AC35<18.99,"1","2") -> 1 | AF35: =IF(AC35>=22,"2","1") -> 1 | AG35: =AD35+AE35+AF35 -> 3 | AI35: =IF(D35="U",1," ") | AJ35: =IF(L35>0.5,1," ") -> 1
B36: Mittwoch | C36: =C35+1 -> 46043 | E36: =Voreingabe!$C$10 -> 9 | F36: =Voreingabe!$E$10 -> 12 | G36: =Voreingabe!$F$10 -> 12.5 | H36: =Voreingabe!$G$10 -> 0 | I36: =Voreingabe!$H$10 -> 0 | J36: =Voreingabe!$D$10 -> 17 | K36: =(G36-F36)+(I36-H36) -> 0.5 | L36: =+IF((J36-E36-K36)>=0,(J36-E36-K36),(J36-(E36-24)-K36)) -> 7.5 | M36: =IF(L36>12,"§9 AZG! ","-") -> - | N36: =IF(L36>6,IF(K36<0.5,"Pause!","-"),"-") -> - | O36: =Voreingabe!$I$10 -> 7.5 | P36: =L36-O36 -> 0 | Q36: =IF(AND((J36-19)>2.99,(J36-E36)>3,J36>19),"JA","-") -> - | Z36: =IF(AB36=0,"Okay","Fehler") -> Okay | AB36: =P36-T36-V36-W36-X36-Y36-R36-U36-S36 -> 0 | AC36: =IF(AND(J36>=0.1,J36<6),J36+24,IF(J36>12,J36,0)) -> 17 | AD36: =IF(E36>6.99,"1","2") -> 1 | AE36: =IF(AC36<18.99,"1","2") -> 1 | AF36: =IF(AC36>=22,"2","1") -> 1 | AG36: =AD36+AE36+AF36 -> 3 | AI36: =IF(D36="U",1," ") | AJ36: =IF(L36>0.5,1," ") -> 1
B37: Donnerstag | C37: =C36+1 -> 46044 | E37: =Voreingabe!$C$11 -> 9 | F37: =Voreingabe!$E$11 -> 12 | G37: =Voreingabe!$F$11 -> 12.5 | H37: =Voreingabe!$G$11 -> 0 | I37: =Voreingabe!$H$11 -> 0 | J37: =Voreingabe!$D$11 -> 17 | K37: =(G37-F37)+(I37-H37) -> 0.5 | L37: =+IF((J37-E37-K37)>=0,(J37-E37-K37),(J37-(E37-24)-K37)) -> 7.5 | M37: =IF(L37>12,"§9 AZG! ","-") -> - | N37: =IF(L37>6,IF(K37<0.5,"Pause!","-"),"-") -> - | O37: =Voreingabe!$I$11 -> 7.5 | P37: =L37-O37 -> 0 | Q37: =IF(AND((J37-19)>2.99,(J37-E37)>3,J37>19),"JA","-") -> - | Z37: =IF(AB37=0,"Okay","Fehler") -> Okay | AB37: =P37-T37-V37-W37-X37-Y37-R37-U37-S37 -> 0 | AC37: =IF(AND(J37>=0.1,J37<6),J37+24,IF(J37>12,J37,0)) -> 17 | AD37: =IF(E37>6.99,"1","2") -> 1 | AE37: =IF(AC37<18.99,"1","2") -> 1 | AF37: =IF(AC37>=22,"2","1") -> 1 | AG37: =AD37+AE37+AF37 -> 3 | AI37: =IF(D37="U",1," ") | AJ37: =IF(L37>0.5,1," ") -> 1
B38: Freitag | C38: =C37+1 -> 46045 | E38: =Voreingabe!$C$12 -> 9 | F38: =Voreingabe!$E$12 -> 12 | G38: =Voreingabe!$F$12 -> 12.5 | H38: =Voreingabe!$G$12 -> 0 | I38: =Voreingabe!$H$12 -> 0 | J38: =Voreingabe!$D$12 -> 16 | K38: =(G38-F38)+(I38-H38) -> 0.5 | L38: =+IF((J38-E38-K38)>=0,(J38-E38-K38),(J38-(E38-24)-K38)) -> 6.5 | M38: =IF(L38>12,"§9 AZG! ","-") -> - | N38: =IF(L38>6,IF(K38<0.5,"Pause!","-"),"-") -> - | O38: =Voreingabe!$I$12 -> 6.5 | P38: =L38-O38 -> 0 | Q38: =IF(AND((J38-19)>2.99,(J38-E38)>3,J38>19),"JA","-") -> - | Z38: =IF(AB38=0,"Okay","Fehler") -> Okay | AB38: =P38-T38-V38-W38-X38-Y38-R38-U38-S38 -> 0 | AC38: =IF(AND(J38>=0.1,J38<6),J38+24,IF(J38>12,J38,0)) -> 16 | AD38: =IF(E38>6.99,"1","2") -> 1 | AE38: =IF(AC38<18.99,"1","2") -> 1 | AF38: =IF(AC38>=22,"2","1") -> 1 | AG38: =AD38+AE38+AF38 -> 3 | AI38: =IF(D38="U",1," ") | AJ38: =IF(L38>0.5,1," ") -> 1
B39: Samstag | C39: =C38+1 -> 46046 | E39: =Voreingabe!$C$13 -> 0 | F39: =Voreingabe!$E$13 -> 0 | G39: =Voreingabe!$F$13 -> 0 | H39: =Voreingabe!$G$13 -> 0 | I39: =Voreingabe!$H$13 -> 0 | J39: =Voreingabe!$D$13 -> 0 | K39: =(G39-F39)+(I39-H39) -> 0 | L39: =+IF((J39-E39-K39)>=0,(J39-E39-K39),(J39-(E39-24)-K39)) -> 0 | M39: =IF(L39>12,"§9 AZG! ","-") -> - | N39: =IF(L39>6,IF(K39<0.5,"Pause!","-"),"-") -> - | O39: =Voreingabe!$I$13 -> 0 | P39: =L39-O39 -> 0 | Q39: =IF(AND((J39-19)>2.99,(J39-E39)>3,J39>19),"JA","-") -> - | Z39: =IF(AB39=0,"Okay","Fehler") -> Okay | AB39: =P39-T39-V39-W39-X39-Y39-R39-U39-S39 -> 0 | AC39: =IF(AND(J39>=0.1,J39<6),J39+24,IF(J39>12,J39,0)) -> 0 | AD39: =IF(E39>6.99,"1","2") -> 2 | AE39: =IF(AC39<18.99,"1","2") -> 1 | AF39: =IF(AC39>=22,"2","1") -> 1 | AG39: =AD39+AE39+AF39 -> 4 | AI39: =IF(D39="U",1," ") | AJ39: =IF(L39>0.5,1," ")
B40: Sonntag | C40: =C39+1 -> 46047 | E40: =Voreingabe!$C$14 -> 0 | F40: =Voreingabe!$E$14 -> 0 | G40: =Voreingabe!$F$14 -> 0 | H40: =Voreingabe!$G$14 -> 0 | I40: =Voreingabe!$H$14 -> 0 | J40: =Voreingabe!$D$14 -> 0 | K40: =(G40-F40)+(I40-H40) -> 0 | L40: =+IF((J40-E40-K40)>=0,(J40-E40-K40),(J40-(E40-24)-K40)) -> 0 | M40: =IF(L40>12,"§9 AZG! ","-") -> - | N40: =IF(L40>6,IF(K40<0.5,"Pause!","-"),"-") -> - | O40: =Voreingabe!$I$14 -> 0 | P40: =L40-O40 -> 0 | Q40: =IF(AND((J40-19)>2.99,(J40-E40)>3,J40>19),"JA","-") -> - | Z40: =IF(AB40=0,"Okay","Fehler") -> Okay | AB40: =P40-T40-V40-W40-X40-Y40-R40-U40-S40 -> 0 | AC40: =IF(AND(J40>=0.1,J40<6),J40+24,IF(J40>12,J40,0)) -> 0 | AD40: =IF(E40>6.99,"1","2") -> 2 | AE40: =IF(AC40<18.99,"1","2") -> 1 | AF40: =IF(AC40>=22,"2","1") -> 1 | AG40: =AD40+AE40+AF40 -> 4 | AJ40: =IF(L40>0.5,1," ")
B41: Wochensumme 4 | L41: =SUM(L34:L40) -> 38.5 | M41: =IF(L41>60,"§9 AZG! ","-") -> - | O41: =SUM(O34:O40) -> 38.5 | P41: =L41-O41 -> 0 | R41: =SUM(R34:R40) -> 0 | S41: =SUM(S34:S40) -> 0 | T41: =SUM(T34:T40) -> 0 | U41: =SUM(U34:U40) -> 0 | V41: =SUM(V34:V40) -> 0 | W41: =SUM(W34:W40) -> 0 | X41: =SUM(X34:X40) -> 0 | Y41: =SUM(Y34:Y40) -> 0 | Z41: =SUM(T41:Y41) -> 0
B42: Montag | C42: =C40+1 -> 46048 | E42: =Voreingabe!$C$8 -> 9 | F42: =Voreingabe!$E$8 -> 12 | G42: =Voreingabe!$F$8 -> 12.5 | H42: =Voreingabe!$G$8 -> 0 | I42: =Voreingabe!$H$8 -> 0 | J42: =Voreingabe!$D$8 -> 18 | K42: =(G42-F42)+(I42-H42) -> 0.5 | L42: =+IF((J42-E42-K42)>=0,(J42-E42-K42),(J42-(E42-24)-K42)) -> 8.5 | M42: =IF(L42>12,"§9 AZG! ","-") -> - | N42: =IF(L42>6,IF(K42<0.5,"Pause!","-"),"-") -> - | O42: =Voreingabe!$I$8 -> 8.5 | P42: =L42-O42 -> 0 | Q42: =IF(AND((J42-19)>2.99,(J42-E42)>3,J42>19),"JA","-") -> - | Z42: =IF(AB42=0,"Okay","Fehler") -> Okay | AB42: =P42-T42-V42-W42-X42-Y42-R42-U42-S42 -> 0 | AC42: =IF(AND(J42>=0.1,J42<6),J42+24,IF(J42>12,J42,0)) -> 18 | AD42: =IF(E42>6.99,"1","2") -> 1 | AE42: =IF(AC42<18.99,"1","2") -> 1 | AF42: =IF(AC42>=22,"2","1") -> 1 | AG42: =AD42+AE42+AF42 -> 3 | AI42: =IF(D42="U",1," ") | AJ42: =IF(L42>0.5,1," ") -> 1
B43: Dienstag | C43: =+C42+1 -> 46049 | E43: =Voreingabe!$C$9 -> 9 | F43: =Voreingabe!$E$9 -> 12 | G43: =Voreingabe!$F$9 -> 12.5 | H43: =Voreingabe!$G$9 -> 0 | I43: =Voreingabe!$H$9 -> 0 | J43: =Voreingabe!$D$9 -> 18 | K43: =(G43-F43)+(I43-H43) -> 0.5 | L43: =+IF((J43-E43-K43)>=0,(J43-E43-K43),(J43-(E43-24)-K43)) -> 8.5 | M43: =IF(L43>12,"§9 AZG! ","-") -> - | N43: =IF(L43>6,IF(K43<0.5,"Pause!","-"),"-") -> - | O43: =Voreingabe!$I$9 -> 8.5 | P43: =L43-O43 -> 0 | Q43: =IF(AND((J43-19)>2.99,(J43-E43)>3,J43>19),"JA","-") -> - | Z43: =IF(AB43=0,"Okay","Fehler") -> Okay | AB43: =P43-T43-V43-W43-X43-Y43-R43-U43-S43 -> 0 | AC43: =IF(AND(J43>=0.1,J43<6),J43+24,IF(J43>12,J43,0)) -> 18 | AD43: =IF(E43>6.99,"1","2") -> 1 | AE43: =IF(AC43<18.99,"1","2") -> 1 | AF43: =IF(AC43>=22,"2","1") -> 1 | AG43: =AD43+AE43+AF43 -> 3 | AI43: =IF(D43="U",1," ") | AJ43: =IF(L43>0.5,1," ") -> 1
B44: Mittwoch | C44: =C43+1 -> 46050 | E44: =Voreingabe!$C$10 -> 9 | F44: =Voreingabe!$E$10 -> 12 | G44: =Voreingabe!$F$10 -> 12.5 | H44: =Voreingabe!$G$10 -> 0 | I44: =Voreingabe!$H$10 -> 0 | J44: =Voreingabe!$D$10 -> 17 | K44: =(G44-F44)+(I44-H44) -> 0.5 | L44: =+IF((J44-E44-K44)>=0,(J44-E44-K44),(J44-(E44-24)-K44)) -> 7.5 | M44: =IF(L44>12,"§9 AZG! ","-") -> - | N44: =IF(L44>6,IF(K44<0.5,"Pause!","-"),"-") -> - | O44: =Voreingabe!$I$10 -> 7.5 | P44: =L44-O44 -> 0 | Q44: =IF(AND((J44-19)>2.99,(J44-E44)>3,J44>19),"JA","-") -> - | Z44: =IF(AB44=0,"Okay","Fehler") -> Okay | AB44: =P44-T44-V44-W44-X44-Y44-R44-U44-S44 -> 0 | AC44: =IF(AND(J44>=0.1,J44<6),J44+24,IF(J44>12,J44,0)) -> 17 | AD44: =IF(E44>6.99,"1","2") -> 1 | AE44: =IF(AC44<18.99,"1","2") -> 1 | AF44: =IF(AC44>=22,"2","1") -> 1 | AG44: =AD44+AE44+AF44 -> 3 | AI44: =IF(D44="U",1," ") | AJ44: =IF(L44>0.5,1," ") -> 1
...

Sheet Februar
B1: ZEITERFASSUNG
B4: NAME: | C4: =Voreingabe!C3 -> Musterfrau | K4: FUNKTION: | M4: =Voreingabe!F3 -> Buchhalterin | V4: MA-Nummer: | X4: =Voreingabe!I3 -> 5
B6: MONAT: | C6: Februar | K6: JAHR: | M6: 2026
B8: Tag | C8: Datum | D8: INFO | E8: Arbeits- beginn | F8: Pausen-beginn | G8: Pausen-ende | H8: Pausen-beginn | I8: Pausen-ende | J8: Arbeits- ende | K8: Pausen-dauer | L8: tatsächl. geleistete Std. | M8: Info Arbeitszeit | N8: Info Pause | O8: Stunden Soll | P8: Stunden differenz | Q8: Nacht- stunden | R8: Zeit-ausgleich | S8: Durchrechnung | T8: Mehr- stunden | U8: Mehr- stunden 25% | V8: 50%- Überstd. | W8: 100%- Überstd. | X8: Sonn- u. Feiertag | Y8: Nacht-zuschlag | Z8: Kontrolle | AI8: Summe UT | AJ8: Summe AT
B9: ÜBETRAG | R9: =Jänner!R63 -> 0 | S9: =Jänner!S63 -> 0 | T9: =Jänner!T63 -> 0 | U9: =Jänner!U63 -> 0 | V9: =Jänner!V63 -> 0 | W9: =Jänner!W63 -> 0 | X9: =Jänner!X63 -> 0 | Y9: =Jänner!Y63 -> 0
B10: Montag | Z10: =IF(AB10=0,"Okay","Fehler") -> Okay | AB10: =P10-T10-V10-W10-X10-Y10-R10-U10-S10 -> 0 | AC10: =IF(AND(J10>=0.1,J10<=12),J10+24,IF(J10>=12,J10,0)) -> 0 | AD10: =IF(E10>6.99,"1","2") -> 2 | AE10: =IF(AC10<18.99,"1","2") -> 1 | AF10: =IF(AC10>22,"2","1") -> 1 | AG10: =AD10+AE10+AF10 -> 4 | AI10: =IF(D10="U",1," ") | AJ10: =IF(L10>0.5,1," ")
B11: Dienstag | Z11: =IF(AB11=0,"Okay","Fehler") -> Okay | AB11: =P11-T11-V11-W11-X11-Y11-R11-U11-S11 -> 0 | AC11: =IF(AND(J11>=0.1,J11<=12),J11+24,IF(J11>=12,J11,0)) -> 0 | AD11: =IF(E11>6.99,"1","2") -> 2 | AE11: =IF(AC11<18.99,"1","2") -> 1 | AF11: =IF(AC11>22,"2","1") -> 1 | AG11: =AD11+AE11+AF11 -> 4 | AI11: =IF(D11="U",1," ") | AJ11: =IF(L11>0.5,1," ")
B12: Mittwoch | Q12: =IF(AND((J12-19)>2.99,(J12-E12)>3,J12>19),"JA","-") -> - | Z12: =IF(AB12=0,"Okay","Fehler") -> Okay | AB12: =P12-T12-V12-W12-X12-Y12-R12-U12-S12 -> 0 | AC12: =IF(AND(J12>=0.1,J12<=12),J12+24,IF(J12>=12,J12,0)) -> 0 | AD12: =IF(E12>6.99,"1","2") -> 2 | AE12: =IF(AC12<18.99,"1","2") -> 1 | AF12: =IF(AC12>22,"2","1") -> 1 | AG12: =AD12+AE12+AF12 -> 4 | AI12: =IF(D12="U",1," ") | AJ12: =IF(L12>0.5,1," ")
B13: Donnerstag | Q13: =IF(AND((J13-19)>2.99,(J13-E13)>3,J13>19),"JA","-") -> - | Z13: =IF(AB13=0,"Okay","Fehler") -> Okay | AB13: =P13-T13-V13-W13-X13-Y13-R13-U13-S13 -> 0 | AC13: =IF(AND(J13>=0.1,J13<=12),J13+24,IF(J13>=12,J13,0)) -> 0 | AD13: =IF(E13>6.99,"1","2") -> 2 | AE13: =IF(AC13<18.99,"1","2") -> 1 | AF13: =IF(AC13>22,"2","1") -> 1 | AG13: =AD13+AE13+AF13 -> 4 | AI13: =IF(D13="U",1," ") | AJ13: =IF(L13>0.5,1," ")
B14: Freitag | Q14: =IF(AND((J14-19)>2.99,(J14-E14)>3,J14>19),"JA","-") -> - | Z14: =IF(AB14=0,"Okay","Fehler") -> Okay | AB14: =P14-T14-V14-W14-X14-Y14-R14-U14-S14 -> 0 | AC14: =IF(AND(J14>=0.1,J14<=12),J14+24,IF(J14>=12,J14,0)) -> 0 | AD14: =IF(E14>6.99,"1","2") -> 2 | AE14: =IF(AC14<18.99,"1","2") -> 1 | AF14: =IF(AC14>22,"2","1") -> 1 | AG14: =AD14+AE14+AF14 -> 4 | AI14: =IF(D14="U",1," ") | AJ14: =IF(L14>0.5,1," ")
B15: Samstag | Q15: =IF(AND((J15-19)>2.99,(J15-E15)>3,J15>19),"JA","-") -> - | Z15: =IF(AB15=0,"Okay","Fehler") -> Okay | AB15: =P15-T15-V15-W15-X15-Y15-R15-U15-S15 -> 0 | AC15: =IF(AND(J15>=0.1,J15<=12),J15+24,IF(J15>=12,J15,0)) -> 0 | AD15: =IF(E15>6.99,"1","2") -> 2 | AE15: =IF(AC15<18.99,"1","2") -> 1 | AF15: =IF(AC15>22,"2","1") -> 1 | AG15: =AD15+AE15+AF15 -> 4 | AI15: =IF(D15="U",1," ") | AJ15: =IF(L15>0.5,1," ")
B16: Sonntag | C16: 46054 | E16: =Voreingabe!$C$14 -> 0 | F16: =Voreingabe!$E$14 -> 0 | G16: =Voreingabe!$F$14 -> 0 | H16: =Voreingabe!$G$14 -> 0 | I16: =Voreingabe!$H$14 -> 0 | J16: =Voreingabe!$D$14 -> 0 | K16: =(G16-F16)+(I16-H16) -> 0 | L16: =+IF((J16-E16-K16)>=0,(J16-E16-K16),(J16-(E16-24)-K16)) -> 0 | M16: =IF(L16>12,"§9 AZG! ","-") -> - | N16: =IF(L16>6,IF(K16<0.5,"Pause!","-"),"-") -> - | O16: =Voreingabe!$I$14 -> 0 | P16: =L16-O16 -> 0 | Q16: =IF(AND((J16-19)>2.99,(J16-E16)>3,J16>19),"JA","-") -> - | Z16: =IF(AB16=0,"Okay","Fehler") -> Okay | AB16: =P16-T16-V16-W16-X16-Y16-R16-U16-S16 -> 0 | AC16: =IF(AND(J16>=0.1,J16<=12),J16+24,IF(J16>=12,J16,0)) -> 0 | AD16: =IF(E16>6.99,"1","2") -> 2 | AE16: =IF(AC16<18.99,"1","2") -> 1 | AF16: =IF(AC16>22,"2","1") -> 1 | AG16: =AD16+AE16+AF16 -> 4 | AJ16: =IF(L16>0.5,1," ")
B17: Wochensumme 1 | L17: =SUM(L10:L16) -> 0 | M17: =IF(L17>60,"§9 AZG! ","-") -> - | O17: =SUM(O10:O16) -> 0 | P17: =L17-O17 -> 0 | R17: =SUM(R10:R16) -> 0 | S17: =SUM(S10:S16) -> 0 | T17: =SUM(T10:T16) -> 0 | U17: =SUM(U10:U16) -> 0 | V17: =SUM(V10:V16) -> 0 | W17: =SUM(W10:W16) -> 0 | X17: =SUM(X10:X16) -> 0 | Y17: =SUM(Y10:Y16) -> 0 | Z17: =SUM(T17:Y17) -> 0
B18: Montag | C18: =C16+1 -> 46055 | E18: =Voreingabe!$C$8 -> 9 | F18: =Voreingabe!$E$8 -> 12 | G18: =Voreingabe!$F$8 -> 12.5 | H18: =Voreingabe!$G$8 -> 0 | I18: =Voreingabe!$H$8 -> 0 | J18: =Voreingabe!$D$8 -> 18 | K18: =(G18-F18)+(I18-H18) -> 0.5 | L18: =+IF((J18-E18-K18)>=0,(J18-E18-K18),(J18-(E18-24)-K18)) -> 8.5 | M18: =IF(L18>12,"§9 AZG! ","-") -> - | N18: =IF(L18>6,IF(K18<0.5,"Pause!","-"),"-") -> - | O18: =Voreingabe!$I$8 -> 8.5 | P18: =L18-O18 -> 0 | Q18: =IF(AND((J18-19)>2.99,(J18-E18)>3,J18>19),"JA","-") -> - | Z18: =IF(AB18=0,"Okay","Fehler") -> Okay | AB18: =P18-T18-V18-W18-X18-Y18-R18-U18-S18 -> 0 | AC18: =IF(AND(J18>=0.1,J18<=12),J18+24,IF(J18>=12,J18,0)) -> 18 | AD18: =IF(E18>6.99,"1","2") -> 1 | AE18: =IF(AC18<18.99,"1","2") -> 1 | AF18: =IF(AC18>22,"2","1") -> 1 | AG18: =AD18+AE18+AF18 -> 3 | AI18: =IF(D18="U",1," ") | AJ18: =IF(L18>0.5,1," ") -> 1
B19: Dienstag | C19: =C18+1 -> 46056 | E19: =Voreingabe!$C$9 -> 9 | F19: =Voreingabe!$E$9 -> 12 | G19: =Voreingabe!$F$9 -> 12.5 | H19: =Voreingabe!$G$9 -> 0 | I19: =Voreingabe!$H$9 -> 0 | J19: =Voreingabe!$D$9 -> 18 | K19: =(G19-F19)+(I19-H19) -> 0.5 | L19: =+IF((J19-E19-K19)>=0,(J19-E19-K19),(J19-(E19-24)-K19)) -> 8.5 | M19: =IF(L19>12,"§9 AZG! ","-") -> - | N19: =IF(L19>6,IF(K19<0.5,"Pause!","-"),"-") -> - | O19: =Voreingabe!$I$9 -> 8.5 | P19: =L19-O19 -> 0 | Q19: =IF(AND((J19-19)>2.99,(J19-E19)>3,J19>19),"JA","-") -> - | Z19: =IF(AB19=0,"Okay","Fehler") -> Okay | AB19: =P19-T19-V19-W19-X19-Y19-R19-U19-S19 -> 0 | AC19: =IF(AND(J19>=0.1,J19<=12),J19+24,IF(J19>=12,J19,0)) -> 18 | AD19: =IF(E19>6.99,"1","2") -> 1 | AE19: =IF(AC19<18.99,"1","2") -> 1 | AF19: =IF(AC19>22,"2","1") -> 1 | AG19: =AD19+AE19+AF19 -> 3 | AI19: =IF(D19="U",1," ") | AJ19: =IF(L19>0.5,1," ") -> 1
B20: Mittwoch | C20: =C19+1 -> 46057 | E20: =Voreingabe!$C$10 -> 9 | F20: =Voreingabe!$E$10 -> 12 | G20: =Voreingabe!$F$10 -> 12.5 | H20: =Voreingabe!$G$10 -> 0 | I20: =Voreingabe!$H$10 -> 0 | J20: =Voreingabe!$D$10 -> 17 | K20: =(G20-F20)+(I20-H20) -> 0.5 | L20: =+IF((J20-E20-K20)>=0,(J20-E20-K20),(J20-(E20-24)-K20)) -> 7.5 | M20: =IF(L20>12,"§9 AZG! ","-") -> - | N20: =IF(L20>6,IF(K20<0.5,"Pause!","-"),"-") -> - | O20: =Voreingabe!$I$10 -> 7.5 | P20: =L20-O20 -> 0 | Q20: =IF(AND((J20-19)>2.99,(J20-E20)>3,J20>19),"JA","-") -> - | Z20: =IF(AB20=0,"Okay","Fehler") -> Okay | AB20: =P20-T20-V20-W20-X20-Y20-R20-U20-S20 -> 0 | AC20: =IF(AND(J20>=0.1,J20<=12),J20+24,IF(J20>=12,J20,0)) -> 17 | AD20: =IF(E20>6.99,"1","2") -> 1 | AE20: =IF(AC20<18.99,"1","2") -> 1 | AF20: =IF(AC20>22,"2","1") -> 1 | AG20: =AD20+AE20+AF20 -> 3 | AI20: =IF(D20="U",1," ") | AJ20: =IF(L20>0.5,1," ") -> 1
B21: Donnerstag | C21: =C20+1 -> 46058 | E21: =Voreingabe!$C$11 -> 9 | F21: =Voreingabe!$E$11 -> 12 | G21: =Voreingabe!$F$11 -> 12.5 | H21: =Voreingabe!$G$11 -> 0 | I21: =Voreingabe!$H$11 -> 0 | J21: =Voreingabe!$D$11 -> 17 | K21: =(G21-F21)+(I21-H21) -> 0.5 | L21: =+IF((J21-E21-K21)>=0,(J21-E21-K21),(J21-(E21-24)-K21)) -> 7.5 | M21: =IF(L21>12,"§9 AZG! ","-") -> - | N21: =IF(L21>6,IF(K21<0.5,"Pause!","-"),"-") -> - | O21: =Voreingabe!$I$11 -> 7.5 | P21: =L21-O21 -> 0 | Q21: =IF(AND((J21-19)>2.99,(J21-E21)>3,J21>19),"JA","-") -> - | Z21: =IF(AB21=0,"Okay","Fehler") -> Okay | AB21: =P21-T21-V21-W21-X21-Y21-R21-U21-S21 -> 0 | AC21: =IF(AND(J21>=0.1,J21<=12),J21+24,IF(J21>=12,J21,0)) -> 17 | AD21: =IF(E21>6.99,"1","2") -> 1 | AE21: =IF(AC21<18.99,"1","2") -> 1 | AF21: =IF(AC21>22,"2","1") -> 1 | AG21: =AD21+AE21+AF21 -> 3 | AI21: =IF(D21="U",1," ") | AJ21: =IF(L21>0.5,1," ") -> 1
B22: Freitag | C22: =C21+1 -> 46059 | E22: =Voreingabe!$C$12 -> 9 | F22: =Voreingabe!$E$12 -> 12 | G22: =Voreingabe!$F$12 -> 12.5 | H22: =Voreingabe!$G$12 -> 0 | I22: =Voreingabe!$H$12 -> 0 | J22: =Voreingabe!$D$12 -> 16 | K22: =(G22-F22)+(I22-H22) -> 0.5 | L22: =+IF((J22-E22-K22)>=0,(J22-E22-K22),(J22-(E22-24)-K22)) -> 6.5 | M22: =IF(L22>12,"§9 AZG! ","-") -> - | N22: =IF(L22>6,IF(K22<0.5,"Pause!","-"),"-") -> - | O22: =Voreingabe!$I$12 -> 6.5 | P22: =L22-O22 -> 0 | Q22: =IF(AND((J22-19)>2.99,(J22-E22)>3,J22>19),"JA","-") -> - | Z22: =IF(AB22=0,"Okay","Fehler") -> Okay | AB22: =P22-T22-V22-W22-X22-Y22-R22-U22-S22 -> 0 | AC22: =IF(AND(J22>=0.1,J22<=12),J22+24,IF(J22>=12,J22,0)) -> 16 | AD22: =IF(E22>6.99,"1","2") -> 1 | AE22: =IF(AC22<18.99,"1","2") -> 1 | AF22: =IF(AC22>22,"2","1") -> 1 | AG22: =AD22+AE22+AF22 -> 3 | AI22: =IF(D22="U",1," ") | AJ22: =IF(L22>0.5,1," ") -> 1
B23: Samstag | C23: =C22+1 -> 46060 | E23: =Voreingabe!$C$13 -> 0 | F23: =Voreingabe!$E$13 -> 0 | G23: =Voreingabe!$F$13 -> 0 | H23: =Voreingabe!$G$13 -> 0 | I23: =Voreingabe!$H$13 -> 0 | J23: =Voreingabe!$D$13 -> 0 | K23: =(G23-F23)+(I23-H23) -> 0 | L23: =+IF((J23-E23-K23)>=0,(J23-E23-K23),(J23-(E23-24)-K23)) -> 0 | M23: =IF(L23>12,"§9 AZG! ","-") -> - | N23: =IF(L23>6,IF(K23<0.5,"Pause!","-"),"-") -> - | O23: =Voreingabe!$I$13 -> 0 | P23: =L23-O23 -> 0 | Q23: =IF(AND((J23-19)>2.99,(J23-E23)>3,J23>19),"JA","-") -> - | Z23: =IF(AB23=0,"Okay","Fehler") -> Okay | AB23: =P23-T23-V23-W23-X23-Y23-R23-U23-S23 -> 0 | AC23: =IF(AND(J23>=0.1,J23<=12),J23+24,IF(J23>=12,J23,0)) -> 0 | AD23: =IF(E23>6.99,"1","2") -> 2 | AE23: =IF(AC23<18.99,"1","2") -> 1 | AF23: =IF(AC23>22,"2","1") -> 1 | AG23: =AD23+AE23+AF23 -> 4 | AI23: =IF(D23="U",1," ") | AJ23: =IF(L23>0.5,1," ")
B24: Sonntag | C24: =C23+1 -> 46061 | E24: =Voreingabe!$C$14 -> 0 | F24: =Voreingabe!$E$14 -> 0 | G24: =Voreingabe!$F$14 -> 0 | H24: =Voreingabe!$G$14 -> 0 | I24: =Voreingabe!$H$14 -> 0 | J24: =Voreingabe!$D$14 -> 0 | K24: =(G24-F24)+(I24-H24) -> 0 | L24: =+IF((J24-E24-K24)>=0,(J24-E24-K24),(J24-(E24-24)-K24)) -> 0 | M24: =IF(L24>12,"§9 AZG! ","-") -> - | N24: =IF(L24>6,IF(K24<0.5,"Pause!","-"),"-") -> - | O24: =Voreingabe!$I$14 -> 0 | P24: =L24-O24 -> 0 | Q24: =IF(AND((J24-19)>2.99,(J24-E24)>3,J24>19),"JA","-") -> - | Z24: =IF(AB24=0,"Okay","Fehler") -> Okay | AB24: =P24-T24-V24-W24-X24-Y24-R24-U24-S24 -> 0 | AC24: =IF(AND(J24>=0.1,J24<=12),J24+24,IF(J24>=12,J24,0)) -> 0 | AD24: =IF(E24>6.99,"1","2") -> 2 | AE24: =IF(AC24<18.99,"1","2") -> 1 | AF24: =IF(AC24>22,"2","1") -> 1 | AG24: =AD24+AE24+AF24 -> 4 | AJ24: =IF(L24>0.5,1," ")
B25: Wochensumme 2 | L25: =SUM(L18:L24) -> 38.5 | M25: =IF(L25>60,"§9 AZG! ","-") -> - | O25: =SUM(O18:O24) -> 38.5 | P25: =L25-O25 -> 0 | R25: =SUM(R18:R24) -> 0 | S25: =SUM(S18:S24) -> 0 | T25: =SUM(T18:T24) -> 0 | U25: =SUM(U18:U24) -> 0 | V25: =SUM(V18:V24) -> 0 | W25: =SUM(W18:W24) -> 0 | X25: =SUM(X18:X24) -> 0 | Y25: =SUM(Y18:Y24) -> 0 | Z25: =SUM(T25:Y25) -> 0
B26: Montag | C26: =C24+1 -> 46062 | E26: =Voreingabe!$C$8 -> 9 | F26: =Voreingabe!$E$8 -> 12 | G26: =Voreingabe!$F$8 -> 12.5 | H26: =Voreingabe!$G$8 -> 0 | I26: =Voreingabe!$H$8 -> 0 | J26: =Voreingabe!$D$8 -> 18 | K26: =(G26-F26)+(I26-H26) -> 0.5 | L26: =+IF((J26-E26-K26)>=0,(J26-E26-K26),(J26-(E26-24)-K26)) -> 8.5 | M26: =IF(L26>12,"§9 AZG! ","-") -> - | N26: =IF(L26>6,IF(K26<0.5,"Pause!","-"),"-") -> - | O26: =Voreingabe!$I$8 -> 8.5 | P26: =L26-O26 -> 0 | Q26: =IF(AND((J26-19)>2.99,(J26-E26)>3,J26>19),"JA","-") -> - | Z26: =IF(AB26=0,"Okay","Fehler") -> Okay | AB26: =P26-T26-V26-W26-X26-Y26-R26-U26-S26 -> 0 | AC26: =IF(AND(J26>=0.1,J26<=12),J26+24,IF(J26>=12,J26,0)) -> 18 | AD26: =IF(E26>6.99,"1","2") -> 1 | AE26: =IF(AC26<18.99,"1","2") -> 1 | AF26: =IF(AC26>22,"2","1") -> 1 | AG26: =AD26+AE26+AF26 -> 3 | AI26: =IF(D26="U",1," ") | AJ26: =IF(L26>0.5,1," ") -> 1
B27: Dienstag | C27: =C26+1 -> 46063 | E27: =Voreingabe!$C$9 -> 9 | F27: =Voreingabe!$E$9 -> 12 | G27: =Voreingabe!$F$9 -> 12.5 | H27: =Voreingabe!$G$9 -> 0 | I27: =Voreingabe!$H$9 -> 0 | J27: =Voreingabe!$D$9 -> 18 | K27: =(G27-F27)+(I27-H27) -> 0.5 | L27: =+IF((J27-E27-K27)>=0,(J27-E27-K27),(J27-(E27-24)-K27)) -> 8.5 | M27: =IF(L27>12,"§9 AZG! ","-") -> - | N27: =IF(L27>6,IF(K27<0.5,"Pause!","-"),"-") -> - | O27: =Voreingabe!$I$9 -> 8.5 | P27: =L27-O27 -> 0 | Q27: =IF(AND((J27-19)>2.99,(J27-E27)>3,J27>19),"JA","-") -> - | Z27: =IF(AB27=0,"Okay","Fehler") -> Okay | AB27: =P27-T27-V27-W27-X27-Y27-R27-U27-S27 -> 0 | AC27: =IF(AND(J27>=0.1,J27<=12),J27+24,IF(J27>=12,J27,0)) -> 18 | AD27: =IF(E27>6.99,"1","2") -> 1 | AE27: =IF(AC27<18.99,"1","2") -> 1 | AF27: =IF(AC27>22,"2","1") -> 1 | AG27: =AD27+AE27+AF27 -> 3 | AI27: =IF(D27="U",1," ") | AJ27: =IF(L27>0.5,1," ") -> 1
B28: Mittwoch | C28: =C27+1 -> 46064 | E28: =Voreingabe!$C$10 -> 9 | F28: =Voreingabe!$E$10 -> 12 | G28: =Voreingabe!$F$10 -> 12.5 | H28: =Voreingabe!$G$10 -> 0 | I28: =Voreingabe!$H$10 -> 0 | J28: =Voreingabe!$D$10 -> 17 | K28: =(G28-F28)+(I28-H28) -> 0.5 | L28: =+IF((J28-E28-K28)>=0,(J28-E28-K28),(J28-(E28-24)-K28)) -> 7.5 | M28: =IF(L28>12,"§9 AZG! ","-") -> - | N28: =IF(L28>6,IF(K28<0.5,"Pause!","-"),"-") -> - | O28: =Voreingabe!$I$10 -> 7.5 | P28: =L28-O28 -> 0 | Q28: =IF(AND((J28-19)>2.99,(J28-E28)>3,J28>19),"JA","-") -> - | Z28: =IF(AB28=0,"Okay","Fehler") -> Okay | AB28: =P28-T28-V28-W28-X28-Y28-R28-U28-S28 -> 0 | AC28: =IF(AND(J28>=0.1,J28<=12),J28+24,IF(J28>=12,J28,0)) -> 17 | AD28: =IF(E28>6.99,"1","2") -> 1 | AE28: =IF(AC28<18.99,"1","2") -> 1 | AF28: =IF(AC28>22,"2","1") -> 1 | AG28: =AD28+AE28+AF28 -> 3 | AI28: =IF(D28="U",1," ") | AJ28: =IF(L28>0.5,1," ") -> 1
B29: Donnerstag | C29: =C28+1 -> 46065 | E29: =Voreingabe!$C$11 -> 9 | F29: =Voreingabe!$E$11 -> 12 | G29: =Voreingabe!$F$11 -> 12.5 | H29: =Voreingabe!$G$11 -> 0 | I29: =Voreingabe!$H$11 -> 0 | J29: =Voreingabe!$D$11 -> 17 | K29: =(G29-F29)+(I29-H29) -> 0.5 | L29: =+IF((J29-E29-K29)>=0,(J29-E29-K29),(J29-(E29-24)-K29)) -> 7.5 | M29: =IF(L29>12,"§9 AZG! ","-") -> - | N29: =IF(L29>6,IF(K29<0.5,"Pause!","-"),"-") -> - | O29: =Voreingabe!$I$11 -> 7.5 | P29: =L29-O29 -> 0 | Q29: =IF(AND((J29-19)>2.99,(J29-E29)>3,J29>19),"JA","-") -> - | Z29: =IF(AB29=0,"Okay","Fehler") -> Okay | AB29: =P29-T29-V29-W29-X29-Y29-R29-U29-S29 -> 0 | AC29: =IF(AND(J29>=0.1,J29<=12),J29+24,IF(J29>=12,J29,0)) -> 17 | AD29: =IF(E29>6.99,"1","2") -> 1 | AE29: =IF(AC29<18.99,"1","2") -> 1 | AF29: =IF(AC29>22,"2","1") -> 1 | AG29: =AD29+AE29+AF29 -> 3 | AI29: =IF(D29="U",1," ") | AJ29: =IF(L29>0.5,1," ") -> 1
B30: Freitag | C30: =C29+1 -> 46066 | E30: =Voreingabe!$C$12 -> 9 | F30: =Voreingabe!$E$12 -> 12 | G30: =Voreingabe!$F$12 -> 12.5 | H30: =Voreingabe!$G$12 -> 0 | I30: =Voreingabe!$H$12 -> 0 | J30: =Voreingabe!$D$12 -> 16 | K30: =(G30-F30)+(I30-H30) -> 0.5 | L30: =+IF((J30-E30-K30)>=0,(J30-E30-K30),(J30-(E30-24)-K30)) -> 6.5 | M30: =IF(L30>12,"§9 AZG! ","-") -> - | N30: =IF(L30>6,IF(K30<0.5,"Pause!","-"),"-") -> - | O30: =Voreingabe!$I$12 -> 6.5 | P30: =L30-O30 -> 0 | Q30: =IF(AND((J30-19)>2.99,(J30-E30)>3,J30>19),"JA","-") -> - | Z30: =IF(AB30=0,"Okay","Fehler") -> Okay | AB30: =P30-T30-V30-W30-X30-Y30-R30-U30-S30 -> 0 | AC30: =IF(AND(J30>=0.1,J30<=12),J30+24,IF(J30>=12,J30,0)) -> 16 | AD30: =IF(E30>6.99,"1","2") -> 1 | AE30: =IF(AC30<18.99,"1","2") -> 1 | AF30: =IF(AC30>22,"2","1") -> 1 | AG30: =AD30+AE30+AF30 -> 3 | AI30: =IF(D30="U",1," ") | AJ30: =IF(L30>0.5,1," ") -> 1
B31: Samstag | C31: =C30+1 -> 46067 | E31: =Voreingabe!$C$13 -> 0 | F31: =Voreingabe!$E$13 -> 0 | G31: =Voreingabe!$F$13 -> 0 | H31: =Voreingabe!$G$13 -> 0 | I31: =Voreingabe!$H$13 -> 0 | J31: =Voreingabe!$D$13 -> 0 | K31: =(G31-F31)+(I31-H31) -> 0 | L31: =+IF((J31-E31-K31)>=0,(J31-E31-K31),(J31-(E31-24)-K31)) -> 0 | M31: =IF(L31>12,"§9 AZG! ","-") -> - | N31: =IF(L31>6,IF(K31<0.5,"Pause!","-"),"-") -> - | O31: =Voreingabe!$I$13 -> 0 | P31: =L31-O31 -> 0 | Q31: =IF(AND((J31-19)>2.99,(J31-E31)>3,J31>19),"JA","-") -> - | Z31: =IF(AB31=0,"Okay","Fehler") -> Okay | AB31: =P31-T31-V31-W31-X31-Y31-R31-U31-S31 -> 0 | AC31: =IF(AND(J31>=0.1,J31<=12),J31+24,IF(J31>=12,J31,0)) -> 0 | AD31: =IF(E31>6.99,"1","2") -> 2 | AE31: =IF(AC31<18.99,"1","2") -> 1 | AF31: =IF(AC31>22,"2","1") -> 1 | AG31: =AD31+AE31+AF31 -> 4 | AI31: =IF(D31="U",1," ") | AJ31: =IF(L31>0.5,1," ")
B32: Sonntag | C32: =C31+1 -> 46068 | E32: =Voreingabe!$C$14 -> 0 | F32: =Voreingabe!$E$14 -> 0 | G32: =Voreingabe!$F$14 -> 0 | H32: =Voreingabe!$G$14 -> 0 | I32: =Voreingabe!$H$14 -> 0 | J32: =Voreingabe!$D$14 -> 0 | K32: =(G32-F32)+(I32-H32) -> 0 | L32: =+IF((J32-E32-K32)>=0,(J32-E32-K32),(J32-(E32-24)-K32)) -> 0 | M32: =IF(L32>12,"§9 AZG! ","-") -> - | N32: =IF(L32>6,IF(K32<0.5,"Pause!","-"),"-") -> - | O32: =Voreingabe!$I$14 -> 0 | P32: =L32-O32 -> 0 | Q32: =IF(AND((J32-19)>2.99,(J32-E32)>3,J32>19),"JA","-") -> - | Z32: =IF(AB32=0,"Okay","Fehler") -> Okay | AB32: =P32-T32-V32-W32-X32-Y32-R32-U32-S32 -> 0 | AC32: =IF(AND(J32>=0.1,J32<=12),J32+24,IF(J32>=12,J32,0)) -> 0 | AD32: =IF(E32>6.99,"1","2") -> 2 | AE32: =IF(AC32<18.99,"1","2") -> 1 | AF32: =IF(AC32>22,"2","1") -> 1 | AG32: =AD32+AE32+AF32 -> 4 | AJ32: =IF(L32>0.5,1," ")
B33: Wochensumme 3 | L33: =SUM(L26:L32) -> 38.5 | M33: =IF(L33>60,"§9 AZG! ","-") -> - | O33: =SUM(O26:O32) -> 38.5 | P33: =L33-O33 -> 0 | R33: =SUM(R26:R32) -> 0 | S33: =SUM(S26:S32) -> 0 | T33: =SUM(T26:T32) -> 0 | U33: =SUM(U26:U32) -> 0 | V33: =SUM(V26:V32) -> 0 | W33: =SUM(W26:W32) -> 0 | X33: =SUM(X26:X32) -> 0 | Y33: =SUM(Y26:Y32) -> 0 | Z33: =SUM(T33:Y33) -> 0
B34: Montag | C34: =C32+1 -> 46069 | E34: =Voreingabe!$C$8 -> 9 | F34: =Voreingabe!$E$8 -> 12 | G34: =Voreingabe!$F$8 -> 12.5 | H34: =Voreingabe!$G$8 -> 0 | I34: =Voreingabe!$H$8 -> 0 | J34: =Voreingabe!$D$8 -> 18 | K34: =(G34-F34)+(I34-H34) -> 0.5 | L34: =+IF((J34-E34-K34)>=0,(J34-E34-K34),(J34-(E34-24)-K34)) -> 8.5 | M34: =IF(L34>12,"§9 AZG! ","-") -> - | N34: =IF(L34>6,IF(K34<0.5,"Pause!","-"),"-") -> - | O34: =Voreingabe!$I$8 -> 8.5 | P34: =L34-O34 -> 0 | Q34: =IF(AND((J34-19)>2.99,(J34-E34)>3,J34>19),"JA","-") -> - | Z34: =IF(AB34=0,"Okay","Fehler") -> Okay | AB34: =P34-T34-V34-W34-X34-Y34-R34-U34-S34 -> 0 | AC34: =IF(AND(J34>=0.1,J34<=12),J34+24,IF(J34>=12,J34,0)) -> 18 | AD34: =IF(E34>6.99,"1","2") -> 1 | AE34: =IF(AC34<18.99,"1","2") -> 1 | AF34: =IF(AC34>22,"2","1") -> 1 | AG34: =AD34+AE34+AF34 -> 3 | AI34: =IF(D34="U",1," ") | AJ34: =IF(L34>0.5,1," ") -> 1
B35: Dienstag | C35: =C34+1 -> 46070 | E35: =Voreingabe!$C$9 -> 9 | F35: =Voreingabe!$E$9 -> 12 | G35: =Voreingabe!$F$9 -> 12.5 | H35: =Voreingabe!$G$9 -> 0 | I35: =Voreingabe!$H$9 -> 0 | J35: =Voreingabe!$D$9 -> 18 | K35: =(G35-F35)+(I35-H35) -> 0.5 | L35: =+IF((J35-E35-K35)>=0,(J35-E35-K35),(J35-(E35-24)-K35)) -> 8.5 | M35: =IF(L35>12,"§9 AZG! ","-") -> - | N35: =IF(L35>6,IF(K35<0.5,"Pause!","-"),"-") -> - | O35: =Voreingabe!$I$9 -> 8.5 | P35: =L35-O35 -> 0 | Q35: =IF(AND((J35-19)>2.99,(J35-E35)>3,J35>19),"JA","-") -> - | Z35: =IF(AB35=0,"Okay","Fehler") -> Okay | AB35: =P35-T35-V35-W35-X35-Y35-R35-U35-S35 -> 0 | AC35: =IF(AND(J35>=0.1,J35<=12),J35+24,IF(J35>=12,J35,0)) -> 18 | AD35: =IF(E35>6.99,"1","2") -> 1 | AE35: =IF(AC35<18.99,"1","2") -> 1 | AF35: =IF(AC35>22,"2","1") -> 1 | AG35: =AD35+AE35+AF35 -> 3 | AI35: =IF(D35="U",1," ") | AJ35: =IF(L35>0.5,1," ") -> 1
B36: Mittwoch | C36: =C35+1 -> 46071 | E36: =Voreingabe!$C$10 -> 9 | F36: =Voreingabe!$E$10 -> 12 | G36: =Voreingabe!$F$10 -> 12.5 | H36: =Voreingabe!$G$10 -> 0 | I36: =Voreingabe!$H$10 -> 0 | J36: =Voreingabe!$D$10 -> 17 | K36: =(G36-F36)+(I36-H36) -> 0.5 | L36: =+IF((J36-E36-K36)>=0,(J36-E36-K36),(J36-(E36-24)-K36)) -> 7.5 | M36: =IF(L36>12,"§9 AZG! ","-") -> - | N36: =IF(L36>6,IF(K36<0.5,"Pause!","-"),"-") -> - | O36: =Voreingabe!$I$10 -> 7.5 | P36: =L36-O36 -> 0 | Q36: =IF(AND((J36-19)>2.99,(J36-E36)>3,J36>19),"JA","-") -> - | Z36: =IF(AB36=0,"Okay","Fehler") -> Okay | AB36: =P36-T36-V36-W36-X36-Y36-R36-U36-S36 -> 0 | AC36: =IF(AND(J36>=0.1,J36<=12),J36+24,IF(J36>=12,J36,0)) -> 17 | AD36: =IF(E36>6.99,"1","2") -> 1 | AE36: =IF(AC36<18.99,"1","2") -> 1 | AF36: =IF(AC36>22,"2","1") -> 1 | AG36: =AD36+AE36+AF36 -> 3 | AI36: =IF(D36="U",1," ") | AJ36: =IF(L36>0.5,1," ") -> 1
B37: Donnerstag | C37: =C36+1 -> 46072 | E37: =Voreingabe!$C$11 -> 9 | F37: =Voreingabe!$E$11 -> 12 | G37: =Voreingabe!$F$11 -> 12.5 | H37: =Voreingabe!$G$11 -> 0 | I37: =Voreingabe!$H$11 -> 0 | J37: =Voreingabe!$D$11 -> 17 | K37: =(G37-F37)+(I37-H37) -> 0.5 | L37: =+IF((J37-E37-K37)>=0,(J37-E37-K37),(J37-(E37-24)-K37)) -> 7.5 | M37: =IF(L37>12,"§9 AZG! ","-") -> - | N37: =IF(L37>6,IF(K37<0.5,"Pause!","-"),"-") -> - | O37: =Voreingabe!$I$11 -> 7.5 | P37: =L37-O37 -> 0 | Q37: =IF(AND((J37-19)>2.99,(J37-E37)>3,J37>19),"JA","-") -> - | Z37: =IF(AB37=0,"Okay","Fehler") -> Okay | AB37: =P37-T37-V37-W37-X37-Y37-R37-U37-S37 -> 0 | AC37: =IF(AND(J37>=0.1,J37<=12),J37+24,IF(J37>=12,J37,0)) -> 17 | AD37: =IF(E37>6.99,"1","2") -> 1 | AE37: =IF(AC37<18.99,"1","2") -> 1 | AF37: =IF(AC37>22,"2","1") -> 1 | AG37: =AD37+AE37+AF37 -> 3 | AI37: =IF(D37="U",1," ") | AJ37: =IF(L37>0.5,1," ") -> 1
B38: Freitag | C38: =C37+1 -> 46073 | E38: =Voreingabe!$C$12 -> 9 | F38: =Voreingabe!$E$12 -> 12 | G38: =Voreingabe!$F$12 -> 12.5 | H38: =Voreingabe!$G$12 -> 0 | I38: =Voreingabe!$H$12 -> 0 | J38: =Voreingabe!$D$12 -> 16 | K38: =(G38-F38)+(I38-H38) -> 0.5 | L38: =+IF((J38-E38-K38)>=0,(J38-E38-K38),(J38-(E38-24)-K38)) -> 6.5 | M38: =IF(L38>12,"§9 AZG! ","-") -> - | N38: =IF(L38>6,IF(K38<0.5,"Pause!","-"),"-") -> - | O38: =Voreingabe!$I$12 -> 6.5 | P38: =L38-O38 -> 0 | Q38: =IF(AND((J38-19)>2.99,(J38-E38)>3,J38>19),"JA","-") -> - | Z38: =IF(AB38=0,"Okay","Fehler") -> Okay | AB38: =P38-T38-V38-W38-X38-Y38-R38-U38-S38 -> 0 | AC38: =IF(AND(J38>=0.1,J38<=12),J38+24,IF(J38>=12,J38,0)) -> 16 | AD38: =IF(E38>6.99,"1","2") -> 1 | AE38: =IF(AC38<18.99,"1","2") -> 1 | AF38: =IF(AC38>22,"2","1") -> 1 | AG38: =AD38+AE38+AF38 -> 3 | AI38: =IF(D38="U",1," ") | AJ38: =IF(L38>0.5,1," ") -> 1
B39: Samstag | C39: =C38+1 -> 46074 | E39: =Voreingabe!$C$13 -> 0 | F39: =Voreingabe!$E$13 -> 0 | G39: =Voreingabe!$F$13 -> 0 | H39: =Voreingabe!$G$13 -> 0 | I39: =Voreingabe!$H$13 -> 0 | J39: =Voreingabe!$D$13 -> 0 | K39: =(G39-F39)+(I39-H39) -> 0 | L39: =+IF((J39-E39-K39)>=0,(J39-E39-K39),(J39-(E39-24)-K39)) -> 0 | M39: =IF(L39>12,"§9 AZG! ","-") -> - | N39: =IF(L39>6,IF(K39<0.5,"Pause!","-"),"-") -> - | O39: =Voreingabe!$I$13 -> 0 | P39: =L39-O39 -> 0 | Q39: =IF(AND((J39-19)>2.99,(J39-E39)>3,J39>19),"JA","-") -> - | Z39: =IF(AB39=0,"Okay","Fehler") -> Okay | AB39: =P39-T39-V39-W39-X39-Y39-R39-U39-S39 -> 0 | AC39: =IF(AND(J39>=0.1,J39<=12),J39+24,IF(J39>=12,J39,0)) -> 0 | AD39: =IF(E39>6.99,"1","2") -> 2 | AE39: =IF(AC39<18.99,"1","2") -> 1 | AF39: =IF(AC39>22,"2","1") -> 1 | AG39: =AD39+AE39+AF39 -> 4 | AI39: =IF(D39="U",1," ") | AJ39: =IF(L39>0.5,1," ")
B40: Sonntag | C40: =C39+1 -> 46075 | E40: =Voreingabe!$C$14 -> 0 | F40: =Voreingabe!$E$14 -> 0 | G40: =Voreingabe!$F$14 -> 0 | H40: =Voreingabe!$G$14 -> 0 | I40: =Voreingabe!$H$14 -> 0 | J40: =Voreingabe!$D$14 -> 0 | K40: =(G40-F40)+(I40-H40) -> 0 | L40: =+IF((J40-E40-K40)>=0,(J40-E40-K40),(J40-(E40-24)-K40)) -> 0 | M40: =IF(L40>12,"§9 AZG! ","-") -> - | N40: =IF(L40>6,IF(K40<0.5,"Pause!","-"),"-") -> - | O40: =Voreingabe!$I$14 -> 0 | P40: =L40-O40 -> 0 | Q40: =IF(AND((J40-19)>2.99,(J40-E40)>3,J40>19),"JA","-") -> - | Z40: =IF(AB40=0,"Okay","Fehler") -> Okay | AB40: =P40-T40-V40-W40-X40-Y40-R40-U40-S40 -> 0 | AC40: =IF(AND(J40>=0.1,J40<=12),J40+24,IF(J40>=12,J40,0)) -> 0 | AD40: =IF(E40>6.99,"1","2") -> 2 | AE40: =IF(AC40<18.99,"1","2") -> 1 | AF40: =IF(AC40>22,"2","1") -> 1 | AG40: =AD40+AE40+AF40 -> 4 | AJ40: =IF(L40>0.5,1," ")
B41: Wochensumme 4 | L41: =SUM(L34:L40) -> 38.5 | M41: =IF(L41>60,"§9 AZG! ","-") -> - | O41: =SUM(O34:O40) -> 38.5 | P41: =L41-O41 -> 0 | R41: =SUM(R34:R40) -> 0 | S41: =SUM(S34:S40) -> 0 | T41: =SUM(T34:T40) -> 0 | U41: =SUM(U34:U40) -> 0 | V41: =SUM(V34:V40) -> 0 | W41: =SUM(W34:W40) -> 0 | X41: =SUM(X34:X40) -> 0 | Y41: =SUM(Y34:Y40) -> 0 | Z41: =SUM(T41:Y41) -> 0
B42: Montag | C42: =C40+1 -> 46076 | E42: =Voreingabe!$C$8 -> 9 | F42: =Voreingabe!$E$8 -> 12 | G42: =Voreingabe!$F$8 -> 12.5 | H42: =Voreingabe!$G$8 -> 0 | I42: =Voreingabe!$H$8 -> 0 | J42: =Voreingabe!$D$8 -> 18 | K42: =(G42-F42)+(I42-H42) -> 0.5 | L42: =+IF((J42-E42-K42)>=0,(J42-E42-K42),(J42-(E42-24)-K42)) -> 8.5 | M42: =IF(L42>12,"§9 AZG! ","-") -> - | N42: =IF(L42>6,IF(K42<0.5,"Pause!","-"),"-") -> - | O42: =Voreingabe!$I$8 -> 8.5 | P42: =L42-O42 -> 0 | Q42: =IF(AND((J42-19)>2.99,(J42-E42)>3,J42>19),"JA","-") -> - | Z42: =IF(AB42=0,"Okay","Fehler") -> Okay | AB42: =P42-T42-V42-W42-X42-Y42-R42-U42-S42 -> 0 | AC42: =IF(AND(J42>=0.1,J42<=12),J42+24,IF(J42>=12,J42,0)) -> 18 | AD42: =IF(E42>6.99,"1","2") -> 1 | AE42: =IF(AC42<18.99,"1","2") -> 1 | AF42: =IF(AC42>22,"2","1") -> 1 | AG42: =AD42+AE42+AF42 -> 3 | AI42: =IF(D42="U",1," ") | AJ42: =IF(L42>0.5,1," ") -> 1
B43: Dienstag | C43: =C42+1 -> 46077 | E43: =Voreingabe!$C$9 -> 9 | F43: =Voreingabe!$E$9 -> 12 | G43: =Voreingabe!$F$9 -> 12.5 | H43: =Voreingabe!$G$9 -> 0 | I43: =Voreingabe!$H$9 -> 0 | J43: =Voreingabe!$D$9 -> 18 | K43: =(G43-F43)+(I43-H43) -> 0.5 | L43: =+IF((J43-E43-K43)>=0,(J43-E43-K43),(J43-(E43-24)-K43)) -> 8.5 | M43: =IF(L43>12,"§9 AZG! ","-") -> - | N43: =IF(L43>6,IF(K43<0.5,"Pause!","-"),"-") -> - | O43: =Voreingabe!$I$9 -> 8.5 | P43: =L43-O43 -> 0 | Q43: =IF(AND((J43-19)>2.99,(J43-E43)>3,J43>19),"JA","-") -> - | Z43: =IF(AB43=0,"Okay","Fehler") -> Okay | AB43: =P43-T43-V43-W43-X43-Y43-R43-U43-S43 -> 0 | AC43: =IF(AND(J43>=0.1,J43<=12),J43+24,IF(J43>=12,J43,0)) -> 18 | AD43: =IF(E43>6.99,"1","2") -> 1 | AE43: =IF(AC43<18.99,"1","2") -> 1 | AF43: =IF(AC43>22,"2","1") -> 1 | AG43: =AD43+AE43+AF43 -> 3 | AI43: =IF(D43="U",1," ") | AJ43: =IF(L43>0.5,1," ") -> 1
